BEGIN:VCALENDAR
VERSION:2.0
PRODID:-//37° degrés - ECPv6.15.20//NONSGML v1.0//EN
CALSCALE:GREGORIAN
METHOD:PUBLISH
X-WR-CALNAME:37° degrés
X-ORIGINAL-URL:https://www.37degres-mag.fr
X-WR-CALDESC:Évènements pour 37° degrés
REFRESH-INTERVAL;VALUE=DURATION:PT1H
X-Robots-Tag:noindex
X-PUBLISHED-TTL:PT1H
BEGIN:VTIMEZONE
TZID:Europe/Paris
BEGIN:DAYLIGHT
TZOFFSETFROM:+0100
TZOFFSETTO:+0200
TZNAME:CEST
DTSTART:20230326T010000
END:DAYLIGHT
BEGIN:STANDARD
TZOFFSETFROM:+0200
TZOFFSETTO:+0100
TZNAME:CET
DTSTART:20231029T010000
END:STANDARD
BEGIN:DAYLIGHT
TZOFFSETFROM:+0100
TZOFFSETTO:+0200
TZNAME:CEST
DTSTART:20240331T010000
END:DAYLIGHT
BEGIN:STANDARD
TZOFFSETFROM:+0200
TZOFFSETTO:+0100
TZNAME:CET
DTSTART:20241027T010000
END:STANDARD
BEGIN:DAYLIGHT
TZOFFSETFROM:+0100
TZOFFSETTO:+0200
TZNAME:CEST
DTSTART:20250330T010000
END:DAYLIGHT
BEGIN:STANDARD
TZOFFSETFROM:+0200
TZOFFSETTO:+0100
TZNAME:CET
DTSTART:20251026T010000
END:STANDARD
BEGIN:DAYLIGHT
TZOFFSETFROM:+0100
TZOFFSETTO:+0200
TZNAME:CEST
DTSTART:20260329T010000
END:DAYLIGHT
BEGIN:STANDARD
TZOFFSETFROM:+0200
TZOFFSETTO:+0100
TZNAME:CET
DTSTART:20261025T010000
END:STANDARD
BEGIN:DAYLIGHT
TZOFFSETFROM:+0100
TZOFFSETTO:+0200
TZNAME:CEST
DTSTART:20270328T010000
END:DAYLIGHT
BEGIN:STANDARD
TZOFFSETFROM:+0200
TZOFFSETTO:+0100
TZNAME:CET
DTSTART:20271031T010000
END:STANDARD
END:VTIMEZONE
BEGIN:VEVENT
DTSTART;TZID=Europe/Paris:20260324T203000
DTEND;TZID=Europe/Paris:20260324T220000
DTSTAMP:20260420T023206
CREATED:20260305T210024Z
LAST-MODIFIED:20260305T210024Z
UID:10004168-1774384200-1774389600@www.37degres-mag.fr
SUMMARY:Théâtre : Femme NON-REEDUCABLE
DESCRIPTION:à			\n			\n							 \n\nDans le cadre du festival Bruissements d’elles. A partir de 14ans Unique journaliste russe à avoir couvert la guerre menée par la Russie en Tchétchénie\, et malgré les intimidations\, Anna Politkovskaïa gardera intacte sa détermination à enquêter sur cette « sale guerre ». Le 7 octobre 2006\, Anna Politkovskaïa est assassinée chez elle\, à Moscou\, dans le hall de son immeuble.Les écrits de la journaliste nous rappellent que l’invasion de la Russie en Ukraine n’est que la prolongation d’une même démarche.Ecrit il y a plus de quinze ans\, ce Mémorandum théâtral disait déjà tout.En s’emparant de la figure d’Anna Politkovskaïa\, la Cie des Uns des Autres s’attache à être les passeurs de sa parole\, de ses pensées et de son engagement inaltérable en faveur de la vérité et de la liberté. Car Anna Politkovskaïa a existé. \nhttps://billetterie.saint-cyr-sur-loire.com/#counter/events/247-ZZAJ \n\n				à partir de 5€ à 15 €\n	\n\n\nVILLE DE SAINT CYR SUR LOIRE\n \n02 47 42 80 25 \nVoir le site Organisateur \n \n\n\n\n\n\n\n\n\n						\n							Ajouter au calendrier						 \n\n\n\n									\n										Google Agenda									\n								\n\n									\n										iCalendar									\n								\n\n									\n										Outlook 365									\n								\n\n									\n										Outlook Live
URL:https://www.37degres-mag.fr/event/theatre-femme-non-reeducable/
LOCATION:L’Escale\, All. René Coulon\, Saint-Cyr-sur-Loire\, 37540
ATTACH;FMTTYPE=image/jpeg:https://www.37degres-mag.fr/wp-content/uploads/2026/03/FEMME_NON_REEDUCABLE_2026_30x42-2-NnbbPG.jpg
END:VEVENT
BEGIN:VEVENT
DTSTART;TZID=Europe/Paris:20260210T203000
DTEND;TZID=Europe/Paris:20260210T223000
DTSTAMP:20260420T023206
CREATED:20260122T193010Z
LAST-MODIFIED:20260122T193010Z
UID:10004149-1770755400-1770762600@www.37degres-mag.fr
SUMMARY:ZZAJ\, la fabuleuse histoire du Jazz
DESCRIPTION:à			\n			\n							 \n\n« ZZAJ\, la fabuleuse histoire du Jazz »A partir de 8 ansUn spectacle de théâtre musical qui célèbre l’échec à travers un voyage burlesque dansl’histoire du jazz … Avec trompette\, batterie\, guitare\, chant.. et loopings!Dans un studio de radio désuet et décrépi des années 60\, deux animateurs présententune émission musicale : « Voyage au pays du … ».Ce jour-là\, c’est le Jazz qui est à l’honneur. Mais leur patron leur réserve une mauvaisesurprise : le public est présent pour le tournage\, et décidera de la poursuite de l’émissionou non.Les deux passionnés vont tenter coûte que coûte de sauver cette émission qui est touteleur vie. De maladresses en courts-circuits ils nous racontent le jazz\, du blues au funk\, enpassant par le be-bop. \n \n\n		\n\n\nVILLE DE SAINT CYR SUR LOIRE\n \n02 47 42 80 25 \nVoir le site Organisateur \n \n\n\n\n\n\n\n\n\n						\n							Ajouter au calendrier						 \n\n\n\n									\n										Google Agenda									\n								\n\n									\n										iCalendar									\n								\n\n									\n										Outlook 365									\n								\n\n									\n										Outlook Live
URL:https://www.37degres-mag.fr/event/zzaj-la-fabuleuse-histoire-du-jazz/
LOCATION:All. René Coulon\, 37540 Saint-Cyr-sur-Loire\, L'escale All. René Coulon\, Saint-Cyr-sur-Loire\, 37540
ATTACH;FMTTYPE=image/png:https://www.37degres-mag.fr/wp-content/uploads/2026/01/Capture-decran-2026-01-22-a-09.37.25-mzrZH4.png
END:VEVENT
BEGIN:VEVENT
DTSTART;TZID=Europe/Paris:20250705T123000
DTEND;TZID=Europe/Paris:20250705T220000
DTSTAMP:20260420T023206
CREATED:20250614T033028Z
LAST-MODIFIED:20250614T033028Z
UID:10004046-1751718600-1751752800@www.37degres-mag.fr
SUMMARY:Quartiers d’été
DESCRIPTION:à			\n			\n							 \n\n\nMusique\, théâtre de rue\, danse et cirque rythmeront cette nouvelle édition du festivalQuartiers d’été à la programmation familiale. Rendez-vous le samedi 5 juillet au parc de laTour. 12h30 : Swamp city six (concert swing Nouvelle-Orléans)13h45 & 18h30 : Champagne – Le gentleman jongleur (jonglerie)14h45 : Championnes – Oups Dance Company (danse)15h30 : La vache qui rock – Compagnie Colbok (concert jeune public)17h : À l’épreuve des pavés – Compagnie Fatras (concert-spectacle)19h15 : Scratchophone Orchestra (concert électro-swing)21h30 : Antoine Garrel (Live DJ-Percussions)Buvette et petite restauration sur placeAnimations proposées par la bibliothèque municipale George Sand\, les Brico Joueurs(maison des jeux de Touraine)\, la Maison du Jongleur et le Théâtre de la Tête Noire.Quartiers d’été a été pensé pour tous les publics !  \n \n\n		\n\n\nVILLE DE SAINT CYR SUR LOIRE\n \n02 47 42 80 25 \nVoir le site Organisateur \n \n\n\n\n\n\n\n\n\n						\n							Ajouter au calendrier						 \n\n\n\n									\n										Google Agenda									\n								\n\n									\n										iCalendar									\n								\n\n									\n										Outlook 365									\n								\n\n									\n										Outlook Live
URL:https://www.37degres-mag.fr/event/quartiers-dete/
LOCATION:Parc de la Tour 24/26 rue Victor Hugo à Saint-Cyr-sur-Loire\, Parc de la Tour 24/26 rue Victor Hugo\, Saint-Cyr-sur-Loire
ATTACH;FMTTYPE=image/jpeg:https://www.37degres-mag.fr/wp-content/uploads/2025/06/Capture-decran-2025-06-13-a-16.00.19-scaled-5LNHU8.jpg
END:VEVENT
BEGIN:VEVENT
DTSTART;TZID=Europe/Paris:20250622T100000
DTEND;TZID=Europe/Paris:20250622T190000
DTSTAMP:20260420T023206
CREATED:20250617T203017Z
LAST-MODIFIED:20250617T203017Z
UID:10004049-1750586400-1750618800@www.37degres-mag.fr
SUMMARY:Marionnettes en Balade
DESCRIPTION:à			\n			\n							 \n\n\nLe dimanche 22 juin\, de 10h à 19h\, le parc de la Tour à Saint-Cyr-sur-Loire devient unthéâtre de verdure pour « Marionnettes en balade » ! Une journée poétique et décaléedédiée à l’art de la marionnette et du théâtre d’objets. Au programme : spectacles pourtous les âges\, déambulations festives\, ateliers créatifs\, lectures contées en transat près dubar à sirop\, et même… des surprises dans des boîtes à pizza ! Un rendez-vous familial\,convivial et plein de fantaisie\, à vivre au rythme des histoires et des rencontres.Restauration sur place\, ou pique-nique libre dans le parc.Gratuit pour les enfants\, 5 € pour les adultes.Parc de la Tour – Saint-Cyr-sur-LoireInfos & billetterie : billetterie.saint-cyr-sur-loire.com \n\n		\n\n\nVILLE DE SAINT CYR SUR LOIRE\n \n02 47 42 80 25 \nVoir le site Organisateur \n \n\n\n\n\n\n\n\n\n						\n							Ajouter au calendrier						 \n\n\n\n									\n										Google Agenda									\n								\n\n									\n										iCalendar									\n								\n\n									\n										Outlook 365									\n								\n\n									\n										Outlook Live
URL:https://www.37degres-mag.fr/event/marionnettes-en-balade-3/
LOCATION:24-26 rue victor hugo saint cyr sur loire\, 24-26 rue victor hugo\, saint cyr sur loire\, 37540
ATTACH;FMTTYPE=image/jpeg:https://www.37degres-mag.fr/wp-content/uploads/2025/06/STORY-INSTA_MARIONNETTES_BALADE_2025_1080x1920px-uKl8j3.jpg
END:VEVENT
BEGIN:VEVENT
DTSTART;TZID=Europe/Paris:20250622T100000
DTEND;TZID=Europe/Paris:20250622T190000
DTSTAMP:20260420T023206
CREATED:20250606T033016Z
LAST-MODIFIED:20250616T113536Z
UID:10004044-1750586400-1750618800@www.37degres-mag.fr
SUMMARY:Marionnettes en Balade
DESCRIPTION:à			\n			\n							\n		\n			\n\n\n\n\nLe dimanche 22 juin\, de 10h à 19h\, le parc de la Tour à Saint-Cyr-sur-Loire devient unthéâtre de verdure pour « Marionnettes en balade » ! Une journée poétique et décaléedédiée à l’art de la marionnette et du théâtre d’objets. Au programme : spectacles pourtous les âges\, déambulations festives\, ateliers créatifs\, lectures contées en transat près dubar à sirop\, et même… des surprises dans des boîtes à pizza ! Un rendez-vous familial\,convivial et plein de fantaisie\, à vivre au rythme des histoires et des rencontres.Restauration sur place\, ou pique-nique libre dans le parc.Gratuit pour les enfants\, 5 € pour les adultes.Parc de la Tour – Saint-Cyr-sur-LoireInfos & billetterie : billetterie.saint-cyr-sur-loire.com \n\n\n\nhttps://billetterie.saint-cyr-sur-loire.com \n\n\n\n				pour adultes et gratuit pour enfants\n	\n\n\n\n	\n		VILLE DE SAINT CYR SUR LOIRE\n	\n			02 47 42 80 25 \n				Voir le site Organisateur \n		\n\n\n\n	\n		\n\n	\n\n\n\n\n	\n\n\n\n\n	\n		\n			\n				\n					\n						\n  \n  \n\n						\n							Ajouter au calendrier						\n						\n					\n					\n						\n															\n									\n										Google Agenda									\n								\n															\n									\n										iCalendar									\n								\n															\n									\n										Outlook 365									\n								\n															\n									\n										Outlook Live
URL:https://www.37degres-mag.fr/event/marionnettes-en-balade-2/
LOCATION:All. René Coulon\, 37540 Saint-Cyr-sur-Loire\, L'escale All. René Coulon\, Saint-Cyr-sur-Loire\, 37540
ATTACH;FMTTYPE=image/jpeg:https://www.37degres-mag.fr/wp-content/uploads/2025/06/STORY-INSTA_MARIONNETTES_BALADE_2025_1080x1920px-uKl8j3.jpg
END:VEVENT
BEGIN:VEVENT
DTSTART;TZID=Europe/Paris:20241206T203000
DTEND;TZID=Europe/Paris:20241206T230000
DTSTAMP:20260420T023206
CREATED:20241112T141547Z
LAST-MODIFIED:20241112T141547Z
UID:10003925-1733517000-1733526000@www.37degres-mag.fr
SUMMARY:Chansons plus Biffluorées – Au revoir et Merci
DESCRIPTION:@ 			\n			\n							 \n\n\n« On ne présente plus Chanson plus Bifluorée qui a remporté de nombreux succès partoutoù il s’est produit. Le trio constitué en 1985 par Michel Puyau (chant\, guitare\, ukulélé\, harmonica)Sylvain Richardot (chant\, piano\, guitare\, dulcimer) et Xavier Cherrier (chant\, guitare)\, vient sur lascène de l’Escale nous présenter son dernier et ultime spectacle “Au revoir et Merci !” \n \n\n		\n\n\nVILLE DE SAINT CYR SUR LOIRE\n \n02 47 42 80 25 \nVoir le site Organisateur \n \n\n\n\n\n\n\n\n\n						\n							Ajouter au calendrier						 \n\n\n\n									\n										Google Agenda									\n								\n\n									\n										iCalendar									\n								\n\n									\n										Outlook 365									\n								\n\n									\n										Outlook Live
URL:https://www.37degres-mag.fr/event/chansons-plus-biffluorees-au-revoir-et-merci/
LOCATION:All. René Coulon\, 37540 Saint-Cyr-sur-Loire\, L'escale All. René Coulon\, Saint-Cyr-sur-Loire\, 37540
ATTACH;FMTTYPE=image/jpeg:https://www.37degres-mag.fr/wp-content/uploads/2024/11/Affiche-tournee-Chanson-Plus-scaled-1-6svbCE.tmp_.jpg
END:VEVENT
BEGIN:VEVENT
DTSTART;TZID=Europe/Paris:20241119T190000
DTEND;TZID=Europe/Paris:20241119T233000
DTSTAMP:20260420T023206
CREATED:20241107T151514Z
LAST-MODIFIED:20241107T151514Z
UID:10003923-1732042800-1732059000@www.37degres-mag.fr
SUMMARY:Fantômes
DESCRIPTION:@ 			\n			\n							 \n\n\nCinéma ? Concert ? ce soir pas besoin de choisir\, vous avez rendez pour une ciné concertautour de cinq courts métrage d’animation autour du thème des FantOmes.Sur scène\, des musiciens d’exception jouent en direct pour donner vie\, voix et musique auxhéros des écrans. Octave\, un fantôme en 2D\, anime l’espace et vient interagir avec le public.Un spectacle unique qui combine habilement la projection de films et des performances musicales en direct pour une expérience immersive. Les histoires de fantômes\, abordées avecavec humour et tendresse\, captivent et divertissent sans effrayer la famille au complet.Tout public à partir de 3 ans \nhttps://billetterie.saint-cyr-sur-loire.com \n\n		\n\n\nVILLE DE SAINT CYR SUR LOIRE\n \n02 47 42 80 25 \nVoir le site Organisateur \n \n\n\n\n\n\n\n\n\n						\n							Ajouter au calendrier						 \n\n\n\n									\n										Google Agenda									\n								\n\n									\n										iCalendar									\n								\n\n									\n										Outlook 365									\n								\n\n									\n										Outlook Live
URL:https://www.37degres-mag.fr/event/fantomes/
LOCATION:All. René Coulon\, 37540 Saint-Cyr-sur-Loire\, L'escale All. René Coulon\, Saint-Cyr-sur-Loire\, 37540
ATTACH;FMTTYPE=image/jpeg:https://www.37degres-mag.fr/wp-content/uploads/2024/11/FANTOMES_2024_30x42-BD-HsZkIB.tmp_.jpg
END:VEVENT
BEGIN:VEVENT
DTSTART;TZID=Europe/Paris:20241114T203000
DTEND;TZID=Europe/Paris:20241114T233000
DTSTAMP:20260420T023206
CREATED:20241107T151512Z
LAST-MODIFIED:20241107T151512Z
UID:10003922-1731616200-1731627000@www.37degres-mag.fr
SUMMARY:Contre-Temps (Comédie Musicale)
DESCRIPTION:@ 			\n			\n							 \n\n\nSix nominations aux trophées de la comédie musicaleComment un chef d’orchestre français d’opérette s’est-il retrouvé à New York\, rêvant decomposer pour Broadway ?C’est l’histoire sensationnelle de François Courdot\, artiste incontournable à l’œuvre singulièreet à la vie fantasque\, pourtant largement méconnu.Contre-temps » est un biopic musical sur cet artiste français en Amérique\, une plongéeeuphorique et richement illustrée dans l’histoire de l’opérette et de la comédie musicaleau 20e siècle (Offenbach\, Franz Lehar\, Cole Porter\, Duke Ellington ou encore Leonard Bernstein..)Une pièce joyeusement menée par l’équipe créative de Comédiens ! et interprétée par le Trio Opaline. \n \n\n				7€ à 24€ (abonnement possible)\n	\n\n\nVILLE DE SAINT CYR SUR LOIRE\n \n02 47 42 80 25 \nVoir le site Organisateur \n \n\n\n\n\n\n\n\n\n						\n							Ajouter au calendrier						 \n\n\n\n									\n										Google Agenda									\n								\n\n									\n										iCalendar									\n								\n\n									\n										Outlook 365									\n								\n\n									\n										Outlook Live
URL:https://www.37degres-mag.fr/event/contre-temps-comedie-musicale/
LOCATION:All. René Coulon\, 37540 Saint-Cyr-sur-Loire\, L'escale All. René Coulon\, Saint-Cyr-sur-Loire\, 37540
ATTACH;FMTTYPE=image/jpeg:https://www.37degres-mag.fr/wp-content/uploads/2024/11/contre-temps-51-40-Paul-Evrard-scaled-a0RZqo.tmp_.jpg
END:VEVENT
BEGIN:VEVENT
DTSTART;TZID=Europe/Paris:20241010T203000
DTEND;TZID=Europe/Paris:20241010T220000
DTSTAMP:20260420T023206
CREATED:20240905T074514Z
LAST-MODIFIED:20240905T074514Z
UID:10003898-1728592200-1728597600@www.37degres-mag.fr
SUMMARY:Le champ de bataille – Comédie
DESCRIPTION:@ 			\n			\n							 \n\n\nThéâtre de poche – avec Denis LaujolUne vraie thérapie familialeSpectacle nommé aux Prix Maeterlinck de la Critique 2020 dans la catégorie « Meilleur seul enscène ».« L’ennui avec les enfants\, c’est qu’ils grandissent. C’est qu’un beau matin\, sans prévenir\, ils mettent des trainings\, répondent par onomatopées et écoutent de la mauvaise musique (…) ».La quarantaine galopante\, voilà ce que se dit ce père\, enfermé dans les toilettes\, ultime forteresseinviolable\, où il consulte des dépliants de voyage\, sa manière d’échapper pour de bon à lapesanteur du quotidien\, avec d’un côté un fils aîné en pleine adolescence\, de l’autre son coupleen crise. Un spectacle sur l’amour familial qui questionne l’école et la famille\, mais jamais dénuéd’espérance car porté par une plume gorgée d’humour\, de tendresse et de dérision. \n5€ à 18€ (abonnement possible) \n\n\nhttps://escale.saint-cyr-sur-loire.com\n\n\n\n		\n\n\nVILLE DE SAINT CYR SUR LOIRE\n \n02 47 42 80 25 \nVoir le site Organisateur \n \n\n\n\n\n\n\n\n\n						\n							Ajouter au calendrier						 \n\n\n\n									\n										Google Agenda									\n								\n\n									\n										iCalendar									\n								\n\n									\n										Outlook 365									\n								\n\n									\n										Outlook Live
URL:https://www.37degres-mag.fr/event/le-champ-de-bataille-comedie/
LOCATION:All. René Coulon\, 37540 Saint-Cyr-sur-Loire\, L'escale All. René Coulon\, Saint-Cyr-sur-Loire\, 37540
ATTACH;FMTTYPE=image/jpeg:https://www.37degres-mag.fr/wp-content/uploads/2024/09/champdebataille@Debby-Termonia-scaled-AYfFjb.tmp_.jpg
END:VEVENT
BEGIN:VEVENT
DTSTART;TZID=Europe/Paris:20240623T100000
DTEND;TZID=Europe/Paris:20240623T190000
DTSTAMP:20260420T023206
CREATED:20240611T110029Z
LAST-MODIFIED:20240611T110029Z
UID:10003873-1719136800-1719169200@www.37degres-mag.fr
SUMMARY:MARIONNETTES EN BALADE
DESCRIPTION:@ 			\n			\n							 \n\n\nMarionnettes en balade – Dimanche 23 juin Marionnettes et théâtre d’objetsVous avez rendez-vous au parc de la Tour pour une parenthèse enchantée autour de la marionnette et du théâtre d’objets.Les marionnettes en balade\, c’est :9 spectacles pour 25 représentations \n\n3 ateliers de manipulation et de fabrication de marionnettes\ndes espaces de jeu\,\ndes installations ludiques et créatives. Marionnettes à fils ou portées\, marionnettes géantes ou sur table\, manipulation\, illusion…des compagnies\, de tous les horizons\, pour tous les âges\, réunies pour un programmed’exception.Profitez de la possibilité de pique-niquer sur place pour prolonger le plaisir sans contraintes.10h-19hRestauration rapide sur place\n\n\n		\n\n\nVILLE DE SAINT CYR SUR LOIRE\n \n02 47 42 80 25 \nVoir le site Organisateur \n \n\n\n\n\n\n\n\n\n						\n							Ajouter au calendrier						 \n\n\n\n									\n										Google Agenda									\n								\n\n									\n										iCalendar									\n								\n\n									\n										Outlook 365									\n								\n\n									\n										Outlook Live
URL:https://www.37degres-mag.fr/event/marionnettes-en-balade/
LOCATION:Parc de la Tour – 24/26 rue Victor Hugo 37540 Saint-Cyr-sur-Loire\, Parc de la Tour - 24/26 rue Victor Hugo 37540 Saint-Cyr-sur-Loire
ATTACH;FMTTYPE=image/jpeg:https://www.37degres-mag.fr/wp-content/uploads/2024/06/AFFICHE-VF-LhNAlp.tmp_.jpg
END:VEVENT
END:VCALENDAR