BEGIN:VCALENDAR
VERSION:2.0
PRODID:-//37° degrés - ECPv6.15.20//NONSGML v1.0//EN
CALSCALE:GREGORIAN
METHOD:PUBLISH
X-ORIGINAL-URL:https://www.37degres-mag.fr
X-WR-CALDESC:Évènements pour 37° degrés
REFRESH-INTERVAL;VALUE=DURATION:PT1H
X-Robots-Tag:noindex
X-PUBLISHED-TTL:PT1H
BEGIN:VTIMEZONE
TZID:Europe/Paris
BEGIN:DAYLIGHT
TZOFFSETFROM:+0100
TZOFFSETTO:+0200
TZNAME:CEST
DTSTART:20250330T010000
END:DAYLIGHT
BEGIN:STANDARD
TZOFFSETFROM:+0200
TZOFFSETTO:+0100
TZNAME:CET
DTSTART:20251026T010000
END:STANDARD
BEGIN:DAYLIGHT
TZOFFSETFROM:+0100
TZOFFSETTO:+0200
TZNAME:CEST
DTSTART:20260329T010000
END:DAYLIGHT
BEGIN:STANDARD
TZOFFSETFROM:+0200
TZOFFSETTO:+0100
TZNAME:CET
DTSTART:20261025T010000
END:STANDARD
BEGIN:DAYLIGHT
TZOFFSETFROM:+0100
TZOFFSETTO:+0200
TZNAME:CEST
DTSTART:20270328T010000
END:DAYLIGHT
BEGIN:STANDARD
TZOFFSETFROM:+0200
TZOFFSETTO:+0100
TZNAME:CET
DTSTART:20271031T010000
END:STANDARD
END:VTIMEZONE
BEGIN:VEVENT
DTSTART;TZID=Europe/Paris:20260523T200000
DTEND;TZID=Europe/Paris:20260523T220000
DTSTAMP:20260419T163017
CREATED:20251030T092347Z
LAST-MODIFIED:20251030T092356Z
UID:10004101-1779566400-1779573600@www.37degres-mag.fr
SUMMARY:Course d'orientation nocturne Soleil d'Ethiopie
DESCRIPTION:4 eme edition de notre course d’orientation nocturne solidaire Soleil d’Ethiopie.\n\nQue vous soyez affute ou en famille\, n’ hésitez pas. On s’amuse bien.\n\nEt en plus\, vous financer la scolarisation d’un enfant en ethiopie.\n\nwww.coursesoleilethiopie.com
URL:https://www.37degres-mag.fr/event/course-dorientation-nocturne-soleil-dethiopie/
LOCATION:nouzilly\, Nouzilly\, France
ATTACH;FMTTYPE=image/jpeg:https://www.37degres-mag.fr/wp-content/uploads/2025/10/IMG_20251027_182755.jpg
END:VEVENT
END:VCALENDAR