BEGIN:VCALENDAR
VERSION:2.0
PRODID:-//37° degrés - ECPv6.15.20//NONSGML v1.0//EN
CALSCALE:GREGORIAN
METHOD:PUBLISH
X-WR-CALNAME:37° degrés
X-ORIGINAL-URL:https://www.37degres-mag.fr
X-WR-CALDESC:Évènements pour 37° degrés
REFRESH-INTERVAL;VALUE=DURATION:PT1H
X-Robots-Tag:noindex
X-PUBLISHED-TTL:PT1H
BEGIN:VTIMEZONE
TZID:Europe/Paris
BEGIN:DAYLIGHT
TZOFFSETFROM:+0100
TZOFFSETTO:+0200
TZNAME:CEST
DTSTART:20250330T010000
END:DAYLIGHT
BEGIN:STANDARD
TZOFFSETFROM:+0200
TZOFFSETTO:+0100
TZNAME:CET
DTSTART:20251026T010000
END:STANDARD
BEGIN:DAYLIGHT
TZOFFSETFROM:+0100
TZOFFSETTO:+0200
TZNAME:CEST
DTSTART:20260329T010000
END:DAYLIGHT
BEGIN:STANDARD
TZOFFSETFROM:+0200
TZOFFSETTO:+0100
TZNAME:CET
DTSTART:20261025T010000
END:STANDARD
BEGIN:DAYLIGHT
TZOFFSETFROM:+0100
TZOFFSETTO:+0200
TZNAME:CEST
DTSTART:20270328T010000
END:DAYLIGHT
BEGIN:STANDARD
TZOFFSETFROM:+0200
TZOFFSETTO:+0100
TZNAME:CET
DTSTART:20271031T010000
END:STANDARD
END:VTIMEZONE
BEGIN:VEVENT
DTSTART;TZID=Europe/Paris:20260508T100000
DTEND;TZID=Europe/Paris:20260510T180000
DTSTAMP:20260422T230757
CREATED:20260421T130023Z
LAST-MODIFIED:20260422T130245Z
UID:10004193-1778234400-1778436000@www.37degres-mag.fr
SUMMARY:Le Printemps des Plants à la Ferme (Portes ouvertes – plants à prix producteurs)
DESCRIPTION:à			\n			\n							\n		\n			 \n\n\n\n\nNous avons le plaisir de vous accueillir pour nos portes ouvertes du 8 au 10 mai\, de 10h à 18h\, au 33 rue de la Pardonnerie à Larçay. Un moment idéal pour préparer votre potager de printemps et profiter de plants en vente directe à la ferme. \n\n\n\nÀ cette occasion\, nous proposons plus de 30 variétés de plants de tomates\, courgettes\, potimarrons et potirons à 1€. \n\n\n\nÀ 1\,50€ : concombres\, poivrons\, aubergines\, melons et pastèques. \n\n\n\nÀ 2€ : condiments\, petits pois et haricots verts. \n\n\n\nÀ 3€ : basilic et barquettes de salades. \n\n\n\nVous trouverez également des plantes aromatiques\, fleurs\, petits fruits rouges et de la paille. \n\n\n\nNous serons présents pour vous conseiller et vous accompagner dans vos plantations\, dans une ambiance conviviale et familiale. \n\n\n\nFacebook & Instagram : leplaisirdumaraicher37 \n\n\n\n		\n\n\n\n	\n		EARL LE PLAISIR DU MARAÎCHER\n	\n			\n\n\n\n	\n		\n\n	\n\n\n\n\n	\n\n\n\n\n	\n		\n			\n				\n					\n						\n	\n	\n\n						\n							Ajouter au calendrier						\n						\n	\n\n					\n					\n						\n															\n									\n										Google Agenda									\n								\n															\n									\n										iCalendar									\n								\n															\n									\n										Outlook 365									\n								\n															\n									\n										Outlook Live
URL:https://www.37degres-mag.fr/event/le-printemps-des-plants-a-la-ferme-portes-ouvertes-plants-a-prix-producteurs/
LOCATION:33 rue de la Pardonnerie – 37270 Larçay\, 33 rue de la Pardonnerie\, Larçay\, 37270
ATTACH;FMTTYPE=image/png:https://www.37degres-mag.fr/wp-content/uploads/2026/04/Capture-decran-2026-04-22-a-14.50.28.png
END:VEVENT
END:VCALENDAR