BEGIN:VCALENDAR
VERSION:2.0
PRODID:-//37° degrés - ECPv6.15.20//NONSGML v1.0//EN
CALSCALE:GREGORIAN
METHOD:PUBLISH
X-ORIGINAL-URL:https://www.37degres-mag.fr
X-WR-CALDESC:Évènements pour 37° degrés
REFRESH-INTERVAL;VALUE=DURATION:PT1H
X-Robots-Tag:noindex
X-PUBLISHED-TTL:PT1H
BEGIN:VTIMEZONE
TZID:Europe/Paris
BEGIN:DAYLIGHT
TZOFFSETFROM:+0100
TZOFFSETTO:+0200
TZNAME:CEST
DTSTART:20240331T010000
END:DAYLIGHT
BEGIN:STANDARD
TZOFFSETFROM:+0200
TZOFFSETTO:+0100
TZNAME:CET
DTSTART:20241027T010000
END:STANDARD
BEGIN:DAYLIGHT
TZOFFSETFROM:+0100
TZOFFSETTO:+0200
TZNAME:CEST
DTSTART:20250330T010000
END:DAYLIGHT
BEGIN:STANDARD
TZOFFSETFROM:+0200
TZOFFSETTO:+0100
TZNAME:CET
DTSTART:20251026T010000
END:STANDARD
BEGIN:DAYLIGHT
TZOFFSETFROM:+0100
TZOFFSETTO:+0200
TZNAME:CEST
DTSTART:20260329T010000
END:DAYLIGHT
BEGIN:STANDARD
TZOFFSETFROM:+0200
TZOFFSETTO:+0100
TZNAME:CET
DTSTART:20261025T010000
END:STANDARD
END:VTIMEZONE
BEGIN:VEVENT
DTSTART;TZID=Europe/Paris:20251210T140000
DTEND;TZID=Europe/Paris:20251210T170000
DTSTAMP:20260422T164651
CREATED:20251121T103938Z
LAST-MODIFIED:20251121T103942Z
UID:10004109-1765375200-1765386000@www.37degres-mag.fr
SUMMARY:Forum des métiers de la 14e base de soutien du Matériel
DESCRIPTION:La 14e Base de soutien du Matériel vous invite à participer à son forum des métiers\, qui aura lieu le mercredi 10 décembre 2025\, de 14h à 17h\, au 24 rue Guillaume\, 37800 Nouâtre.\n\nCet événement sera l’occasion de découvrir les différents métiers de la maintenance industrielle\, d’échanger avec nos techniciens et spécialistes\, et d’en apprendre davantage sur nos missions\, les perspectives de carrière\, ainsi que sur les opportunités au sein de la Défense (civils de la Défense\, militaires\, réservistes\, …). Vous pourrez en profiter pour déposer votre CV. \n\nVotre inscription nous permettra de mieux organiser votre accueil. Merci de vous munir de votre carte d’identité\, indispensable pour pouvoir entrer sur le site militaire. \n\nMerci de remplir le formulaire ci-dessous.\n\nhttps://forms.gle/fMeJT8Gx785jWFqo7
URL:https://www.37degres-mag.fr/event/forum-des-metiers-de-la-14e-base-de-soutien-du-materiel/
LOCATION:24 RUE GUILLAUME 37800 Nouatre\, 24 rue guillaume\, Nouatre\, 37800\, France
ATTACH;FMTTYPE=image/jpeg:https://www.37degres-mag.fr/wp-content/uploads/2025/11/FORUM-14-publication-reseaux.jpg
END:VEVENT
END:VCALENDAR