BEGIN:VCALENDAR
VERSION:2.0
PRODID:-//37° degrés - ECPv6.15.20//NONSGML v1.0//EN
CALSCALE:GREGORIAN
METHOD:PUBLISH
X-ORIGINAL-URL:https://www.37degres-mag.fr
X-WR-CALDESC:Évènements pour 37° degrés
REFRESH-INTERVAL;VALUE=DURATION:PT1H
X-Robots-Tag:noindex
X-PUBLISHED-TTL:PT1H
BEGIN:VTIMEZONE
TZID:Europe/Paris
BEGIN:DAYLIGHT
TZOFFSETFROM:+0100
TZOFFSETTO:+0200
TZNAME:CEST
DTSTART:20250330T010000
END:DAYLIGHT
BEGIN:STANDARD
TZOFFSETFROM:+0200
TZOFFSETTO:+0100
TZNAME:CET
DTSTART:20251026T010000
END:STANDARD
BEGIN:DAYLIGHT
TZOFFSETFROM:+0100
TZOFFSETTO:+0200
TZNAME:CEST
DTSTART:20260329T010000
END:DAYLIGHT
BEGIN:STANDARD
TZOFFSETFROM:+0200
TZOFFSETTO:+0100
TZNAME:CET
DTSTART:20261025T010000
END:STANDARD
BEGIN:DAYLIGHT
TZOFFSETFROM:+0100
TZOFFSETTO:+0200
TZNAME:CEST
DTSTART:20270328T010000
END:DAYLIGHT
BEGIN:STANDARD
TZOFFSETFROM:+0200
TZOFFSETTO:+0100
TZNAME:CET
DTSTART:20271031T010000
END:STANDARD
END:VTIMEZONE
BEGIN:VEVENT
DTSTART;TZID=Europe/Paris:20260523T163000
DTEND;TZID=Europe/Paris:20261217T190000
DTSTAMP:20260422T182201
CREATED:20251030T092531Z
LAST-MODIFIED:20251030T092537Z
UID:10004100-1779553800-1797534000@www.37degres-mag.fr
SUMMARY:Canicross / Canirando Soleil d'Ethiopie
DESCRIPTION:Le 23 Mai\, pour la septieme edition de notre evenement\, nous lançons notre premiere edition de notre canicross et canirando solidaire Soleil d’Ethiopie a Nouzilly (nord de Tours).\n\nTous les bénéfices serviront a financer la scolarisation d’enfants en Ethiopie.\n\nPlus d’informations sur www.coursesoleilethiopie.com\n\n 
URL:https://www.37degres-mag.fr/event/canicross-canirando-soleil-dethiopie/
LOCATION:37000 nouzilly\, Nouzilly\, France
ATTACH;FMTTYPE=image/png:https://www.37degres-mag.fr/wp-content/uploads/2025/10/bbe857_092df969767c49949e68666bd33782aemv2.png
END:VEVENT
BEGIN:VEVENT
DTSTART;TZID=Europe/Paris:20260613T183000
DTEND;TZID=Europe/Paris:20260613T233000
DTSTAMP:20260422T182201
CREATED:20260315T215810Z
LAST-MODIFIED:20260315T215810Z
UID:10004177-1781375400-1781393400@www.37degres-mag.fr
SUMMARY:Concert les berges ludiques – Saison 3
DESCRIPTION:à			\n			\n							 \n\n🎼💓le concert des berges ludiques aura lieu le samedi 13 juin 2026\, à partir de 18h00💓🎼 \n\nAu programme\, 4h de concert entièrement gratuit (Reprises et compositions originales) : \n🎷18h30 –Ideal Coma et ses compositions rock \n🎙️20h00 – Virginie avec ses reprises (Guitare + voix + looper) \n🚀21h30 – Insane et ses reprises endiablées. \n\nPour vous restaurer\, 3 foods trucks seront à votre disposition : Good Food Good Mood\, Camion-La Tour de Pizz et Smart snack\, ainsi qu’un bar éphémère pour épancher votre soif. \n\nCe concert vous est offert grâce à nos partenaires locaux : \nINTER BLERE\, Crédit Mutuel\, \n\n#musiquetours #concerts #tours #villedetours #musiquelive \n\n\n\n\n\n						\n							Ajouter au calendrier						 \n\n\n\n									\n										Google Agenda									\n								\n\n									\n										iCalendar									\n								\n\n									\n										Outlook 365									\n								\n\n									\n										Outlook Live									\n								\n\n \n \n \n \n\n\n\n					Détails\n	\n\n\n				Date :\n				\n					  \n				\n			\n\n				Heure :
URL:https://www.37degres-mag.fr/event/concert-les-berges-ludiques-saison-3/
LOCATION:chemin des châteaux\, Azay sur Cher\, Chemin des châteaux\, azay sur cher\, 37270\, France
ATTACH;FMTTYPE=image/png:https://www.37degres-mag.fr/wp-content/uploads/2026/03/Blue-Minimalist-Concert-Music-Cover-Poster-1-RZDYIg.png
END:VEVENT
END:VCALENDAR