BEGIN:VCALENDAR
VERSION:2.0
PRODID:-//37° degrés - ECPv6.15.20//NONSGML v1.0//EN
CALSCALE:GREGORIAN
METHOD:PUBLISH
X-WR-CALNAME:37° degrés
X-ORIGINAL-URL:https://www.37degres-mag.fr
X-WR-CALDESC:Évènements pour 37° degrés
REFRESH-INTERVAL;VALUE=DURATION:PT1H
X-Robots-Tag:noindex
X-PUBLISHED-TTL:PT1H
BEGIN:VTIMEZONE
TZID:Europe/Paris
BEGIN:DAYLIGHT
TZOFFSETFROM:+0100
TZOFFSETTO:+0200
TZNAME:CEST
DTSTART:20250330T010000
END:DAYLIGHT
BEGIN:STANDARD
TZOFFSETFROM:+0200
TZOFFSETTO:+0100
TZNAME:CET
DTSTART:20251026T010000
END:STANDARD
BEGIN:DAYLIGHT
TZOFFSETFROM:+0100
TZOFFSETTO:+0200
TZNAME:CEST
DTSTART:20260329T010000
END:DAYLIGHT
BEGIN:STANDARD
TZOFFSETFROM:+0200
TZOFFSETTO:+0100
TZNAME:CET
DTSTART:20261025T010000
END:STANDARD
BEGIN:DAYLIGHT
TZOFFSETFROM:+0100
TZOFFSETTO:+0200
TZNAME:CEST
DTSTART:20270328T010000
END:DAYLIGHT
BEGIN:STANDARD
TZOFFSETFROM:+0200
TZOFFSETTO:+0100
TZNAME:CET
DTSTART:20271031T010000
END:STANDARD
END:VTIMEZONE
BEGIN:VEVENT
DTSTART;TZID=Europe/Paris:20260324T203000
DTEND;TZID=Europe/Paris:20260324T220000
DTSTAMP:20260419T195013
CREATED:20260305T210024Z
LAST-MODIFIED:20260305T210024Z
UID:10004168-1774384200-1774389600@www.37degres-mag.fr
SUMMARY:Théâtre : Femme NON-REEDUCABLE
DESCRIPTION:à			\n			\n							 \n\nDans le cadre du festival Bruissements d’elles. A partir de 14ans Unique journaliste russe à avoir couvert la guerre menée par la Russie en Tchétchénie\, et malgré les intimidations\, Anna Politkovskaïa gardera intacte sa détermination à enquêter sur cette « sale guerre ». Le 7 octobre 2006\, Anna Politkovskaïa est assassinée chez elle\, à Moscou\, dans le hall de son immeuble.Les écrits de la journaliste nous rappellent que l’invasion de la Russie en Ukraine n’est que la prolongation d’une même démarche.Ecrit il y a plus de quinze ans\, ce Mémorandum théâtral disait déjà tout.En s’emparant de la figure d’Anna Politkovskaïa\, la Cie des Uns des Autres s’attache à être les passeurs de sa parole\, de ses pensées et de son engagement inaltérable en faveur de la vérité et de la liberté. Car Anna Politkovskaïa a existé. \nhttps://billetterie.saint-cyr-sur-loire.com/#counter/events/247-ZZAJ \n\n				à partir de 5€ à 15 €\n	\n\n\nVILLE DE SAINT CYR SUR LOIRE\n \n02 47 42 80 25 \nVoir le site Organisateur \n \n\n\n\n\n\n\n\n\n						\n							Ajouter au calendrier						 \n\n\n\n									\n										Google Agenda									\n								\n\n									\n										iCalendar									\n								\n\n									\n										Outlook 365									\n								\n\n									\n										Outlook Live
URL:https://www.37degres-mag.fr/event/theatre-femme-non-reeducable/
LOCATION:L’Escale\, All. René Coulon\, Saint-Cyr-sur-Loire\, 37540
ATTACH;FMTTYPE=image/jpeg:https://www.37degres-mag.fr/wp-content/uploads/2026/03/FEMME_NON_REEDUCABLE_2026_30x42-2-NnbbPG.jpg
END:VEVENT
BEGIN:VEVENT
DTSTART;TZID=Europe/Paris:20260328T080000
DTEND;TZID=Europe/Paris:20260328T170000
DTSTAMP:20260419T195013
CREATED:20251228T180013Z
LAST-MODIFIED:20251228T180013Z
UID:10004132-1774684800-1774717200@www.37degres-mag.fr
SUMMARY:Atelier d’écriture ados-adultes
DESCRIPTION:Vous aimez écrire\, ou bien vous n’osez pas\, il y a de la place pour tout le monde ! Venez \nexercer votre imaginaire et votre créativité autour de thèmes variés et ludiques\, dans l’échange\, le partage et la bonne humeur. \nJe m’appelle Nicolas Caron et j’ai toujours été passionné par les histoires\, quelles que soient \nleur forme. J’accompagne des enfants et des adolescents au sein d’ateliers créatifs depuis une dizaine d’années\, en particulier autour de la Bande Dessinée. De mon côté\, j’explore et je nourris différents projets\, notamment de nouvelles et de romans.
URL:https://www.37degres-mag.fr/event/atelier-decriture-ados-adultes-4/
LOCATION:MJC Joué-lès-Tours\, 7 rue d'Amboise\, Joue les Tours\, 37300\, France
ATTACH;FMTTYPE=image/png:https://www.37degres-mag.fr/wp-content/uploads/2025/12/atelier-ecriture-1-scaled-mJ3cHU.png
END:VEVENT
BEGIN:VEVENT
DTSTART;TZID=Europe/Paris:20260328T093000
DTEND;TZID=Europe/Paris:20260328T120000
DTSTAMP:20260419T195013
CREATED:20260310T211525Z
LAST-MODIFIED:20260310T211525Z
UID:10004174-1774690200-1774699200@www.37degres-mag.fr
SUMMARY:Journée Portes Ouvertes
DESCRIPTION:à			\n			\n							 \n\nSamedi 28 mars\, de 9h30 à 12h\, le campus de Pigier Tours vous accueille pour ses portes ouvertes.Au programme de cette matinée :● Visite de notre campus● Présentation de l’école et de nos formations● Échanges avec notre équipe et nos étudiants● La possibilité de prendre un rendez-vous pour votre parcours d’admissionL’école Pigier Tours :Implantée à Tours depuis 113 ans\, nous proposons des formations en alternance allant du Bac au Bac +5\,dans les secteurs du commerce\, de la communication\, de la comptabilité des ressources humaines etmétiers supports. Situé au cœur d’une zone d’activité étudiante et dynamique\, notre campus moderneoffre à nos étudiants un cadre idéal pour leur apprentissage. \nhttps://www.pigier.com/inscription-aux-jpo-et-sessions-dadmissions \n\n		\n\n\nCampus Pigier Tours\n \n \n\n\n\n\n\n\n\n\n						\n							Ajouter au calendrier						 \n\n\n\n									\n										Google Agenda									\n								\n\n									\n										iCalendar									\n								\n\n									\n										Outlook 365									\n								\n\n									\n										Outlook Live
URL:https://www.37degres-mag.fr/event/journee-portes-ouvertes-4/
LOCATION:Campus Pigier Tours\, 2 av Pont-Cher\, Tours\, 37200
ATTACH;FMTTYPE=image/jpeg:https://www.37degres-mag.fr/wp-content/uploads/2026/03/Visuel-JPO-du-28-mars-Agenda-Info-Tours-EY0ZYl.jpg
END:VEVENT
BEGIN:VEVENT
DTSTART;TZID=Europe/Paris:20260329T093000
DTEND;TZID=Europe/Paris:20260329T140000
DTSTAMP:20260419T195013
CREATED:20260316T215949Z
LAST-MODIFIED:20260316T215949Z
UID:10004179-1774776600-1774792800@www.37degres-mag.fr
SUMMARY:Bourse aux vêtements et aux jouets
DESCRIPTION:à			\n			\n							 \n\nVous y trouverez des vêtements pour la saison printemps/été de la taille naissance au 14 ans\, ainsi que des petits articles de puériculture et des jouets. \nC’est rapide ! Tous les articles sont présentés par taille et par sexe\, à petits prix\, et le paiement s’effectue en caisse en espèces ou par CB dès 30€. Les articles sont tous mis en commun avec les autres participants et un espace est réservé à la puériculture et aux jouets. \n\n\n\n\n\n						\n							Ajouter au calendrier						 \n\n\n\n									\n										Google Agenda									\n								\n\n									\n										iCalendar									\n								\n\n									\n										Outlook 365									\n								\n\n									\n										Outlook Live									\n								\n\n \n \n \n \n\n\n\n					Détails\n	\n\n\n				Date :\n				\n					  \n				\n			\n\n				Heure :
URL:https://www.37degres-mag.fr/event/bourse-aux-vetements-et-aux-jouets/
LOCATION:Salle festive Joliot Curie\, 82 rue de la Morinerie\, Saint Pierre des Corps\, 37 700\, France
ATTACH;FMTTYPE=image/jpeg:https://www.37degres-mag.fr/wp-content/uploads/2026/03/Bourse-29.03.26-n9rKcg.jpg
END:VEVENT
BEGIN:VEVENT
DTSTART;TZID=Europe/Paris:20260329T110000
DTEND;TZID=Europe/Paris:20260329T190000
DTSTAMP:20260419T195013
CREATED:20260218T204547Z
LAST-MODIFIED:20260218T204547Z
UID:10004163-1774782000-1774810800@www.37degres-mag.fr
SUMMARY:TOUS AU MUSÉE ! Musée en liberté !
DESCRIPTION:à			\n			\n							 \n\nÀ l’occasion du Printemps des Poètes\, immergez-vous au cœur des œuvres d’arts et vivezun momentde liberté à travers diverses activités ! En famille ou entre amis\, profitez d’un concert\, jouezavec lesmots et les matières en atelier et découvrez des œuvres en poésie. Libérez-vous aumusée !Ateliers – Visites – SpectacleFood-truck / Pique-niquePlein tarif : 5 € / Tarif réduit : 2\,50 € / Gratuit pour les -6 ansRenseignements au 02 47 58 09 05RDV au musée du Véron – 80 route de Candes – 37420 SAVIGNY-EN-VÉRON \n \n\n		\n\n\nMUSEE DU VERON\n \n02 47 58 09 05 \nVoir le site Organisateur \n \n\n\n\n\n\n\n\n\n						\n							Ajouter au calendrier						 \n\n\n\n									\n										Google Agenda									\n								\n\n									\n										iCalendar									\n								\n\n									\n										Outlook 365									\n								\n\n									\n										Outlook Live
URL:https://www.37degres-mag.fr/event/tous-au-musee-musee-en-liberte/
LOCATION:80 route de Candes – 37420 SAVIGNY-EN-VÉRON\, 80 route de Candes\, SAVIGNY-EN-VÉRON\, 37420
END:VEVENT
END:VCALENDAR