BEGIN:VCALENDAR
VERSION:2.0
PRODID:-//37° degrés - ECPv6.15.20//NONSGML v1.0//EN
CALSCALE:GREGORIAN
METHOD:PUBLISH
X-WR-CALNAME:37° degrés
X-ORIGINAL-URL:https://www.37degres-mag.fr
X-WR-CALDESC:Évènements pour 37° degrés
REFRESH-INTERVAL;VALUE=DURATION:PT1H
X-Robots-Tag:noindex
X-PUBLISHED-TTL:PT1H
BEGIN:VTIMEZONE
TZID:Europe/Paris
BEGIN:DAYLIGHT
TZOFFSETFROM:+0100
TZOFFSETTO:+0200
TZNAME:CEST
DTSTART:20240331T010000
END:DAYLIGHT
BEGIN:STANDARD
TZOFFSETFROM:+0200
TZOFFSETTO:+0100
TZNAME:CET
DTSTART:20241027T010000
END:STANDARD
BEGIN:DAYLIGHT
TZOFFSETFROM:+0100
TZOFFSETTO:+0200
TZNAME:CEST
DTSTART:20250330T010000
END:DAYLIGHT
BEGIN:STANDARD
TZOFFSETFROM:+0200
TZOFFSETTO:+0100
TZNAME:CET
DTSTART:20251026T010000
END:STANDARD
BEGIN:DAYLIGHT
TZOFFSETFROM:+0100
TZOFFSETTO:+0200
TZNAME:CEST
DTSTART:20260329T010000
END:DAYLIGHT
BEGIN:STANDARD
TZOFFSETFROM:+0200
TZOFFSETTO:+0100
TZNAME:CET
DTSTART:20261025T010000
END:STANDARD
END:VTIMEZONE
BEGIN:VEVENT
DTSTART;TZID=Europe/Paris:20251029T080000
DTEND;TZID=Europe/Paris:20251228T170000
DTSTAMP:20260419T175721
CREATED:20250929T105933Z
LAST-MODIFIED:20250929T105933Z
UID:10004088-1761724800-1766941200@www.37degres-mag.fr
SUMMARY:EXPOSITION ALEXANDRA DUPREZ
DESCRIPTION:à			\n			\n							 \n\n\nAlexandra Duprez\, influencée par l’art brut et aborigène\, compose à l’instinct. Elle gratte\, efface et superpose les matières\, révélant des paysages mentaux organiques et mouvants. À travers peintures\, dessins et collages\, l’exposition explore un univers libre\, entre rêve et abstraction. \n\n		\n\n\nHôtel Goüin\n \nVoir le site Organisateur \n \n\n\n\n\n\n\n\n\n						\n							Ajouter au calendrier						 \n\n\n\n									\n										Google Agenda									\n								\n\n									\n										iCalendar									\n								\n\n									\n										Outlook 365									\n								\n\n									\n										Outlook Live
URL:https://www.37degres-mag.fr/event/exposition-alexandra-duprez/
LOCATION:Hôtel Goüin\, 25 rue du Commerce\, Tours\, 37000
ATTACH;FMTTYPE=image/jpeg:https://www.37degres-mag.fr/wp-content/uploads/2025/09/Alexandra-4-772x1200-1-teiLp1.jpg
END:VEVENT
BEGIN:VEVENT
DTSTART;TZID=Europe/Paris:20251204T093000
DTEND;TZID=Europe/Paris:20251204T110000
DTSTAMP:20260419T175721
CREATED:20251126T154510Z
LAST-MODIFIED:20251126T154510Z
UID:10004119-1764840600-1764846000@www.37degres-mag.fr
SUMMARY:Atelier écriture thème : La joie
DESCRIPTION:à			\n			\n							 \n\nPrenez la plume et participez à l’un de nos ateliers d’écriture\, un thème chaque mois.\nDes propositions d’exercices pour explorer\, découvrir\, approfondir et partager si le coeur vous en dit. \n\n\n\n\n\n						\n							Ajouter au calendrier						 \n\n\n\n									\n										Google Agenda									\n								\n\n									\n										iCalendar									\n								\n\n									\n										Outlook 365									\n								\n\n									\n										Outlook Live									\n								\n\n \n \n \n \n\n\n\n					Détails\n	\n\n\n				Date :\n				\n					  \n				\n			\n\n				Heure :
URL:https://www.37degres-mag.fr/event/atelier-ecriture-theme-la-joie/
LOCATION:Espace Sonara\, 2 rue du commerce\, Tours\, France
ATTACH;FMTTYPE=image/jpeg:https://www.37degres-mag.fr/wp-content/uploads/2025/11/Ateliers-decriture-gzJ0O9.jpg
END:VEVENT
BEGIN:VEVENT
DTSTART;TZID=Europe/Paris:20251206T100000
DTEND;TZID=Europe/Paris:20251206T180000
DTSTAMP:20260419T175721
CREATED:20251121T151518Z
LAST-MODIFIED:20251121T151518Z
UID:10004115-1765015200-1765044000@www.37degres-mag.fr
SUMMARY:3eme Bourse aux vélos VELOOP
DESCRIPTION:à			\n			\n							 \n\nGrande Bourse aux Vélos – Samedi 6 décembre à Tours ! \nVELOOP\, la coopérative tourangelle qui agit pour le réemploi du vélo\, organise sa 3ème Bourses aux Vélos samedi 6 décembre au 1 avenue Thérèse Voisin\, à Tours\, de 10h à 18h ! \nAu programme : \nDes vélos adultes & enfants prêts à rouler entre 20€ et 80€ \nDes vélos en l’état ou pour pièces à petits prix (à partir de 10€) \nDÉSTOCKAGE de pièces détachées d’occasion vendues au poids : fourches\, pédaliers\, dérailleurs\, roues\, pneumatiques… \nPaiement en espèces ou par CB \nVenez faire de bonnes affaires\, donner une seconde vie à un vélo et soutenir une démarche éco-responsable \n\n\n\n\n\n						\n							Ajouter au calendrier						 \n\n\n\n									\n										Google Agenda									\n								\n\n									\n										iCalendar									\n								\n\n									\n										Outlook 365									\n								\n\n									\n										Outlook Live									\n								\n\n \n \n \n \n\n\n\n					Détails\n	\n\n\n				Date :\n				\n					  \n				\n			\n\n				Heure :
URL:https://www.37degres-mag.fr/event/3eme-bourse-aux-velos-veloop/
ATTACH;FMTTYPE=image/jpeg:https://www.37degres-mag.fr/wp-content/uploads/2025/11/Couverture-Bourse-20251-8J13CC.jpg
END:VEVENT
BEGIN:VEVENT
DTSTART;TZID=Europe/Paris:20251206T100000
DTEND;TZID=Europe/Paris:20251206T203000
DTSTAMP:20260419T175721
CREATED:20251029T140013Z
LAST-MODIFIED:20251029T140013Z
UID:10004105-1765015200-1765053000@www.37degres-mag.fr
SUMMARY:Le Before – Le Père Noël s’entraîne !
DESCRIPTION:à			\n			\n							 \n\nLe Before revient pour plonger petits et grands dans la magie de Noël !Rendez-vous au cœur de Saint-Avertin pour une journée festive rythmée par un marché de Noël gastronomique et de créateurs\, idéal pour dénicher des cadeaux uniques et savourer les spécialités de saison. \nAu programme :✨ Balade à poneys🎶 Chorales et animations musicales🎅 Photo avec le Père Noël🍻 La Taverne des Lutins🎈 Jeux gonflables🎨 Atelier musical📮 Boîte aux lettres du Père Noël \nUn moment convivial et féerique à partager en famille ou entre amis\, organisé par les Professionnels Unis de Saint-Avertin avec le soutien de la Ville de Saint-Avertin. \n\n		\n\n\n\n\n\n\n\n\n						\n							Ajouter au calendrier						 \n\n\n\n									\n										Google Agenda									\n								\n\n									\n										iCalendar									\n								\n\n									\n										Outlook 365									\n								\n\n									\n										Outlook Live
URL:https://www.37degres-mag.fr/event/le-before-le-pere-noel-sentraine/
ATTACH;FMTTYPE=image/jpeg:https://www.37degres-mag.fr/wp-content/uploads/2025/10/S49-PUSA_Affiche-BEFORE-2025-hOZlpC.jpg
END:VEVENT
END:VCALENDAR