BEGIN:VCALENDAR
VERSION:2.0
PRODID:-//37° degrés - ECPv6.15.20//NONSGML v1.0//EN
CALSCALE:GREGORIAN
METHOD:PUBLISH
X-ORIGINAL-URL:https://www.37degres-mag.fr
X-WR-CALDESC:Évènements pour 37° degrés
REFRESH-INTERVAL;VALUE=DURATION:PT1H
X-Robots-Tag:noindex
X-PUBLISHED-TTL:PT1H
BEGIN:VTIMEZONE
TZID:Europe/Paris
BEGIN:DAYLIGHT
TZOFFSETFROM:+0100
TZOFFSETTO:+0200
TZNAME:CEST
DTSTART:20240331T010000
END:DAYLIGHT
BEGIN:STANDARD
TZOFFSETFROM:+0200
TZOFFSETTO:+0100
TZNAME:CET
DTSTART:20241027T010000
END:STANDARD
BEGIN:DAYLIGHT
TZOFFSETFROM:+0100
TZOFFSETTO:+0200
TZNAME:CEST
DTSTART:20250330T010000
END:DAYLIGHT
BEGIN:STANDARD
TZOFFSETFROM:+0200
TZOFFSETTO:+0100
TZNAME:CET
DTSTART:20251026T010000
END:STANDARD
BEGIN:DAYLIGHT
TZOFFSETFROM:+0100
TZOFFSETTO:+0200
TZNAME:CEST
DTSTART:20260329T010000
END:DAYLIGHT
BEGIN:STANDARD
TZOFFSETFROM:+0200
TZOFFSETTO:+0100
TZNAME:CET
DTSTART:20261025T010000
END:STANDARD
END:VTIMEZONE
BEGIN:VEVENT
DTSTART;TZID=Europe/Paris:20251029T080000
DTEND;TZID=Europe/Paris:20251228T170000
DTSTAMP:20260425T145353
CREATED:20250929T105933Z
LAST-MODIFIED:20250929T105933Z
UID:10004088-1761724800-1766941200@www.37degres-mag.fr
SUMMARY:EXPOSITION ALEXANDRA DUPREZ
DESCRIPTION:à			\n			\n							 \n\n\nAlexandra Duprez\, influencée par l’art brut et aborigène\, compose à l’instinct. Elle gratte\, efface et superpose les matières\, révélant des paysages mentaux organiques et mouvants. À travers peintures\, dessins et collages\, l’exposition explore un univers libre\, entre rêve et abstraction. \n\n		\n\n\nHôtel Goüin\n \nVoir le site Organisateur \n \n\n\n\n\n\n\n\n\n						\n							Ajouter au calendrier						 \n\n\n\n									\n										Google Agenda									\n								\n\n									\n										iCalendar									\n								\n\n									\n										Outlook 365									\n								\n\n									\n										Outlook Live
URL:https://www.37degres-mag.fr/event/exposition-alexandra-duprez/
LOCATION:Hôtel Goüin\, 25 rue du Commerce\, Tours\, 37000
ATTACH;FMTTYPE=image/jpeg:https://www.37degres-mag.fr/wp-content/uploads/2025/09/Alexandra-4-772x1200-1-teiLp1.jpg
END:VEVENT
BEGIN:VEVENT
DTSTART;TZID=Europe/Paris:20251030T100000
DTEND;TZID=Europe/Paris:20251101T180000
DTSTAMP:20260425T145353
CREATED:20250803T083051Z
LAST-MODIFIED:20250803T083051Z
UID:10004067-1761818400-1762020000@www.37degres-mag.fr
SUMMARY:HALLOWEEN AU RIVAU
DESCRIPTION:à			\n			\n							 \n\n\nDu 30 octobre au 1er novembre\, le Château du Rivau convie les enfants à venir fêter Halloween pour un rocambolesque jeu de piste à travers les jardins décorés de citrouilles. Pas de chasse aux sorcières\, mais attention quand même\, nous vous réservons quelques surprises !  Les plus courageux des petites sorcières et petits vampires seront récompensés de bonbons ! \nProgramme (sur réservation: https://www.chateaudurivau.com/fr/evenements-halloween.php) \nChasses aux bonbons pour les 6-10 ans : 11h\, 14h30 et 16h \nSans réservation \nHalloween avec un livret pour les 3-5 ans : toute la journée \nHalloween avec un livret pour les 6-10 ans : toute la journée \nHalloween avec un livret pour les ados : toute la journée \nConte pour toute la famille à 17h (gratuit) \n\n				Tarifs : entrée du site + supplément de 4 €/enfant\n	\n\n\nChâteau du Rivau\n \n02 47 95 77 47 \nVoir le site Organisateur \n \n\n\n\n\n\n\n						\n							Ajouter au calendrier						 \n\n\n\n									\n										Google Agenda									\n								\n\n									\n										iCalendar									\n								\n\n									\n										Outlook 365									\n								\n\n									\n										Outlook Live
URL:https://www.37degres-mag.fr/event/halloween-au-rivau/
LOCATION:9 Rue du Château\, 37120 Lémeré\, 9 Rue du Château\, 37120 Lémeré\, France
ATTACH;FMTTYPE=image/jpeg:https://www.37degres-mag.fr/wp-content/uploads/2025/08/Capture-decran-2025-02-14-a-13.32.30-wAhGkg.jpg
END:VEVENT
BEGIN:VEVENT
DTSTART;TZID=Europe/Paris:20251031T153000
DTEND;TZID=Europe/Paris:20251031T220000
DTSTAMP:20260425T145353
CREATED:20251025T124511Z
LAST-MODIFIED:20251025T124511Z
UID:10004099-1761924600-1761948000@www.37degres-mag.fr
SUMMARY:🎃 Le Grand Frisson revient aux Grandes Caves Saint-Roch !
DESCRIPTION:à			\n			\n							 \n\nLe vendredi 31 octobre\, les entrailles de Rochecorbon s’éveillent pour une journéeterrifiante…🕯 15h30 : les enfants s’aventurent dans une visite des caves à la bougie. Bruits étranges\,ombres dansantes et goûter de l’horreur pour les plus courageux ! (5 €/personne)😱 19h15 : place aux grands ! Un cache-cache géant dans 3 km de galeriestroglodytiques\, suivi d’un apéro monstrueux (planche charcuterie & fromage) pourreprendre vos esprits… (17 €/personne)🕸 Réservation obligatoire sur www.alecoledesvins.fr📍 Les Grandes Caves Saint-Roch – 65 quai de la Loire\, RochecorbonFrissons\, rires et mystères garantis… oserez-vous entrer ? 💀 🍷 \n \n\n		\n\n\nGRANDES CAVES SAINT-ROCH – MAISON LACHETEAU\n \n \n\n\n\n\n\n\n\n\n						\n							Ajouter au calendrier						 \n\n\n\n									\n										Google Agenda									\n								\n\n									\n										iCalendar									\n								\n\n									\n										Outlook 365									\n								\n\n									\n										Outlook Live
URL:https://www.37degres-mag.fr/event/%f0%9f%8e%83-le-grand-frisson-revient-aux-grandes-caves-saint-roch/
LOCATION:GRANDES CAVES SAINT-ROCH – MAISON LACHETEAU\, 65 Quai de la Loire\, Rochecorbon\, 37210
ATTACH;FMTTYPE=image/jpeg:https://www.37degres-mag.fr/wp-content/uploads/2025/10/Capture-decran-2025-10-24-a-14.57.35-sNwITN.jpg
END:VEVENT
END:VCALENDAR