BEGIN:VCALENDAR
VERSION:2.0
PRODID:-//37° degrés - ECPv6.15.20//NONSGML v1.0//EN
CALSCALE:GREGORIAN
METHOD:PUBLISH
X-ORIGINAL-URL:https://www.37degres-mag.fr
X-WR-CALDESC:Évènements pour 37° degrés
REFRESH-INTERVAL;VALUE=DURATION:PT1H
X-Robots-Tag:noindex
X-PUBLISHED-TTL:PT1H
BEGIN:VTIMEZONE
TZID:Europe/Paris
BEGIN:DAYLIGHT
TZOFFSETFROM:+0100
TZOFFSETTO:+0200
TZNAME:CEST
DTSTART:20220327T010000
END:DAYLIGHT
BEGIN:STANDARD
TZOFFSETFROM:+0200
TZOFFSETTO:+0100
TZNAME:CET
DTSTART:20221030T010000
END:STANDARD
BEGIN:DAYLIGHT
TZOFFSETFROM:+0100
TZOFFSETTO:+0200
TZNAME:CEST
DTSTART:20230326T010000
END:DAYLIGHT
BEGIN:STANDARD
TZOFFSETFROM:+0200
TZOFFSETTO:+0100
TZNAME:CET
DTSTART:20231029T010000
END:STANDARD
BEGIN:DAYLIGHT
TZOFFSETFROM:+0100
TZOFFSETTO:+0200
TZNAME:CEST
DTSTART:20240331T010000
END:DAYLIGHT
BEGIN:STANDARD
TZOFFSETFROM:+0200
TZOFFSETTO:+0100
TZNAME:CET
DTSTART:20241027T010000
END:STANDARD
END:VTIMEZONE
BEGIN:VEVENT
DTSTART;TZID=Europe/Paris:20230315T103000
DTEND;TZID=Europe/Paris:20230315T110000
DTSTAMP:20260425T150110
CREATED:20230225T140047Z
LAST-MODIFIED:20230225T140047Z
UID:10003665-1678876200-1678878000@www.37degres-mag.fr
SUMMARY:Racontines : coups de cœur des médiathécaires
DESCRIPTION:Le printemps arrive\, les arbres bourgeonnent mais le froid persiste\, venez vous réchauffer dans la médiathèque au cours d’une lecture des coups de cœurs des médiathécaires. \n3 – 8 ans (scolarisé) non accompagné d’un parent – durée : 30 min – gratuit\nRéservez votre animation en ligne sur le site de La Parenthèse – https://www.laparenthese-ballan-mire.fr
URL:https://www.37degres-mag.fr/event/racontines-coups-de-coeur-des-mediathecaires-2-2/
ATTACH;FMTTYPE=:
END:VEVENT
BEGIN:VEVENT
DTSTART;TZID=Europe/Paris:20230315T173000
DTEND;TZID=Europe/Paris:20230315T190000
DTSTAMP:20260425T150110
CREATED:20230225T140217Z
LAST-MODIFIED:20230225T140217Z
UID:10003666-1678901400-1678906800@www.37degres-mag.fr
SUMMARY:Atelier choix des DVD
DESCRIPTION:Les médiathécaires vous invitent à venir choisir avec eux les prochains DVD qui seront achetés. Partagez vos envies et construisez avec nous une collection de qualité. \nDès 12 ans – durée 1h – gratuit\nRéservez votre animation en ligne sur le site de La Parenthèse – https://www.laparenthese-ballan-mire.fr
URL:https://www.37degres-mag.fr/event/atelier-choix-des-dvd-2/
ATTACH;FMTTYPE=:
END:VEVENT
BEGIN:VEVENT
DTSTART;TZID=Europe/Paris:20230317T190000
DTEND;TZID=Europe/Paris:20230317T200000
DTSTAMP:20260425T150110
CREATED:20220807T080216Z
LAST-MODIFIED:20220807T080216Z
UID:10001175-1679079600-1679083200@www.37degres-mag.fr
SUMMARY:Heure curieuse - Daniel Larrieu\, "Pan\, Plis\, Peau"
DESCRIPTION:À l’occasion de son heure curieuse\, Daniel Larrieu partage le processus de création de Plis\, deuxième volet d’un triptyque nommé Pan\, Pli\, Peau\, dont chacune des formes n’excédera pas 21 minutes. \n60 min.\nAu CCNT\nEntrée libre sur réservation\nStage amateurs tous niveaux avec Daniel Larrieu le 11 mars au CCNT\ncollectiondaniellarrieu.com \nRéservations et informations complémentaires : 02 47 36 46 00 / info@ccntours.com
URL:https://www.37degres-mag.fr/event/heure-curieuse-daniel-larrieu-pan-plis-peau-2/
ATTACH;FMTTYPE=:
END:VEVENT
BEGIN:VEVENT
DTSTART;TZID=Europe/Paris:20230317T190000
DTEND;TZID=Europe/Paris:20230317T200000
DTSTAMP:20260425T150110
CREATED:20221030T170302Z
LAST-MODIFIED:20221030T170302Z
UID:10001187-1679079600-1679083200@www.37degres-mag.fr
SUMMARY:Ecrans Ouverts - Bloody Wednesday
DESCRIPTION:Composé de 4 films et 4 réal.\nWonderland\nLes disjonctés 1\nL’Obscurité\nAzag\, la paroisse du diable \nNovembre\, les jours sont gris. L’occasion de passer une soirée rouge. Le cinéma et ses auteurs ont très vite voulus explorer le genre fantastique. Et de nos jours encore\, les salles obscures\, sont des lieux idéaux pour s’immerger dans l’horreur\, l’irrationnel\, le sanglant…\nVenez à la rencontre de 4 réalisateurs locaux qui ont relevez le défi de vous emmener au de là de la réalité. \nAngoisse\, cauchemar\, action mais du rire aussi bien sûr. Accrochez vous bien à votre bloody Mary !
URL:https://www.37degres-mag.fr/event/ecrans-ouverts-bloody-wednesday-3/
ATTACH;FMTTYPE=:
END:VEVENT
BEGIN:VEVENT
DTSTART;TZID=Europe/Paris:20230318T100000
DTEND;TZID=Europe/Paris:20230318T170000
DTSTAMP:20260425T150110
CREATED:20230313T134958Z
LAST-MODIFIED:20230313T134958Z
UID:10003677-1679133600-1679158800@www.37degres-mag.fr
SUMMARY:Portes Ouvertes MFR
DESCRIPTION:Formations en alternance/apprentissage de la 4ème à la licence pro.\nVenez découvrir nos filières (4/3ème orientation\, accueil/animation\,\nagriculture/agroéquipement\, animalerie\, cheval\, forêt\, entrepreneuriat\, espaces-verts\, \nvente/commerce\, mécanique\, petite enfance\, services aux personnes) lors de nos portes-\nouvertes du samedi 18 Mars\, de 10h à 17h\, sur rendez-vous. \nListe de nos MFR en Indre-et-Loire: MFR Azay-le-Rideau\, MFR Bourgueil\, MFR La Croix en\nTouraine\, MFR Loches\, MFR Neuvy-le-Roi\, MFR Tours-Rougemont\, MFR Val de Manse\n(Noyant de Touraine)\, CFA MFEO Sorigny
URL:https://www.37degres-mag.fr/event/portes-ouvertes-mfr-2/
ATTACH;FMTTYPE=:
END:VEVENT
BEGIN:VEVENT
DTSTART;TZID=Europe/Paris:20230318T100000
DTEND;TZID=Europe/Paris:20230318T190000
DTSTAMP:20260425T150110
CREATED:20230312T225958Z
LAST-MODIFIED:20230312T225958Z
UID:10003676-1679133600-1679166000@www.37degres-mag.fr
SUMMARY:19ème Fête des vins de Bourgueil à Tours
DESCRIPTION:Pour la 19ème année\, les vignerons de Bourgueil investissent le boulevard Heurteloup pour célébrer la fête des vins de Bourgueil le samedi 18 mars de 10h à 19h. \nAprès l’achat d’un verre de dégustation (3 €)\, les amateurs découvriront les premières cuvées du millésime 2022 de l’appellation et pourront échanger avec la quarantaine de vignerons. \nLe programme : Inauguration officielle à 10 h 30 avec la mairie de Tours et les dignitaires de la Commanderie de la Dive Bouteille de Bourgueil et Saint-Nicolas de Bourgueil. \nLa remise des trophées du concours Saint-Vincent » qui récompensent les meilleures cuvées du millésime 2022. \nDes artisans des métiers de bouche exposeront aussi sur le boulevard Heurteloup aux côtés des vignerons. \nToute la journée un stand est dédié aux enfants avec des dégustations de jus de fruit à l’aveugle\, des ateliers d‘éveil au goût et jeux sensoriels.
URL:https://www.37degres-mag.fr/event/19eme-fete-des-vins-de-bourgueil-a-tours-2/
ATTACH;FMTTYPE=:
END:VEVENT
BEGIN:VEVENT
DTSTART;TZID=Europe/Paris:20230318T203000
DTEND;TZID=Europe/Paris:20230318T220000
DTSTAMP:20260425T150110
CREATED:20221126T210030Z
LAST-MODIFIED:20221126T210030Z
UID:10000255-1679171400-1679176800@www.37degres-mag.fr
SUMMARY:La Saugrenue à Avoine
DESCRIPTION:Bal musette néo rétro.\nOn les croirait tout droit sortis d’un tripot parisien du quartier de la Bastille\, nos cinq compères vous invitent à ce bal néo-rétro pour revivre l’âge d’or du musette des années 30\, sonorités musicales actuelles en plus.\nSur scène\, ces marlous combinent émotion\, poésie\, humour\, intensité et font danser le public dans une ambiance de bal-cabaret.\nAlors\, venez guincher dans ce bal revisité\, aux côtés de Sacha la Fauve et ses sacrés acolytes.\nOcéane Halpert – Sacha la fauve : chant\nFlorent Sepchat – Flo la Bretelle : accordéon\nJean-François Caire – Jean-Jean la Taxe : Batterie\nMatthieu Torsat – Mat l’Emplumeur : contrebasse\nGuillaume Viel :- Hector la Gachette : guitare\nTOUT PUBLIC\nTARIF C : Offert aux abonnés\, 7\,5€ pour les autres.
URL:https://www.37degres-mag.fr/event/la-saugrenue-a-avoine/
ATTACH;FMTTYPE=image/jpeg:https://www.37degres-mag.fr/wp-content/uploads/2022/11/LA-SAUGRENUE-mbdSeW.tmp_.jpg
END:VEVENT
BEGIN:VEVENT
DTSTART;TZID=Europe/Paris:20230319T160000
DTEND;TZID=Europe/Paris:20230319T170000
DTSTAMP:20260425T150110
CREATED:20230307T141508Z
LAST-MODIFIED:20230307T141508Z
UID:10000290-1679241600-1679245200@www.37degres-mag.fr
SUMMARY:CAMINO de SANTIAGO
DESCRIPTION:Les Chemins de Compostelle en Touraine ont le plaisir de vous proposer le spectacle :\nCAMINO de SANTIAGO\nSur les Chemins de Saint-Jacques\nLe 19 mars 2023 à 16h\nEglise Saint Julien\n20 rue Nationale à TOURS\nDepuis plusieurs années Philippe CANDELON\, metteur en scène\, auteur compositeur\ninterprète\, sillonne les routes de France avec un spectacle musical retraçant son cheminement sur le «CAMINO DE SANTIAGO»\, la partie du Chemin de Saint-Jacques-de-Compostelle comprise entre Saint-Jean- Pied-de-Port et la ville de l’apôtre Jacques en Galice…\n850 kilomètres de marche évoqués en chansons…\nObtenir plus d’informations\nTéléphone : 06 10 02 30 73\nE-Mail : infospectacles@sasbcdc.fr\nSite Web : https://www.compostelle-tours.org/evenement/spectacle-camino-de-santiago/\nNos informations\nNom : Chemins de Compostelle en Touraine\nE-Mail : secretariat.asso.compostelle.37@gmail.com
URL:https://www.37degres-mag.fr/event/camino-de-santiago/
ATTACH;FMTTYPE=image/jpeg:https://www.37degres-mag.fr/wp-content/uploads/2023/03/Camino-de-Santiago-Tours-IzHhe2.tmp_.jpg
END:VEVENT
END:VCALENDAR