BEGIN:VCALENDAR
VERSION:2.0
PRODID:-//37° degrés - ECPv6.15.20//NONSGML v1.0//EN
CALSCALE:GREGORIAN
METHOD:PUBLISH
X-WR-CALNAME:37° degrés
X-ORIGINAL-URL:https://www.37degres-mag.fr
X-WR-CALDESC:Évènements pour 37° degrés
REFRESH-INTERVAL;VALUE=DURATION:PT1H
X-Robots-Tag:noindex
X-PUBLISHED-TTL:PT1H
BEGIN:VTIMEZONE
TZID:Europe/Paris
BEGIN:DAYLIGHT
TZOFFSETFROM:+0100
TZOFFSETTO:+0200
TZNAME:CEST
DTSTART:20220327T010000
END:DAYLIGHT
BEGIN:STANDARD
TZOFFSETFROM:+0200
TZOFFSETTO:+0100
TZNAME:CET
DTSTART:20221030T010000
END:STANDARD
BEGIN:DAYLIGHT
TZOFFSETFROM:+0100
TZOFFSETTO:+0200
TZNAME:CEST
DTSTART:20230326T010000
END:DAYLIGHT
BEGIN:STANDARD
TZOFFSETFROM:+0200
TZOFFSETTO:+0100
TZNAME:CET
DTSTART:20231029T010000
END:STANDARD
BEGIN:DAYLIGHT
TZOFFSETFROM:+0100
TZOFFSETTO:+0200
TZNAME:CEST
DTSTART:20240331T010000
END:DAYLIGHT
BEGIN:STANDARD
TZOFFSETFROM:+0200
TZOFFSETTO:+0100
TZNAME:CET
DTSTART:20241027T010000
END:STANDARD
END:VTIMEZONE
BEGIN:VEVENT
DTSTART;TZID=Europe/Paris:20230228T200000
DTEND;TZID=Europe/Paris:20230228T220000
DTSTAMP:20260425T180816
CREATED:20220707T224840Z
LAST-MODIFIED:20220707T224840Z
UID:10000108-1677614400-1677621600@www.37degres-mag.fr
SUMMARY:Pixel
DESCRIPTION:Succès retentissant depuis sa création\, Pixel nous plonge dans un univers de poésie et de rêve dans lequel réalité et illusion se troublent. Grâce aux effets 3D des artistes numériques Adrien M / Claire B\, les mouvements de la danse hip-hop mêlés aux arts du cirque trouvent un nouveau terrain de jeu. Dans cet univers impalpable et en perpétuelle transformation\, les interprètes illuminent le plateau par leur énergie et leur virtuosité. Le geste sublimé\, challengé\, se réinvente pour mieux se retrouver. La création musicale d’Armand Amar renforce le lyrisme de la pièce\, comme une invitation supplémentaire au voyage. Éblouissement et féerie\, c’est l’effet Pixel.
URL:https://www.37degres-mag.fr/event/pixel/
ATTACH;FMTTYPE=image/jpeg:https://www.37degres-mag.fr/wp-content/uploads/2022/07/page-1-DP_pages-to-jpg-0001-YLiQdS.tmp_.jpg
END:VEVENT
BEGIN:VEVENT
DTSTART;TZID=Europe/Paris:20230301T203000
DTEND;TZID=Europe/Paris:20230301T220000
DTSTAMP:20260425T180816
CREATED:20221015T100034Z
LAST-MODIFIED:20221015T100034Z
UID:10000201-1677702600-1677708000@www.37degres-mag.fr
SUMMARY:Maria Dolores y Amapola Quartet à Avoine
DESCRIPTION:TANGO / HUMOUR\nConcert\, humour et divagations\n« Si l’amour savait parler\, sa langue serait celle du tango ».\nTout droit sortie d’un film d’Almodovar\, la biche madrilène icône du kitsch latin\, n’a pas le goût des demi-mesures. Elle ose\, sans détour.\nMaria Dolores avait pourtant juré de ne plus jamais chanter le tango… Alors est-ce l’écho du souvenir ou l’appel du bandonéon qui a réveillé en elle cette musique qui coule dans ses veines ?\nDans ce spectacle savoureux à l’humour tonitruant\, elle révèle aussi sa voix envoûtante avec l’Amapola Quartet qu’elle houspille allègrement. Ensemble\, ils conversent dans cette langue si sensuelle qui n’appartient qu’au tango ; d’où s’échappent soupirs et soubresauts qui font de cette musique une fusion de passion et de peine.\nD’airs susurrés en milongas des exilés\, on parcourt les trottoirs de Buenos Aires avec cet orchestre au son sublime…\nMaria Dolores raconte avec une drôlerie gargantuesque SA véritable histoire du tango.\nTOUT PUBLIC\nTARIF B : 17€-14€-12€.
URL:https://www.37degres-mag.fr/event/maria-dolores-y-amapola-quartet-a-avoine/
ATTACH;FMTTYPE=image/jpeg:https://www.37degres-mag.fr/wp-content/uploads/2022/10/MARIA-DOLORES-wEDTNy.tmp_.jpg
END:VEVENT
BEGIN:VEVENT
DTSTART;TZID=Europe/Paris:20230303T200000
DTEND;TZID=Europe/Paris:20230303T223000
DTSTAMP:20260425T180816
CREATED:20220707T224840Z
LAST-MODIFIED:20220707T224840Z
UID:10000109-1677873600-1677882600@www.37degres-mag.fr
SUMMARY:Camille Lellouche
DESCRIPTION:Elue par le public « chanson de l’année » lors des Victoires de la musique avec Mais je t’aime en duo avec Grand Corps Malade\, Camille Lellouche sort son premier album tant attendu « A ». Chez elle\, la musique a toujours été à la fois une passion\, une quête\, un exutoire\, une nécessité\, une thérapie. Aussi obstinée que travailleuse\, elle n’a pas ménagé sa peine pour se retrouver là.\nNaturellement\, son premier album oscille entre chanson française dans sa tradition la plus classique et pop urbaine.\nCamille Lellouche vous donne rendez-vous en 2023 pour vivre avec elle cette tournée inédite.
URL:https://www.37degres-mag.fr/event/camille-lellouche/
ATTACH;FMTTYPE=image/jpeg:https://www.37degres-mag.fr/wp-content/uploads/2022/07/CL_Tournee_20x30-scaled-3DPmX9.tmp_.jpg
END:VEVENT
BEGIN:VEVENT
DTSTART;TZID=Europe/Paris:20230304T000000
DTEND;TZID=Europe/Paris:20230305T235959
DTSTAMP:20260425T180816
CREATED:20221120T190031Z
LAST-MODIFIED:20221120T190031Z
UID:10000254-1677888000-1678060799@www.37degres-mag.fr
SUMMARY:36e Salon minéraux et fossiles
DESCRIPTION:Le club de minéralogie de Monnaie organise son « Salon des minéraux et des fossiles ». Une vingtaine d’exposants vous présentent des minéraux et des fossiles du monde entier. Une très belle exposition sur les céphalopodes fossiles sera présentée. Entrée : 2 € gratuit pour les – de 12 ans\nOrganisé par le Club géologique de Monnaie.
URL:https://www.37degres-mag.fr/event/36e-salon-mineraux-et-fossiles/
ATTACH;FMTTYPE=image/jpeg:https://www.37degres-mag.fr/wp-content/uploads/2022/11/ammonite-M-206-ljHlzt.tmp_.jpg
END:VEVENT
BEGIN:VEVENT
DTSTART;TZID=Europe/Paris:20230304T100000
DTEND;TZID=Europe/Paris:20230305T180000
DTSTAMP:20260425T180816
CREATED:20230126T144519Z
LAST-MODIFIED:20230126T144519Z
UID:10000287-1677924000-1678039200@www.37degres-mag.fr
SUMMARY:Vinotours\, salon des vins bio et naturels
DESCRIPTION:Le 15° salon VINOTOURS\, des vins bio et naturels\, vous donne rendez-vous pour deux jours festif\, le 4 et 5 mars 2023.\nCette année encore\, VINOTOURS fera la part belle à 25 vignerons indépendants de toutes les régions de France avec dégustations et ventes. Depuis 2008\, le salon regroupe dans un esprit ludique et familial\, les connaisseurs\, les amateurs ou les simples visiteurs autour de vignerons passionnés par leur métier\, leur terroir; de quoi vous convaincre et vous réjouir.\nL’occasion de rencontres chaleureuses avec des vignerons qui vous feront partager leurs valeurs\, techniques et histoires…qui les rendent unique. Une occasion pour les visiteurs de se balader entre Alsace et Vendée en passant par le Languedoc et bien d’autres régions.\nLe salon mettra aussi en valeur des exposants qui vous feront découvrir des produits authentiques. Une petite restauration vous est proposée à la vente pour profiter de cet instant convivial.\nEntrée 5 euros + verre de dégustation.
URL:https://www.37degres-mag.fr/event/vinotours-salon-des-vins-bio-et-naturels/
ATTACH;FMTTYPE=image/jpeg:https://www.37degres-mag.fr/wp-content/uploads/2023/01/vin-verre-vouvray-apero-44Hy84.tmp_.jpg
END:VEVENT
BEGIN:VEVENT
DTSTART;TZID=Europe/Paris:20230304T143000
DTEND;TZID=Europe/Paris:20230304T163000
DTSTAMP:20260425T180816
CREATED:20220427T093048Z
LAST-MODIFIED:20220427T093048Z
UID:10000065-1677940200-1677947400@www.37degres-mag.fr
SUMMARY:Chantal Goya - Sur la route enchantée
DESCRIPTION:Retrouvez le grand ballet de Polichinelle\, Bécassine\, le Chat Botté\, Snoopy\, Pandi-Panda\, les Pieds Nickelés\, Jeannot Lapin\, Loup Loup… et même Guignol pour un merveilleux spectacle plein d’émotions de Jean-Jacques Debout.\nLes enfants suivent sur la Route Enchantée l’héroïne de toujours\, interprétée par Chantal Goya\, Marie-Rose.\nVêtue de sa célèbre robe rose\, elle entraîne les petits et les grands dans ses aventures pleines de rencontres surprenantes…\nSur la Route Enchantée\, Marie-Rose crée un univers fantastique entre forêt de Brocéliande et château du Chat Botté\, depuis lesquels nous retrouverons nos personnages préférés en chanson.\nVenez tous avec nous sur cette belle Route Enchantée !
URL:https://www.37degres-mag.fr/event/chantal-goya-sur-la-route-enchantee/
ATTACH;FMTTYPE=image/png:https://www.37degres-mag.fr/wp-content/uploads/2022/04/AFFICHE-CHANTAL-SUR-LA-ROUTE-ENCHANTEE-copie-O3u1LJ.tmp_.png
END:VEVENT
END:VCALENDAR