BEGIN:VCALENDAR
VERSION:2.0
PRODID:-//37° degrés - ECPv6.15.20//NONSGML v1.0//EN
CALSCALE:GREGORIAN
METHOD:PUBLISH
X-WR-CALNAME:37° degrés
X-ORIGINAL-URL:https://www.37degres-mag.fr
X-WR-CALDESC:Évènements pour 37° degrés
REFRESH-INTERVAL;VALUE=DURATION:PT1H
X-Robots-Tag:noindex
X-PUBLISHED-TTL:PT1H
BEGIN:VTIMEZONE
TZID:Europe/Paris
BEGIN:DAYLIGHT
TZOFFSETFROM:+0100
TZOFFSETTO:+0200
TZNAME:CEST
DTSTART:20220327T010000
END:DAYLIGHT
BEGIN:STANDARD
TZOFFSETFROM:+0200
TZOFFSETTO:+0100
TZNAME:CET
DTSTART:20221030T010000
END:STANDARD
BEGIN:DAYLIGHT
TZOFFSETFROM:+0100
TZOFFSETTO:+0200
TZNAME:CEST
DTSTART:20230326T010000
END:DAYLIGHT
BEGIN:STANDARD
TZOFFSETFROM:+0200
TZOFFSETTO:+0100
TZNAME:CET
DTSTART:20231029T010000
END:STANDARD
BEGIN:DAYLIGHT
TZOFFSETFROM:+0100
TZOFFSETTO:+0200
TZNAME:CEST
DTSTART:20240331T010000
END:DAYLIGHT
BEGIN:STANDARD
TZOFFSETFROM:+0200
TZOFFSETTO:+0100
TZNAME:CET
DTSTART:20241027T010000
END:STANDARD
END:VTIMEZONE
BEGIN:VEVENT
DTSTART;TZID=Europe/Paris:20230203T180000
DTEND;TZID=Europe/Paris:20230203T180000
DTSTAMP:20260420T003617
CREATED:20230104T152123Z
LAST-MODIFIED:20230104T152123Z
UID:10001643-1675447200-1675447200@www.37degres-mag.fr
SUMMARY:Les lectures d'hiver de Melle Maeve
DESCRIPTION:Melle Maeve\, influenceuse passionnée de lecture\, partage avec vous ses plaisirs de lecture et ses coups de cœur. Repartez avec des livres bien sûr\, mais surtout une énorme envie de lire. \nTout public – gratuit
URL:https://www.37degres-mag.fr/event/les-lectures-dhiver-de-melle-maeve-3/
ATTACH;FMTTYPE=:
END:VEVENT
BEGIN:VEVENT
DTSTART;TZID=Europe/Paris:20230204T100000
DTEND;TZID=Europe/Paris:20230204T100000
DTSTAMP:20260420T003617
CREATED:20230104T154529Z
LAST-MODIFIED:20230104T154529Z
UID:10000282-1675504800-1675504800@www.37degres-mag.fr
SUMMARY:Café histoire : les bourreaux en Touraine au XVIIIe siècle du mythe à la réalité
DESCRIPTION:Fabrice Mauclair\, docteur en histoire moderne\, est spécialiste de l’histoire de la justice sous l’Ancien Régime. Il offre dans cette conférence le résultat de plusieurs années de recherches dans les archives judiciaires tourangelles du XVIIIe siècle.\nTout public – gratuit
URL:https://www.37degres-mag.fr/event/cafe-histoire-les-bourreaux-en-touraine-au-xviiie-siecle-du-mythe-a-la-realite/
ATTACH;FMTTYPE=image/jpeg:https://www.37degres-mag.fr/wp-content/uploads/2023/01/Capture1-I2MKgK.tmp_.jpg
END:VEVENT
BEGIN:VEVENT
DTSTART;TZID=Europe/Paris:20230205T150000
DTEND;TZID=Europe/Paris:20230205T150000
DTSTAMP:20260420T003617
CREATED:20230104T154530Z
LAST-MODIFIED:20230104T154530Z
UID:10000283-1675609200-1675609200@www.37degres-mag.fr
SUMMARY:Un flocon dans ma gorge | Cie Jabberwock
DESCRIPTION:Depuis toute petite\, Marie-Pascale s’amuse à créer des sons avec sa voix\, des sons très graves\, provenus du fin fond de sa gorge\, qu’elle n’a ni appris ni entendus. Un jour\, en écoutant un disque de chant Inuit\, elle entend sa voix ! Comment ce jeu vocal pratiqué depuis des siècles par des femmes vivant dans l’Arctique\, s’est-il inscrit spontanément dans sa voix à elle\, petite fille habitant à des milliers de kilomètres ? Ce road-trip vocal joyeux et onirique célèbre les pouvoirs de la voix avec une bande-son composée en live par un musicien multi-instrumentiste. La voix de Marie-Pascale est tout à la fois porteuse de personnages dont les identités se dévoilent peu à peu\, de paysages émergeant de la puissance évocatrice des sons dont elle a le secret\, et d’une histoire\, qui nous raconte comment la voix peut aider chacun à grandir\, à se construire\, à trouver de la force en soi…\n> Constance Larrieu : texte et mise en scène / Marie-Pascale Dubé : interprétation / David Bichindaritz : musique / Marie-Pascale Dubé : collaboration au texte / David Bichindaritz : création sonore et musicale / Fanny Brouste : costumes / Cyrille Lebourgeois : régie générale\nJeune public dès 6 ans Durée : 45 min Tarif unique : 4 €
URL:https://www.37degres-mag.fr/event/un-flocon-dans-ma-gorge-cie-jabberwock/
ATTACH;FMTTYPE=image/jpeg:https://www.37degres-mag.fr/wp-content/uploads/2023/01/Capture-3-77gAbl.tmp_.jpg
END:VEVENT
END:VCALENDAR