BEGIN:VCALENDAR
VERSION:2.0
PRODID:-//37° degrés - ECPv6.15.20//NONSGML v1.0//EN
CALSCALE:GREGORIAN
METHOD:PUBLISH
X-ORIGINAL-URL:https://www.37degres-mag.fr
X-WR-CALDESC:Évènements pour 37° degrés
REFRESH-INTERVAL;VALUE=DURATION:PT1H
X-Robots-Tag:noindex
X-PUBLISHED-TTL:PT1H
BEGIN:VTIMEZONE
TZID:Europe/Paris
BEGIN:DAYLIGHT
TZOFFSETFROM:+0100
TZOFFSETTO:+0200
TZNAME:CEST
DTSTART:20220327T010000
END:DAYLIGHT
BEGIN:STANDARD
TZOFFSETFROM:+0200
TZOFFSETTO:+0100
TZNAME:CET
DTSTART:20221030T010000
END:STANDARD
BEGIN:DAYLIGHT
TZOFFSETFROM:+0100
TZOFFSETTO:+0200
TZNAME:CEST
DTSTART:20230326T010000
END:DAYLIGHT
BEGIN:STANDARD
TZOFFSETFROM:+0200
TZOFFSETTO:+0100
TZNAME:CET
DTSTART:20231029T010000
END:STANDARD
BEGIN:DAYLIGHT
TZOFFSETFROM:+0100
TZOFFSETTO:+0200
TZNAME:CEST
DTSTART:20240331T010000
END:DAYLIGHT
BEGIN:STANDARD
TZOFFSETFROM:+0200
TZOFFSETTO:+0100
TZNAME:CET
DTSTART:20241027T010000
END:STANDARD
END:VTIMEZONE
BEGIN:VEVENT
DTSTART;TZID=Europe/Paris:20230120T203000
DTEND;TZID=Europe/Paris:20230120T220000
DTSTAMP:20260420T015904
CREATED:20221012T160215Z
LAST-MODIFIED:20221012T160215Z
UID:10000200-1674246600-1674252000@www.37degres-mag.fr
SUMMARY:Orchestre Symphonique Région Centre Val de Loire – Tours à Avoine
DESCRIPTION:« L’incantatrice\, splendeurs mozartiennes »\nMozart : Ouverture de Don Juan\nMozart : deux airs de concert / instrumental / deux airs de concert\nMozart : Symphonie N°41 Jupiter K 551\nTOUT PUBLIC\nTARIF A : 16€-18€-21€.
URL:https://www.37degres-mag.fr/event/orchestre-symphonique-region-centre-val-de-loire-tours-a-avoine/
ATTACH;FMTTYPE=image/jpeg:https://www.37degres-mag.fr/wp-content/uploads/2022/10/ORCHESTRE-sQXm0C.tmp_.jpg
END:VEVENT
END:VCALENDAR