BEGIN:VCALENDAR
VERSION:2.0
PRODID:-//37° degrés - ECPv6.15.20//NONSGML v1.0//EN
CALSCALE:GREGORIAN
METHOD:PUBLISH
X-WR-CALNAME:37° degrés
X-ORIGINAL-URL:https://www.37degres-mag.fr
X-WR-CALDESC:Évènements pour 37° degrés
REFRESH-INTERVAL;VALUE=DURATION:PT1H
X-Robots-Tag:noindex
X-PUBLISHED-TTL:PT1H
BEGIN:VTIMEZONE
TZID:Europe/Paris
BEGIN:DAYLIGHT
TZOFFSETFROM:+0100
TZOFFSETTO:+0200
TZNAME:CEST
DTSTART:20220327T010000
END:DAYLIGHT
BEGIN:STANDARD
TZOFFSETFROM:+0200
TZOFFSETTO:+0100
TZNAME:CET
DTSTART:20221030T010000
END:STANDARD
BEGIN:DAYLIGHT
TZOFFSETFROM:+0100
TZOFFSETTO:+0200
TZNAME:CEST
DTSTART:20230326T010000
END:DAYLIGHT
BEGIN:STANDARD
TZOFFSETFROM:+0200
TZOFFSETTO:+0100
TZNAME:CET
DTSTART:20231029T010000
END:STANDARD
BEGIN:DAYLIGHT
TZOFFSETFROM:+0100
TZOFFSETTO:+0200
TZNAME:CEST
DTSTART:20240331T010000
END:DAYLIGHT
BEGIN:STANDARD
TZOFFSETFROM:+0200
TZOFFSETTO:+0100
TZNAME:CET
DTSTART:20241027T010000
END:STANDARD
END:VTIMEZONE
BEGIN:VEVENT
DTSTART;TZID=Europe/Paris:20230107T110000
DTEND;TZID=Europe/Paris:20230107T110000
DTSTAMP:20260419T225903
CREATED:20230104T144507Z
LAST-MODIFIED:20230104T144507Z
UID:10000273-1673089200-1673089200@www.37degres-mag.fr
SUMMARY:Mon p'tit doigt m'a dit : l'hiver
DESCRIPTION:L’hiver s’est installé\, les arbres sont nus\, venez vous réchauffer dans la médiathèque au cours d’une lecture des coups de cœurs de l’hiver.\n0-3 ans (non scolarisé) accompagné d’un parent – gratuit
URL:https://www.37degres-mag.fr/event/mon-ptit-doigt-ma-dit-lhiver/
ATTACH;FMTTYPE=image/jpeg:https://www.37degres-mag.fr/wp-content/uploads/2023/01/Mon-ptit-doigt-ma-dit-classique-8BhwCZ.tmp_.jpg
END:VEVENT
END:VCALENDAR