BEGIN:VCALENDAR
VERSION:2.0
PRODID:-//37° degrés - ECPv6.15.20//NONSGML v1.0//EN
CALSCALE:GREGORIAN
METHOD:PUBLISH
X-WR-CALNAME:37° degrés
X-ORIGINAL-URL:https://www.37degres-mag.fr
X-WR-CALDESC:Évènements pour 37° degrés
REFRESH-INTERVAL;VALUE=DURATION:PT1H
X-Robots-Tag:noindex
X-PUBLISHED-TTL:PT1H
BEGIN:VTIMEZONE
TZID:Europe/Paris
BEGIN:DAYLIGHT
TZOFFSETFROM:+0100
TZOFFSETTO:+0200
TZNAME:CEST
DTSTART:20210328T010000
END:DAYLIGHT
BEGIN:STANDARD
TZOFFSETFROM:+0200
TZOFFSETTO:+0100
TZNAME:CET
DTSTART:20211031T010000
END:STANDARD
BEGIN:DAYLIGHT
TZOFFSETFROM:+0100
TZOFFSETTO:+0200
TZNAME:CEST
DTSTART:20220327T010000
END:DAYLIGHT
BEGIN:STANDARD
TZOFFSETFROM:+0200
TZOFFSETTO:+0100
TZNAME:CET
DTSTART:20221030T010000
END:STANDARD
BEGIN:DAYLIGHT
TZOFFSETFROM:+0100
TZOFFSETTO:+0200
TZNAME:CEST
DTSTART:20230326T010000
END:DAYLIGHT
BEGIN:STANDARD
TZOFFSETFROM:+0200
TZOFFSETTO:+0100
TZNAME:CET
DTSTART:20231029T010000
END:STANDARD
END:VTIMEZONE
BEGIN:VEVENT
DTSTART;TZID=Europe/Paris:20221130T183000
DTEND;TZID=Europe/Paris:20221130T203000
DTSTAMP:20260420T015808
CREATED:20221030T170302Z
LAST-MODIFIED:20221030T170302Z
UID:10003622-1669833000-1669840200@www.37degres-mag.fr
SUMMARY:Ecrans Ouverts - Bloody Wednesday
DESCRIPTION:Composé de 4 films et 4 réal.\nWonderland\nLes disjonctés 1\nL’Obscurité\nAzag\, la paroisse du diable \nNovembre\, les jours sont gris. L’occasion de passer une soirée rouge. Le cinéma et ses auteurs ont très vite voulus explorer le genre fantastique. Et de nos jours encore\, les salles obscures\, sont des lieux idéaux pour s’immerger dans l’horreur\, l’irrationnel\, le sanglant…\nVenez à la rencontre de 4 réalisateurs locaux qui ont relevez le défi de vous emmener au de là de la réalité. \nAngoisse\, cauchemar\, action mais du rire aussi bien sûr. Accrochez vous bien à votre bloody Mary !
URL:https://www.37degres-mag.fr/event/ecrans-ouverts-bloody-wednesday-3/
ATTACH;FMTTYPE=:
END:VEVENT
BEGIN:VEVENT
DTSTART;TZID=Europe/Paris:20221130T203000
DTEND;TZID=Europe/Paris:20221130T213000
DTSTAMP:20260420T015808
CREATED:20220807T075831Z
LAST-MODIFIED:20220807T075831Z
UID:10001154-1669840200-1669843800@www.37degres-mag.fr
SUMMARY:Spectacle - Boris Charmatz\, "Somnole"
DESCRIPTION:Simplement accompagné et soutenu par son souffle\, ses sifflements et les bruits de son corps en mouvement\, Boris Charmatz nous convie avec ce solo à une émouvante célébration de l’intime. \n60 min.\nSalle Thélème (co-accueil)\nRéservations auprès du CCNT ou du service culturel de l’Université de Tours\nborischarmatz.org \nInformations complémentaires : https://www.ccntours.com/saison
URL:https://www.37degres-mag.fr/event/spectacle-boris-charmatz-somnole-2/
ATTACH;FMTTYPE=:
END:VEVENT
BEGIN:VEVENT
DTSTART;TZID=Europe/Paris:20221130T203000
DTEND;TZID=Europe/Paris:20221130T233000
DTSTAMP:20260420T015808
CREATED:20221030T170331Z
LAST-MODIFIED:20221030T170331Z
UID:10003589-1669840200-1669851000@www.37degres-mag.fr
SUMMARY:BRNS
DESCRIPTION:Si vous les avez raté aux Rockomotives en ce mois d’Octobre 2022\, vous avez une seconde chance de retrouver sur scène les Belges de BRNS\, qui après plus de 10 ans d’activisme aux avant-postes du rock indépendant\, n’ont plus de scrupules à dynamiter les frontières entre les genres. Farouchement indépendant\, le groupe s’est taillé une solide réputation de scène et nous ne pouvons que chaudement vous recommander de ne pas passer à côté de leur retour en touraine !
URL:https://www.37degres-mag.fr/event/brns-2/
ATTACH;FMTTYPE=:
END:VEVENT
BEGIN:VEVENT
DTSTART;TZID=Europe/Paris:20221201T200000
DTEND;TZID=Europe/Paris:20221201T230000
DTSTAMP:20260420T015808
CREATED:20221109T210030Z
LAST-MODIFIED:20221109T210030Z
UID:10000247-1669924800-1669935600@www.37degres-mag.fr
SUMMARY:JEUDI SLAM
DESCRIPTION:La Meute Slam s’associe à nouveau avec le Bateau ivre pour vous proposer une scène ouverte aux poètes tous les mois. Le principe est simple\, vous venez sur scène pour dire votre texte\, sans costumes ni déguisements. Vous avez 3 minutes sans musique et avec ou sans notes du public (format tournoi ou pas\, c’est vous qui choisissez la formule en montant sur la scène). et évidement c’est du partage\, de l’échange\, du rire\, de l’émotion\, de l’écoute\, du respect. Le gagnant de la scène repartira avec le trésor des pirates du slam.
URL:https://www.37degres-mag.fr/event/jeudi-slam-2/
ATTACH;FMTTYPE=image/jpeg:https://www.37degres-mag.fr/wp-content/uploads/2022/11/AFFICHE-Slam-dEkNKp.tmp_.jpg
END:VEVENT
BEGIN:VEVENT
DTSTART;TZID=Europe/Paris:20221203T180000
DTEND;TZID=Europe/Paris:20221203T233000
DTSTAMP:20260420T015808
CREATED:20221109T230030Z
LAST-MODIFIED:20221109T230030Z
UID:10000248-1670090400-1670110200@www.37degres-mag.fr
SUMMARY:Back to 1999
DESCRIPTION:LA PETITE MÉCHANTE #2\nÀ l’époque on portait du Come8\, du Homecore\, du Royalwear qu’on allait tous choper au Temple et\, sur la route dans les walkmans ça écoutait Moob Deep à s’en rendre sourd\, The Roots\, Triptik\, Mf doom\, Three 6 mafia\, Fabe\, X-men\, Hurricane G\, Wu tang Clan\, Lunatic… Dans les quartiers c’était « Le code de l’honneur »\, on se refilait les Mixtapes Bombattak sous le manteau & « Angela » dansait dans toutes les soirées du centre-ville. En 99 si on voulait de la méchante sape c’était à la boutique de Raphy & Franck (Les Chipsters Breakers) qu’il fallait traîner car\, c’est seulement là-bas que l’on pouvait trouver ces fringues qu’il n’y avait vraiment nulle part ailleurs. Il y avait vraiment toute la street-canaillerie de l’époque : c’était le point de ralliement de toute une jeunesse à contre-courant. On pouvait y voir DJ Nicolson\, Biga*Ranx\, Chill Bump\, Renar (pour ne citer qu’eux)\, rappeurs \,dj’s\, skateurs\, b-boys\, beat-makers\, la véritable Place To Be !\nPour cette seconde édition de « la petite méchante » c’est dans cette boutique que l’on veut vous ramener\, en un genre d’hommage\, là où tant d’artistes ont émergé. Enfilez votre meilleur Kangol\, votre sweat-shirt Com8 ou Royal wear\,votre veste Homecore \,votre paire de Jordan abîmée que vous nettoyiez avec une brosse à dent\, la petite chaînette que vous gardez pour les grandes occasions et ouvrez les portes du Bateau ivre c’est : Back to 99’s pour une Méchante soirée !
URL:https://www.37degres-mag.fr/event/back-to-1999/
ATTACH;FMTTYPE=image/jpeg:https://www.37degres-mag.fr/wp-content/uploads/2022/11/AFFICHE-Back-to-1999-dVGyTO.tmp_.jpg
END:VEVENT
BEGIN:VEVENT
DTSTART;TZID=Europe/Paris:20221203T200000
DTEND;TZID=Europe/Paris:20221203T220000
DTSTAMP:20260420T015808
CREATED:20221130T134148Z
LAST-MODIFIED:20221130T134148Z
UID:10000258-1670097600-1670104800@www.37degres-mag.fr
SUMMARY:Spectacle Haut Les Cœurs Téléthon
DESCRIPTION:Notre association Une Histoire de Cœur a pour but tous les ans\, le temps de spectacles placés sous le signe du rire et de l’émotion\, de récolter des dons (financier ou en nature) en faveur du TELETHON et au profit de celui-ci. Contrer la maladie en créant du rire\, de la joie et des paillettes dans les yeux\, c’est notre souhait et notre façon de faire.\nL’investissement des bénévoles auprès de cette cause est très fort car la troupe ne joue qu’à cette occasion et n’a d’existence réelle qu’à cette époque de l’année.\n \nUne Histoire de Cœur\nPrésente\nHAUT LES COEURS\nCette année encore\, on se mobilise à notre manière pour récolter des fonds au profit du TELETHON\nDe 12h à 19h (entrée libre)\, de nombreuses animations avec des ateliers danses\, vente de couscous\, pâtisseries\, boissons\, tombola.\nSi le spectacle est vivant\, c’est parce qu’un public est là pour le lui rappeler : une affirmation qui prend tout son sens dans le cas de notre nouveau spectacle.\n \nDonc de 20h à 22h (entrée payante)\, 2h de spectacle en notre compagnie avec des instants magiques\, impressionnants et humoristique…\nVenez assister à un spectacle avec un groupe exceptionnel de gospel\, de la magie\, un clown et danse …\nUn spectacle pétillant\, interactif\, coloré\, joyeux et drôle\nToutes les entrées et recettes du nouveau spectacle seront reversées entièrement.\nRenseignements complémentaires :\nTarifs : 7€/enfant et 10€/adulte\nAccès handicapés\nRéservation en ligne :\nhttps://www.helloasso.com/associations/une-histoire-de-coeur/evenements/haut-les-coeurs\nOu email ou téléphone\nLieu de la manifestation :\nCentre de vie du Sanitas\, 10 Place Neuve – 37000 TOURS\nSite internet :  https://www.facebook.com/events/1526356224504305\nEmail : 1histoiredecoeur@gmail.com\nTéléphone : 06.47.54.32.78
URL:https://www.37degres-mag.fr/event/spectacle-haut-les-coeurs-telethon/
END:VEVENT
BEGIN:VEVENT
DTSTART;TZID=Europe/Paris:20221204T170000
DTEND;TZID=Europe/Paris:20221204T200000
DTSTAMP:20260420T015808
CREATED:20221021T191536Z
LAST-MODIFIED:20221021T191536Z
UID:10000218-1670173200-1670184000@www.37degres-mag.fr
SUMMARY:La femme en rouge
DESCRIPTION:La Femme en Rouge Performance par la compagnie Le Rêve à l’Envers est un choc émotionnel et visuel qui se met au service de la lutte contre les violences faites aux femmes. Sur scène trois artistes : La comédienne auteure Pascale Sueur\, Topaz au Street Art et Yann Beaujouan à la guitare. Il est exceptionnel de voir un graffeur créé une œuvre sur scène. La toile sera vendue au profit de France Victimes 37. Échange et rencontre avec les artistes après la représentation. Ne manquez pas cette performance rare et laissez vous emporter par la force de ce spectacle.
URL:https://www.37degres-mag.fr/event/la-femme-en-rouge/
ATTACH;FMTTYPE=image/jpeg:https://www.37degres-mag.fr/wp-content/uploads/2022/10/AFFICHE-La-Femme-en-rouge-ObswAE.tmp_.jpg
END:VEVENT
END:VCALENDAR