BEGIN:VCALENDAR
VERSION:2.0
PRODID:-//37° degrés - ECPv6.15.20//NONSGML v1.0//EN
CALSCALE:GREGORIAN
METHOD:PUBLISH
X-WR-CALNAME:37° degrés
X-ORIGINAL-URL:https://www.37degres-mag.fr
X-WR-CALDESC:Évènements pour 37° degrés
REFRESH-INTERVAL;VALUE=DURATION:PT1H
X-Robots-Tag:noindex
X-PUBLISHED-TTL:PT1H
BEGIN:VTIMEZONE
TZID:Europe/Helsinki
BEGIN:DAYLIGHT
TZOFFSETFROM:+0200
TZOFFSETTO:+0300
TZNAME:EEST
DTSTART:20220327T010000
END:DAYLIGHT
BEGIN:STANDARD
TZOFFSETFROM:+0300
TZOFFSETTO:+0200
TZNAME:EET
DTSTART:20221030T010000
END:STANDARD
BEGIN:DAYLIGHT
TZOFFSETFROM:+0200
TZOFFSETTO:+0300
TZNAME:EEST
DTSTART:20230326T010000
END:DAYLIGHT
BEGIN:STANDARD
TZOFFSETFROM:+0300
TZOFFSETTO:+0200
TZNAME:EET
DTSTART:20231029T010000
END:STANDARD
BEGIN:DAYLIGHT
TZOFFSETFROM:+0200
TZOFFSETTO:+0300
TZNAME:EEST
DTSTART:20240331T010000
END:DAYLIGHT
BEGIN:STANDARD
TZOFFSETFROM:+0300
TZOFFSETTO:+0200
TZNAME:EET
DTSTART:20241027T010000
END:STANDARD
END:VTIMEZONE
BEGIN:VTIMEZONE
TZID:Europe/Paris
BEGIN:DAYLIGHT
TZOFFSETFROM:+0100
TZOFFSETTO:+0200
TZNAME:CEST
DTSTART:20220327T010000
END:DAYLIGHT
BEGIN:STANDARD
TZOFFSETFROM:+0200
TZOFFSETTO:+0100
TZNAME:CET
DTSTART:20221030T010000
END:STANDARD
BEGIN:DAYLIGHT
TZOFFSETFROM:+0100
TZOFFSETTO:+0200
TZNAME:CEST
DTSTART:20230326T010000
END:DAYLIGHT
BEGIN:STANDARD
TZOFFSETFROM:+0200
TZOFFSETTO:+0100
TZNAME:CET
DTSTART:20231029T010000
END:STANDARD
BEGIN:DAYLIGHT
TZOFFSETFROM:+0100
TZOFFSETTO:+0200
TZNAME:CEST
DTSTART:20240331T010000
END:DAYLIGHT
BEGIN:STANDARD
TZOFFSETFROM:+0200
TZOFFSETTO:+0100
TZNAME:CET
DTSTART:20241027T010000
END:STANDARD
END:VTIMEZONE
BEGIN:VEVENT
DTSTART;TZID=Europe/Helsinki:20231106T080000
DTEND;TZID=Europe/Helsinki:20231106T170000
DTSTAMP:20260424T134849
CREATED:20231106T140222Z
LAST-MODIFIED:20231106T140225Z
UID:10003761-1699257600-1699290000@www.37degres-mag.fr
SUMMARY:HEURE DU CONTE - Compagnie Prométhéâtre
DESCRIPTION:Laure va retrouver avec plaisir les enfants pour cette quatrième heure du conte et lira des histoires tirées d’albums POP’UPS \n\n\n\nProchaine lecture le samedi 16 Décembre à 16 heures ! \n\n\n\n1 Rendez-vous incontournable ouvert à tous\, petits et grands pour un moment d’évasion dans l’imaginaire offert par le PLLL \n\n\n\nSalle aux arbres bleus – 1er étage – au PLLL \n\n\n\nEntrée libre et gratuite
URL:https://www.37degres-mag.fr/event/heure-du-conte-compagnie-prometheatre-3/
LOCATION:PLLL – 86bis rue Georges Courteline\, PLLL - 86bis rue Georges Courteline\, Tours\, 37000
ATTACH;FMTTYPE=image/jpeg:https://www.37degres-mag.fr/wp-content/uploads/2023/11/GjmjNHI7drvx-IMG_20211218_155423-scaled.jpg
END:VEVENT
BEGIN:VEVENT
DTSTART;TZID=Europe/Helsinki:20231109T190000
DTEND;TZID=Europe/Helsinki:20231109T193000
DTSTAMP:20260424T134849
CREATED:20230928T072244Z
LAST-MODIFIED:20230928T072246Z
UID:10003749-1699556400-1699558200@www.37degres-mag.fr
SUMMARY:Déverrouillez les secrets de la créativité ! Conférence-ateliers sur la créativité et les neurosciences le 9 novembre à Tours
DESCRIPTION:L’association CréaCentre et Anais Roux\, experte des neurosciences et créatrice du podcast et livre Neurosapiens\, apporteront l’éclairage des neurosciences pour « Déverrouiller les secrets de la créativité »Nous découvrirons comment notre cerveau produit des idées et nous croiserons les apports théoriques des neurosciences avec des mises en pratiques ludiques. Clôturé par un cocktail.
URL:https://www.37degres-mag.fr/event/deverrouillez-les-secrets-de-la-creativite-conference-ateliers-sur-la-creativite-et-les-neurosciences-le-9-novembre-a-tours/
LOCATION:Les Halles de Tours – Porte B – 1er étage – Salle Paul Tixier
ATTACH;FMTTYPE=image/jpeg:https://www.37degres-mag.fr/wp-content/uploads/2023/09/tFRdBwe2mAz6-Affiche-Rubik-RS.jpg
END:VEVENT
BEGIN:VEVENT
DTSTART;TZID=Europe/Paris:20231110T200000
DTEND;TZID=Europe/Paris:20231110T200000
DTSTAMP:20260424T134849
CREATED:20230501T073608Z
LAST-MODIFIED:20230501T073608Z
UID:10003700-1699646400-1699646400@www.37degres-mag.fr
SUMMARY:Marc-Antoine Le Bret
DESCRIPTION:Marc-Antoine Le Bret revient avec un nouveau spectacle : SOLO \nToujours seul sur scène\, mais avec une centaine de voix et de nouveaux sketchs. \nDans ce spectacle vous aurez un petit aperçu de ce qui pourrait arriver si le monde tournait à l’envers… \nC’est le spectacle d’après la fin du monde\, avant la fin du monde ! En bien plus drôle ! \nMarc-Antoine Le Bret est peut-être un imitateur\, mais quitte à aller voir une copie\, autant aller voir l’original !
URL:https://www.37degres-mag.fr/event/marc-antoine-le-bret-2/
ATTACH;FMTTYPE=:
END:VEVENT
BEGIN:VEVENT
DTSTART;TZID=Europe/Paris:20231110T200000
DTEND;TZID=Europe/Paris:20231110T220000
DTSTAMP:20260424T134849
CREATED:20221030T170013Z
LAST-MODIFIED:20221030T170013Z
UID:10002814-1699646400-1699653600@www.37degres-mag.fr
SUMMARY:M Pokora
DESCRIPTION:Epicentre Tour\nMatt Pokora repart en tournée en 2023 pour un show grandiose à l’occasion de ses 20 ans de carrière et de ses innombrables tubes. Scénographie techno-futuriste\, effets spéciaux hallucinants\, enchaînement sans reprise de souffle : chacune de ses tournées est incontournable. \nAprès Pyramide\, aux allures de peplum\, évoquant l’élan créateur et le dépassement des limites physiques\, Matt Pokora revient ici avec un show encore plus incroyable\, brassant des émotions puissantes. Puisant dans son parcours personnel (le couple\, la paternité\, l’amitié\,…)\, l’artiste revient finalement à l’essence de l’être humain et à ce qui le lie à ses alter ego. \nMatt Pokora est l’artiste français réputé pour ses performances scéniques ultra techniques\, garantissant un show spectaculaire à ses fans. Entouré de ses danseurs et de ses musiciens\, Matt Pokora ramène sur scène une densité quasi magnétique et ajoute une nouvelle et sublime facette à son personnage. Avec la scène de l’Épicentre tour\, Matt Pokora vient chercher l’énergie au cœur du public.
URL:https://www.37degres-mag.fr/event/m-pokora-2-4/
ATTACH;FMTTYPE=:
END:VEVENT
BEGIN:VEVENT
DTSTART;TZID=Europe/Helsinki:20231111T100000
DTEND;TZID=Europe/Helsinki:20231111T170000
DTSTAMP:20260424T134849
CREATED:20231016T134602Z
LAST-MODIFIED:20231016T134604Z
UID:10003757-1699696800-1699722000@www.37degres-mag.fr
SUMMARY:Festival des Vins de Touraine 2023
DESCRIPTION:Rendez-vous au Festival des Vins de Touraine 2023 ! Au programme : un village vigneron avec 32 domaines et caves présents\, 6 ateliers culinaires avec chefs et producteurs locaux\, 2 ateliers de dégustation de vin en pleine conscience\, une table ronde sur l’Histoire des vins de l’AOC Touraine\, une exposition photo\, un photobooth\, un stand d’huitres\, 2 foodtrucks\, jeux de piste pour enfants. Gratuit.
URL:https://www.37degres-mag.fr/event/festival-des-vins-de-touraine-2023/
LOCATION:Prieuré Saint Cosme\, rue Ronsard\, Prieuré Saint Cosme\, rue Ronsard\, La Riche\, 37520
ATTACH;FMTTYPE=image/jpeg:https://www.37degres-mag.fr/wp-content/uploads/2023/10/xsJb56Y1IozU-AOCtouraine-Affiche40x60_2023-avec-bandeau-partenaires.jpg
END:VEVENT
BEGIN:VEVENT
DTSTART;TZID=Europe/Paris:20231115T200000
DTEND;TZID=Europe/Paris:20231115T200000
DTSTAMP:20260424T134849
CREATED:20230501T073548Z
LAST-MODIFIED:20230501T073548Z
UID:10003120-1700078400-1700078400@www.37degres-mag.fr
SUMMARY:Patrick Timsit
DESCRIPTION:« Adieu… peut-être. Merci…c’est sûr. » Un spectacle d’adieu.\nPlutôt que de quitter mon public par sms\, j’ai préféré le faire avec un spectacle.\n35 ans qu’on se fréquente\, c’était la moindre des choses.\nAu départ\, j’ai pensé faire un best of de mes sketchs\, pensant que mon public serait heureux de les entendre\, et moi ravi de les jouer.\nEnsuite je me suis dit «il faudrait faire 2 ou 3 choses nouvelles… mais comme je suis gourmand\, j’en ai rajouté… et de petites choses nouvelles en petites choses nouvelles : ça a donné un nouveau spectacle. \nFaire un dernier show pour dire adieu à son public\, visiblement\, c’est très inspirant.\nEt comme c’est le dernier\, moi qui étais un peu timide dans les spectacles précédents\, forcément\, je me suis un peu lâché…\nMes adieux sont vrais. Mais je n’ai qu’une envie\, c’est qu’en sortant de la salle… personne ne me croie !\nDix bonnes raisons d’arrêter et puis s’en va. \nAdieu… peut-être. \nMais… \nMerci… c’est sûr
URL:https://www.37degres-mag.fr/event/patrick-timsit-4/
ATTACH;FMTTYPE=:
END:VEVENT
BEGIN:VEVENT
DTSTART;TZID=Europe/Helsinki:20231118T100000
DTEND;TZID=Europe/Helsinki:20231119T170000
DTSTAMP:20260424T134849
CREATED:20231009T085042Z
LAST-MODIFIED:20231009T085106Z
UID:10003752-1700301600-1700413200@www.37degres-mag.fr
SUMMARY:Salon vintage de la case à fripes
DESCRIPTION:3 ème édition du SALON VINTAGE organisé par l’association « La Case à Fripes » au Waza le 18&19 novembre en plein centre de Tours avec une quinzaine d’exposants professionnels du vintage\, pour débuter comme il se doit l’hiver \n\n\n\nC’est le RDV incontournable tourangeaux pour tout les passionnés de vintage&seconde main\, en quête de pièces uniques et originales\,soucieux d’une consommation raisonnée!
URL:https://www.37degres-mag.fr/event/salon-vintage-de-la-case-a-fripes/
ATTACH;FMTTYPE=image/jpeg:https://www.37degres-mag.fr/wp-content/uploads/2023/10/JT9RqRiryxgZ-Affiche-3-scaled.jpg
END:VEVENT
BEGIN:VEVENT
DTSTART;TZID=Europe/Helsinki:20231118T140000
DTEND;TZID=Europe/Helsinki:20231118T170000
DTSTAMP:20260424T134849
CREATED:20231106T135638Z
LAST-MODIFIED:20231106T135642Z
UID:10003760-1700316000-1700326800@www.37degres-mag.fr
SUMMARY:Rencontres Entr'étudiant.e.s
DESCRIPTION:Rendez-vous le Samedi 18 novembre de 14h à 17h pour rencontrer des associations et des structures qui peuvent te donner un coup de pouce ! \n\n\n\nAU PROGRAMME : Animations\, Jeux\, Informations\, Sacs de tri gratuits à disposition grâce à Tours Métropole\, Distribution de fruits et légumes par les cœurs de Yolene…DE NOMBREUSES STRUCTURES ET ASSOCIATIONS PRÉSENTES : Resto du cœur Les cœurs de Yolene…
URL:https://www.37degres-mag.fr/event/rencontres-entretudiant-e-s/
ATTACH;FMTTYPE=image/jpeg:https://www.37degres-mag.fr/wp-content/uploads/2023/11/mPBLumEaYZ9Z-Post-FB-Rencontres-etudiant.e.s.jpg
END:VEVENT
BEGIN:VEVENT
DTSTART;TZID=Europe/Paris:20231118T200000
DTEND;TZID=Europe/Paris:20231118T200000
DTSTAMP:20260424T134849
CREATED:20230501T073538Z
LAST-MODIFIED:20230501T073538Z
UID:10003106-1700337600-1700337600@www.37degres-mag.fr
SUMMARY:David Voinson
DESCRIPTION:Malgré son air sûr de lui\, David se demande s’il ne rate pas l’essentiel. Profiter de sa vie de célibataire ou trouver le grand amour ?\nSans cesse à la croisée des chemins\, il explore au fil du spectacle\, les contradictions de sa génération. Il manie avec humour son rapport au monde et aux autres à travers ses potes\, les soirées\, sa famille mais surtout les filles. Comment leur plaire ? Comment les comprendre ? Comment ne pas passer pour un gros charo ? C’est le dilemme qu’il entretient.\nA seulement 25 ans\, il est la star montante de l’humour et accumule des millions d’abonnés et de vues sur les réseaux\, où son personnage de la blonde est déjà culte.\nN’attendez plus\, et foncez voir le premier spectacle de David Voinson !
URL:https://www.37degres-mag.fr/event/david-voinson-4/
ATTACH;FMTTYPE=:
END:VEVENT
BEGIN:VEVENT
DTSTART;TZID=Europe/Helsinki:20231125T090000
DTEND;TZID=Europe/Helsinki:20231125T120000
DTSTAMP:20260424T134849
CREATED:20231108T155225Z
LAST-MODIFIED:20231114T075129Z
UID:10003762-1700902800-1700913600@www.37degres-mag.fr
SUMMARY:Journée Portes Ouvertes Collège Sacré Cœur
DESCRIPTION:Le Collège Sacré Cœur vous ouvre ses portes samedi 25 novembre 2023 de 9h à 12h (RDV au 47rue JJ Noirmant à Tours).Rendez-vous conseillé pour une rencontre personnalisée par un enseignant avec chaque famille.Pour les Ecoles Sacré Coeur et Sainte Famille\, deux journées Portes Ouvertes sont prévues lesamedi 27 janvier 2024 et le 23 mars 2024 mais vous pouvez dès à présent prendre rendez-vousavec la Cheffe d’établissement des écoles.
URL:https://www.37degres-mag.fr/event/journee-portes-ouvertes-college-sacre-coeur/
LOCATION:Collège Sacré Cœur\, 47 rue JJ Noirmant\, Tours\, 37000\, France
ATTACH;FMTTYPE=image/png:https://www.37degres-mag.fr/wp-content/uploads/2023/11/Ensemble-Sacre-Coeur-JPO-25-novembre.png
END:VEVENT
BEGIN:VEVENT
DTSTART;TZID=Europe/Helsinki:20231125T170000
DTEND;TZID=Europe/Helsinki:20231125T170000
DTSTAMP:20260424T134849
CREATED:20231009T085516Z
LAST-MODIFIED:20231009T085518Z
UID:10003754-1700931600-1700931600@www.37degres-mag.fr
SUMMARY:HEURE DU CONTE
DESCRIPTION:La comédienne Laure Mandraud viendra lire aux enfants entre 4 et 10 ans des histoires originales\, drôles\, tendres placées sous le signe de l’humour et de la poésie. \n\n\n\nUn rendez-vous incontournable ouvert à tous pour un moment d’évasion dans l’imaginaire offert par le PLLL (Patronage Laïc LaRiche Lamartine) \n\n\n\nPLLL – Salle aux arbres bleus – 1er étage \n\n\n\nEntrée libre et gratuite
URL:https://www.37degres-mag.fr/event/heure-du-conte/
LOCATION:PLLL – 86bis rue Georges Courteline\, PLLL - 86bis rue Georges Courteline\, Tours\, 37000
ATTACH;FMTTYPE=image/jpeg:https://www.37degres-mag.fr/wp-content/uploads/2023/10/9dGjzMrzXRUF-photo-ballon.jpg
END:VEVENT
BEGIN:VEVENT
DTSTART;TZID=Europe/Helsinki:20231125T203000
DTEND;TZID=Europe/Helsinki:20231125T210000
DTSTAMP:20260424T134849
CREATED:20230919T112225Z
LAST-MODIFIED:20230919T112227Z
UID:10003740-1700944200-1700946000@www.37degres-mag.fr
SUMMARY:Ijsberg
DESCRIPTION:La Terre est fatiguée. Elle a décidé de prendre un peu de repos. De son sommeil va naître un hiver pas comme les autres. Trois individus que tout semble opposer se rencontrent dans un « no man’s land » aussi doux que brutal. Une fable glaciaire conjuguée au futur et au passé\, qui nous invite à nous interroger avec humour et espièglerie sur notre rapport à la nature.
URL:https://www.37degres-mag.fr/event/ijsberg/
ATTACH;FMTTYPE=image/webp:https://www.37degres-mag.fr/wp-content/uploads/2023/09/Njix5ElrxUiL-Illustration-dessin-IJSBERG.webp
END:VEVENT
END:VCALENDAR