BEGIN:VCALENDAR
VERSION:2.0
PRODID:-//37° degrés - ECPv6.15.20//NONSGML v1.0//EN
CALSCALE:GREGORIAN
METHOD:PUBLISH
X-WR-CALNAME:37° degrés
X-ORIGINAL-URL:https://www.37degres-mag.fr
X-WR-CALDESC:Évènements pour 37° degrés
REFRESH-INTERVAL;VALUE=DURATION:PT1H
X-Robots-Tag:noindex
X-PUBLISHED-TTL:PT1H
BEGIN:VTIMEZONE
TZID:Europe/Helsinki
BEGIN:DAYLIGHT
TZOFFSETFROM:+0200
TZOFFSETTO:+0300
TZNAME:EEST
DTSTART:20220327T010000
END:DAYLIGHT
BEGIN:STANDARD
TZOFFSETFROM:+0300
TZOFFSETTO:+0200
TZNAME:EET
DTSTART:20221030T010000
END:STANDARD
BEGIN:DAYLIGHT
TZOFFSETFROM:+0200
TZOFFSETTO:+0300
TZNAME:EEST
DTSTART:20230326T010000
END:DAYLIGHT
BEGIN:STANDARD
TZOFFSETFROM:+0300
TZOFFSETTO:+0200
TZNAME:EET
DTSTART:20231029T010000
END:STANDARD
BEGIN:DAYLIGHT
TZOFFSETFROM:+0200
TZOFFSETTO:+0300
TZNAME:EEST
DTSTART:20240331T010000
END:DAYLIGHT
BEGIN:STANDARD
TZOFFSETFROM:+0300
TZOFFSETTO:+0200
TZNAME:EET
DTSTART:20241027T010000
END:STANDARD
END:VTIMEZONE
BEGIN:VTIMEZONE
TZID:Europe/Paris
BEGIN:DAYLIGHT
TZOFFSETFROM:+0100
TZOFFSETTO:+0200
TZNAME:CEST
DTSTART:20220327T010000
END:DAYLIGHT
BEGIN:STANDARD
TZOFFSETFROM:+0200
TZOFFSETTO:+0100
TZNAME:CET
DTSTART:20221030T010000
END:STANDARD
BEGIN:DAYLIGHT
TZOFFSETFROM:+0100
TZOFFSETTO:+0200
TZNAME:CEST
DTSTART:20230326T010000
END:DAYLIGHT
BEGIN:STANDARD
TZOFFSETFROM:+0200
TZOFFSETTO:+0100
TZNAME:CET
DTSTART:20231029T010000
END:STANDARD
BEGIN:DAYLIGHT
TZOFFSETFROM:+0100
TZOFFSETTO:+0200
TZNAME:CEST
DTSTART:20240331T010000
END:DAYLIGHT
BEGIN:STANDARD
TZOFFSETFROM:+0200
TZOFFSETTO:+0100
TZNAME:CET
DTSTART:20241027T010000
END:STANDARD
END:VTIMEZONE
BEGIN:VEVENT
DTSTART;TZID=Europe/Helsinki:20230903T073000
DTEND;TZID=Europe/Helsinki:20230903T170000
DTSTAMP:20260424T111437
CREATED:20230821T134327Z
LAST-MODIFIED:20230821T134327Z
UID:10003737-1693726200-1693760400@www.37degres-mag.fr
SUMMARY:Marche caritative
DESCRIPTION:Les maladies rares sont encore trop souvent les grandes oubliées de la recherche médicale. Et le syndrome de Prader-Willi ne fait pas exception. \n\n\n\nPour sensibiliser et apporter du soutien à la recherche \, une marche est organisée dimanche 3 septembre 2023 à Beaumont-Louestault. \n\n\n\nMontant d’inscription libre et déductible d’impôt. \n\n\n\nAlors\, n’attendez pas pour en parler autour de vous.
URL:https://www.37degres-mag.fr/event/marche-caritative/
ATTACH;FMTTYPE=:
END:VEVENT
BEGIN:VEVENT
DTSTART;TZID=Europe/Helsinki:20230903T100000
DTEND;TZID=Europe/Helsinki:20230903T233000
DTSTAMP:20260424T111437
CREATED:20230801T153133Z
LAST-MODIFIED:20230801T153133Z
UID:10003726-1693735200-1693783800@www.37degres-mag.fr
SUMMARY:Les Foulées Gourmandes d'Effiat
DESCRIPTION:Le dimanche 3 septembreUne première qui ne demande qu’à se renouveler !Une grande journée conviviale qui allie running pour petits et grands\, farandole de foodtruck\, concerts et animations sur le site du Parc à Cinq Mars la Pile.Entrée libre sauf inscriptions pour les courses → https://les-foulees-gourmandes-deffiat.ikinoa.com/Organisé par la Ville de Cinq Mars la Pile
URL:https://www.37degres-mag.fr/event/les-foulees-gourmandes-deffiat/
ATTACH;FMTTYPE=:
END:VEVENT
BEGIN:VEVENT
DTSTART;TZID=Europe/Helsinki:20230908T190000
DTEND;TZID=Europe/Helsinki:20230908T230000
DTSTAMP:20260424T111437
CREATED:20230818T075454Z
LAST-MODIFIED:20230818T075454Z
UID:10003728-1694199600-1694214000@www.37degres-mag.fr
SUMMARY:Festival Jazz en Touraine
DESCRIPTION:Le festival Jazz en Touraine revient pour une 37ème édition ! C’est un événement annuel qui met en avant la musique jazz dans la magnifique région de la Touraine. Très apprécié des amateurs de jazz\, il se déroule sur 10 jours à Montlouis-sur-Loire et dans les 17 communes partenaires. Il vous propose une programmation riche et variée\, allant des artistes émergents aux légendes du jazz\, pour vous offrir une véritable expérience musicale. \n\n\n\nAu programme du IN :– Au Magic Mirror à 19h\, le groupe « March Mallow »– A l’Espace Ligéria à 21h : « Fred Wesley and the new JB’S ». \n\n\n\nAu programme du OFF :– Au village gourmand du Festival de Montlouis\, à 19h15\, « Swing Family » – A Noisay\, Square Françis Poulenc à 18h30\, »Joan Minor »– A Véretz\, Salle Eugène Bizeau\, à 20h30\, « Time’s »– A la Ville-aux-Dames au Camping Les Acacias\, à 21h\, « Melkoni Project » \n\n\n\nRetrouvez toute la programmation et le descriptif des groupes sur le site : https://www.jazzentouraine.com/
URL:https://www.37degres-mag.fr/event/festival-jazz-en-touraine-2/
ATTACH;FMTTYPE=:
END:VEVENT
BEGIN:VEVENT
DTSTART;TZID=Europe/Helsinki:20230909T190000
DTEND;TZID=Europe/Helsinki:20230909T233000
DTSTAMP:20260424T111437
CREATED:20230818T151020Z
LAST-MODIFIED:20230818T151020Z
UID:10003729-1694286000-1694302200@www.37degres-mag.fr
SUMMARY:Festival Jazz en Touraine
DESCRIPTION:Le festival Jazz en Touraine revient pour une 37ème édition ! C’est un événement annuel qui met en avant la musique jazz dans la magnifique région de la Touraine. Très apprécié des amateurs de jazz\, il se déroule sur 10 jours à Montlouis-sur-Loire et dans les 17 communes partenaires. Il vous propose une programmation riche et variée\, allant des artistes émergents aux légendes du jazz\, pour vous offrir une véritable expérience musicale. \n\n\n\nAu programme du IN (Montlouis-sur-Loire) :– Au Magic Mirror à 19h\, le groupe « The Buttshakers »– A l’Espace Ligéria à 20h30h : « Divas du Jazz  » et à 22h15 : « Toku European All Stars » \n\n\n\nAu programme du OFF :– Au village gourmand du Festival de Montlouis\, à 15h30\, « Joan Minor ». A 17h15 : « Soul Jazz Rebels » et à 19h : « Mackand the Keystones »– A Chisseaux\, Salle Saint-Vincent à 18h : « Swing Family »– A Reugny\, La Grand’ Prée à 18h : « Kicca » \n\n\n\nRetrouvez toute la programmation et la présentation des artistes sur le site : \n\n\n\nhttps://www.jazzentouraine.com/
URL:https://www.37degres-mag.fr/event/festival-jazz-en-touraine-2-2/
ATTACH;FMTTYPE=:
END:VEVENT
BEGIN:VEVENT
DTSTART;TZID=Europe/Paris:20230910T100000
DTEND;TZID=Europe/Paris:20230910T170000
DTSTAMP:20260424T111437
CREATED:20230704T065042Z
LAST-MODIFIED:20230704T065042Z
UID:10001809-1694340000-1694365200@www.37degres-mag.fr
SUMMARY:Rétro-Fête "Fête du Battage"\, Cité Rétro-Mécanique Maurice Dufresne
DESCRIPTION:C’est avec un très grand plaisir que l’équipe du Musée Maurice Dufresne souhaite vous annonce la tenue de son grand évènement annuel le Dimanche 10 septembre 2023 et serait ravi de vous accueillir à nouveau !  \nCette édition de notre RÉTRO-FÊTE sera cette année encore notre traditionnelle FÊTE DU BATTAGE !\nTout au long de cette journée\, nous vous ferons découvrire les métiers d’autrefois. En famille\, vous pourrez ainsi admirer le travail remarquable des artisans : débardage\, battage\, fabrication du beurre\, de la farine\, du jus de pomme\, de la corde et maniement de la forge\, etc.\nActivités familiales\, ambiance musicale\, repas champêtre\, rassemblement de tracteurs anciens « Beau comme un Tracteur » et de mobylettes « Mobylette de Compet' »\, exposants rétro/vintage & produits locaux viendront compléter ces démonstrations. \nLe Parc & les Animations sont en accès libre / La visite du musée sera aux tarifs habituels du musée. \nN’hésitez pas à nous contacter si vous souhaitez exposer ce jour-là\, en tant qu’exposant de produits locaux & vintages ou en tant qu’exposant de Tracteurs anciens & Mobylettes à : resa@musee-dufresne.com ou par téléphone au 02 47 45 36 18.
URL:https://www.37degres-mag.fr/event/retro-fete-fete-du-battage-cite-retro-mecanique-maurice-dufresne/
ATTACH;FMTTYPE=:
END:VEVENT
BEGIN:VEVENT
DTSTART;TZID=Europe/Helsinki:20230910T113000
DTEND;TZID=Europe/Helsinki:20230910T233000
DTSTAMP:20260424T111437
CREATED:20230818T151722Z
LAST-MODIFIED:20230818T151722Z
UID:10003730-1694345400-1694388600@www.37degres-mag.fr
SUMMARY:Festival Jazz en Touraine
DESCRIPTION:Le festival Jazz en Touraine revient pour une 37ème édition ! C’est un événement annuel qui met en avant la musique jazz dans la magnifique région de la Touraine. Très apprécié des amateurs de jazz\, il se déroule sur 10 jours à Montlouis-sur-Loire et dans les 17 communes partenaires. Il vous propose une programmation riche et variée\, allant des artistes émergents aux légendes du jazz\, pour vous offrir une véritable expérience musicale. \n\n\n\nProgramme IN (Montlouis-sur-Loire) :– Au Magic Mirror à 11H30\, BAL SWING avec le groupe « Trucking Sisters et Groovy spot » \n\n\n\nProgramme OFF :– Au village gourmand du Festival de Montlouis à l’Esplanade ‘‘Maurice Cullaz » : à 13h15\,  » François Bernat »\, à 15h : « Lo Trio  » \, à 16h45 : « Madame » \n\n\n\n– A Chançay\, Place du Mail à 11h : « Soul Jazz Rebels »– A Parçay-Meslay\, Salle des Fêtes à 16h :  » KLT & Rania Bahzad » \n\n\n\nRetrouvez toute la programmation et la présentation des artistes sur le site : \n\n\n\nhttps://www.jazzentouraine.com/
URL:https://www.37degres-mag.fr/event/festival-jazz-en-touraine-4/
ATTACH;FMTTYPE=:
END:VEVENT
BEGIN:VEVENT
DTSTART;TZID=Europe/Helsinki:20230912T190000
DTEND;TZID=Europe/Helsinki:20230912T230000
DTSTAMP:20260424T111437
CREATED:20230818T152014Z
LAST-MODIFIED:20230818T152014Z
UID:10003731-1694545200-1694559600@www.37degres-mag.fr
SUMMARY:Festival Jazz en Touraine
DESCRIPTION:Le festival Jazz en Touraine revient pour une 37ème édition ! C’est un événement annuel qui met en avant la musique jazz dans la magnifique région de la Touraine. Très apprécié des amateurs de jazz\, il se déroule sur 10 jours à Montlouis-sur-Loire et dans les 17 communes partenaires. Il vous propose une programmation riche et variée\, allant des artistes émergents aux légendes du jazz\, pour vous offrir une véritable expérience musicale. \n\n\n\nProgramme IN (Montlouis-sur-Loire) :– Au Magic Mirror à 19h\, « Virginia Constantine » – A L’Espace Ligéria à 21h\, « Samara Joy » \n\n\n\nProgramme OFF :– Au village gourmand du Festival de Montlouis à l’Esplanade ‘‘Maurice Cullaz » : à 19h15 « Bjorn Ingelstam Paris Jazz Sessions » \n\n\n\nRetrouvez toute la programmation et la présentation des artistes sur le site : \n\n\n\nhttps://www.jazzentouraine.com/
URL:https://www.37degres-mag.fr/event/festival-jazz-en-touraine-5/
ATTACH;FMTTYPE=:
END:VEVENT
BEGIN:VEVENT
DTSTART;TZID=Europe/Helsinki:20230913T190000
DTEND;TZID=Europe/Helsinki:20230913T230000
DTSTAMP:20260424T111437
CREATED:20230818T152156Z
LAST-MODIFIED:20230818T152156Z
UID:10003732-1694631600-1694646000@www.37degres-mag.fr
SUMMARY:Festival Jazz en Touraine
DESCRIPTION:Le festival Jazz en Touraine revient pour une 37ème édition ! C’est un événement annuel qui met en avant la musique jazz dans la magnifique région de la Touraine. Très apprécié des amateurs de jazz\, il se déroule sur 10 jours à Montlouis-sur-Loire et dans les 17 communes partenaires. Il vous propose une programmation riche et variée\, allant des artistes émergents aux légendes du jazz\, pour vous offrir une véritable expérience musicale. \n\n\n\nProgramme IN (Montlouis-sur-Loire) :– Au Magic Mirror à 19h\, « Thierry Péala & Verioca Lherm »– A L’Espace Ligéria à 21h\, « Earth\, Wind & Fire » Experience by Al McKay \n\n\n\nProgramme OFF :– Au village gourmand du Festival de Montlouis à l’Esplanade ‘‘Maurice Cullaz » : à 19h15 « Maxime Prebet Paris Jazz Sessions » \n\n\n\nRetrouvez toute la programmation et la présentation des artistes sur le site : \n\n\n\nhttps://www.jazzentouraine.com/
URL:https://www.37degres-mag.fr/event/festival-jazz-en-touraine-6/
ATTACH;FMTTYPE=:
END:VEVENT
BEGIN:VEVENT
DTSTART;TZID=Europe/Helsinki:20230914T190000
DTEND;TZID=Europe/Helsinki:20230914T230000
DTSTAMP:20260424T111437
CREATED:20230818T152645Z
LAST-MODIFIED:20230818T152645Z
UID:10003733-1694718000-1694732400@www.37degres-mag.fr
SUMMARY:Festival Jazz en Touraine
DESCRIPTION:Le festival Jazz en Touraine revient pour une 37ème édition ! C’est un événement annuel qui met en avant la musique jazz dans la magnifique région de la Touraine. Très apprécié des amateurs de jazz\, il se déroule sur 10 jours à Montlouis-sur-Loire et dans les 17 communes partenaires. Il vous propose une programmation riche et variée\, allant des artistes émergents aux légendes du jazz\, pour vous offrir une véritable expérience musicale. \n\n\n\nProgramme IN (Montlouis-sur-Loire) :– Au Magic Mirror à 19h\, « Ellen Birath & Paris Jazz Sessions » – A L’Espace Ligéria à 21h\, « Robin McKelle » \n\n\n\nProgramme OFF :– Au village gourmand du Festival de Montlouis à l’Esplanade ‘‘Maurice Cullaz » : à 19h15 « Myosotis – Jazz à Tours »– à Château-Renault\, au Parc du Château à 19h\, « Tomko » \n\n\n\nRetrouvez toute la programmation et la présentation des artistes sur le site : \n\n\n\nhttps://www.jazzentouraine.com/
URL:https://www.37degres-mag.fr/event/festival-jazz-en-touraine-7/
ATTACH;FMTTYPE=:
END:VEVENT
BEGIN:VEVENT
DTSTART;TZID=Europe/Helsinki:20230915T190000
DTEND;TZID=Europe/Helsinki:20230915T230000
DTSTAMP:20260424T111437
CREATED:20230818T152836Z
LAST-MODIFIED:20230818T152836Z
UID:10003734-1694804400-1694818800@www.37degres-mag.fr
SUMMARY:Festival Jazz en Touraine
DESCRIPTION:Le festival Jazz en Touraine revient pour une 37ème édition ! C’est un événement annuel qui met en avant la musique jazz dans la magnifique région de la Touraine. Très apprécié des amateurs de jazz\, il se déroule sur 10 jours à Montlouis-sur-Loire et dans les 17 communes partenaires. Il vous propose une programmation riche et variée\, allant des artistes émergents aux légendes du jazz\, pour vous offrir une véritable expérience musicale. \n\n\n\nProgramme IN (Montlouis-sur-Loire) :– Au Magic Mirror à 19h\, « Louis Prima Forever »– A L’Espace Ligéria à 21h\, « Kyle Eastwood » Eastwood by Eastwood Programme OFF :– Au village gourmand du Festival de Montlouis à l’Esplanade ‘‘Maurice Cullaz » : à 19h15\, « Melkoni Project »– à 19h\, à L’Eglise de Saint-Martin-le-Beau\, « Wing Trio »– à 19h\, La Halle de Vouvray\, « Bernard Sellam & The Boyz From the Hood »– à 20h30\, Salle Pierre-Louis le Gall à Esvres\, « Tomko »Retrouvez toute la programmation et la présentation des artistes sur le site : https://www.jazzentouraine.com/
URL:https://www.37degres-mag.fr/event/festival-jazz-en-touraine-8/
ATTACH;FMTTYPE=:
END:VEVENT
BEGIN:VEVENT
DTSTART;TZID=Europe/Paris:20230915T210000
DTEND;TZID=Europe/Paris:20230917T180000
DTSTAMP:20260424T111437
CREATED:20230704T123031Z
LAST-MODIFIED:20230704T123031Z
UID:10003183-1694811600-1694973600@www.37degres-mag.fr
SUMMARY:Le Grand Manège
DESCRIPTION:La Loire prend la parole pour présenter son Cadre noir : un instant poétique au cœur du Grand manège où les écuyers évoqueront pour vous la naissance et l’évolution de l’esprit cavalier de Saumur ainsi que l’excellence de la tradition équestre française. \nVendredi 15 septembre à 21h\nSamedi 16 septembre à 21h\nDimanche 17 septembre à 16h
URL:https://www.37degres-mag.fr/event/les-musicales-du-cadre-noir-2-2-3/
ATTACH;FMTTYPE=:
END:VEVENT
BEGIN:VEVENT
DTSTART;TZID=Europe/Paris:20230916T080000
DTEND;TZID=Europe/Paris:20230916T170000
DTSTAMP:20260424T111437
CREATED:20230501T073639Z
LAST-MODIFIED:20230501T073639Z
UID:10003685-1694851200-1694883600@www.37degres-mag.fr
SUMMARY:Les Darons
DESCRIPTION:Vous les retrouvez avec plaisir tous les soirs à la télé dans « scènes de ménages »\, « un si grand soleil » ou « en famille »… Et bien sachez que ce sont avant tout de vrais amis dans la vie qui avant de devenir des stars du petit écran se sont rencontrés sur scène. Ils en ont gardé un souvenir tellement fort\, qu’aujourd’hui ils ont décidé de créer un spectacle dont le titre pourrait bien être celui d’une nouvelle série à succès « Les Darons !». Du type attentionné au séducteur maladroit\, du poète naïf au chanteur ringard\, tous les portraits masculins qu’ils interprètent sont magistraux. Ils enchaînent sketchs et chansons à un rythme effréné. Qu’ils chantent\, qu’ils déclament ou qu’ils s’engueulent\, ces bêtes de scène font exploser de rire leur public qui finalement\, se lève avec enthousiasme pour les applaudir. On comprend pourquoi Michele Bernier a choisi de les mettre en scène. Époustouflant !
URL:https://www.37degres-mag.fr/event/les-darons/
ATTACH;FMTTYPE=:
END:VEVENT
BEGIN:VEVENT
DTSTART;TZID=Europe/Helsinki:20230916T190000
DTEND;TZID=Europe/Helsinki:20230916T230000
DTSTAMP:20260424T111437
CREATED:20230818T153256Z
LAST-MODIFIED:20230818T153256Z
UID:10003735-1694890800-1694905200@www.37degres-mag.fr
SUMMARY:Festival Jazz en Touraine
DESCRIPTION:Le festival Jazz en Touraine revient pour une 37ème édition ! C’est un événement annuel qui met en avant la musique jazz dans la magnifique région de la Touraine. Très apprécié des amateurs de jazz\, il se déroule sur 10 jours à Montlouis-sur-Loire et dans les 17 communes partenaires. Il vous propose une programmation riche et variée\, allant des artistes émergents aux légendes du jazz\, pour vous offrir une véritable expérience musicale. \n\n\n\nProgramme IN (Montlouis-sur-Loire) :– Au Magic Mirror à 19h\, « Ronald Baker »– A L’Espace Ligéria à 21h\, « Sixun »Programme OFF :– Au village gourmand du Festival de Montlouis à l’Esplanade ‘‘Maurice Cullaz » : à 15h30\, « Wing Trio » – Jazz à Tours– à 17h30\, Cour de l’école à Neuillé-le-Lierre\, « Melkoni Project »– à 18h\, Salle François Mitterrand à Larçay\, « KLT & Rania Bahzad » \n\n\n\nRetrouvez toute la programmation et la présentation des artistes sur le site : \n\n\n\nhttps://www.jazzentouraine.com/
URL:https://www.37degres-mag.fr/event/festival-jazz-en-touraine-9/
ATTACH;FMTTYPE=:
END:VEVENT
BEGIN:VEVENT
DTSTART;TZID=Europe/Helsinki:20230917T190000
DTEND;TZID=Europe/Helsinki:20230917T230000
DTSTAMP:20260424T111437
CREATED:20230818T153245Z
LAST-MODIFIED:20230818T153245Z
UID:10003736-1694977200-1694991600@www.37degres-mag.fr
SUMMARY:
DESCRIPTION:Le Festival se termine en ce 17 septembre dans la joie et la bonne humeur. Avec une programmation Cosmopolite. \n\n\n\nProgramme IN (Montlouis-sur-Loire) :– Au Magic Mirror à 11H30\, Bal Cosmopolite « Le Grand Pop » \n\n\n\nProgramme OFF :– Au village gourmand du Festival de Montlouis à l’Esplanade ‘‘Maurice Cullaz » : à 13h15\, « PLC’s Band » – à 15h « Sagünn » – à 16h45  » Kicca »– au Parc Baric à Monnaie à 11h\, « Heida Björg & The Kaos »– à l’Esplanade Maria Callas\, La-Ville-aux-Dames à 15h\, « Tiger Rose »– Place Grange de Négron à Nazelles-Négron à 16h\, « Wing Trio » – Jazz à Tours– au Domaine de Cangé\, Saint-Avertin à 17h\, « Melkoni Project »– Place du Centenaire à Vernou-sur-Brenne\, à 17h30\, « KLT & Alice Chahbazian » \n\n\n\nRetrouvez toute la programmation et la présentation des artistes sur le site : \n\n\n\nhttps://www.jazzentouraine.com/
URL:https://www.37degres-mag.fr/event/103213/
ATTACH;FMTTYPE=:
END:VEVENT
BEGIN:VEVENT
DTSTART;TZID=Europe/Helsinki:20230921T170000
DTEND;TZID=Europe/Helsinki:20230921T210000
DTSTAMP:20260424T111437
CREATED:20230810T101637Z
LAST-MODIFIED:20230810T101637Z
UID:10003727-1695315600-1695330000@www.37degres-mag.fr
SUMMARY:CEP CENTRE VAL DE LOIRE : AFTERWORK V AND B TOURS CENTRE
DESCRIPTION:La rentrée des enfants c’est fait\, maintenant c’est ta rentrée professionnelle !Tu n’es pas un Pokémon\, mais tu as aussi besoin d‘évoluer !Si tu penses avoir fait le tour de ton job…Que tu t’interroges sur ce que tu peux faire avec tout ce que tu sais faire ? Que tu as envie de changement et de booster ton quotidien en apprenant de nouvelles choses mais que tu ne sais pas par où commencer ?Commence par venir à l’AfterWork qu’on organise au VandB de Tours Centre (passage du Palais\, 12 rue Victor Hugo) le 21 septembre à partir de 17h.Dans une ambiance conviviale et détendue\, on t’aidera à faire le point !Accès libre : tout publicPour éviter toutes confusions : on offre les conseils\, mais pas les consos. Il y aura quand même une tombola pour repartir encore plus avec le smile !
URL:https://www.37degres-mag.fr/event/cep-centre-val-de-loire-afterwork-v-and-b-tours-centre/
ATTACH;FMTTYPE=:
END:VEVENT
BEGIN:VEVENT
DTSTART;TZID=Europe/Helsinki:20230930T100000
DTEND;TZID=Europe/Helsinki:20230930T170000
DTSTAMP:20260424T111437
CREATED:20230919T112746Z
LAST-MODIFIED:20230919T112748Z
UID:10003743-1696068000-1696093200@www.37degres-mag.fr
SUMMARY:Salon des Artistes Montois
DESCRIPTION:On connaît tous quelqu’un qui peint\, qui dessine\, qui sculpte\, qui photographie\, qui façonne… Souvent à la maison\, pour son plaisir et sans jamais avoir osé présenter ses œuvres à un public. Et parce que l’amateur c’est d’abord celui qui aime\, la ville de Monts offrira la possibilité à 27 artistes amateurs et professionnels de tous âges et de tous horizons\, d’exposer deux jours durant leurs œuvres
URL:https://www.37degres-mag.fr/event/salon-des-artistes-montois/
ATTACH;FMTTYPE=image/webp:https://www.37degres-mag.fr/wp-content/uploads/2023/09/RuAzonoQ4fnG-paints-gc416f287a_1920-scaled.webp
END:VEVENT
BEGIN:VEVENT
DTSTART;TZID=Europe/Helsinki:20230930T150000
DTEND;TZID=Europe/Helsinki:20230930T170000
DTSTAMP:20260424T111437
CREATED:20230928T071939Z
LAST-MODIFIED:20230928T071941Z
UID:10003748-1696086000-1696093200@www.37degres-mag.fr
SUMMARY:Course de voitures à pédaler avec marché gourmand et artisanal
DESCRIPTION:Venez assister à la dernière manche de voitures à pédalier avec son marché gourmand et artisanal animé par la chanteuse emy duoRestauration sur place
URL:https://www.37degres-mag.fr/event/course-de-voitures-a-pedaler-avec-marche-gourmand-et-artisanal/
ATTACH;FMTTYPE=image/jpeg:https://www.37degres-mag.fr/wp-content/uploads/2023/09/IyoR8VXFZFns-IMG_0437.jpeg
END:VEVENT
BEGIN:VEVENT
DTSTART;TZID=Europe/Helsinki:20230930T170000
DTEND;TZID=Europe/Helsinki:20230930T170000
DTSTAMP:20260424T111437
CREATED:20230919T113009Z
LAST-MODIFIED:20230919T114748Z
UID:10003744-1696093200-1696093200@www.37degres-mag.fr
SUMMARY:CONCERT "MACHINE A REVES"
DESCRIPTION:Le 30 septembre prochain à MAME – Tours\, l’association Blouses Notes organise un concert unique pour célébrer la sortie de son deuxième album MACHINE A REVES et fêter ses 25 ans. Disque en écoute ici : https://www.blousesnotes.fr/Concert à découvrir en famille.
URL:https://www.37degres-mag.fr/event/concert-machine-a-reves/
LOCATION:MAME\, Tours
ATTACH;FMTTYPE=image/webp:https://www.37degres-mag.fr/wp-content/uploads/2023/09/gvMDLjzY3vAF-Affiche-concert-30-SEPT-231.webp
END:VEVENT
END:VCALENDAR