BEGIN:VCALENDAR
VERSION:2.0
PRODID:-//37° degrés - ECPv6.15.20//NONSGML v1.0//EN
CALSCALE:GREGORIAN
METHOD:PUBLISH
X-WR-CALNAME:37° degrés
X-ORIGINAL-URL:https://www.37degres-mag.fr
X-WR-CALDESC:Évènements pour 37° degrés
REFRESH-INTERVAL;VALUE=DURATION:PT1H
X-Robots-Tag:noindex
X-PUBLISHED-TTL:PT1H
BEGIN:VTIMEZONE
TZID:Europe/Paris
BEGIN:DAYLIGHT
TZOFFSETFROM:+0100
TZOFFSETTO:+0200
TZNAME:CEST
DTSTART:20250330T010000
END:DAYLIGHT
BEGIN:STANDARD
TZOFFSETFROM:+0200
TZOFFSETTO:+0100
TZNAME:CET
DTSTART:20251026T010000
END:STANDARD
BEGIN:DAYLIGHT
TZOFFSETFROM:+0100
TZOFFSETTO:+0200
TZNAME:CEST
DTSTART:20260329T010000
END:DAYLIGHT
BEGIN:STANDARD
TZOFFSETFROM:+0200
TZOFFSETTO:+0100
TZNAME:CET
DTSTART:20261025T010000
END:STANDARD
BEGIN:DAYLIGHT
TZOFFSETFROM:+0100
TZOFFSETTO:+0200
TZNAME:CEST
DTSTART:20270328T010000
END:DAYLIGHT
BEGIN:STANDARD
TZOFFSETFROM:+0200
TZOFFSETTO:+0100
TZNAME:CET
DTSTART:20271031T010000
END:STANDARD
END:VTIMEZONE
BEGIN:VEVENT
DTSTART;TZID=Europe/Paris:20260424T200000
DTEND;TZID=Europe/Paris:20260424T233000
DTSTAMP:20260424T120659
CREATED:20260325T123013Z
LAST-MODIFIED:20260325T123013Z
UID:10004182-1777060800-1777073400@www.37degres-mag.fr
SUMMARY:SIDILARSEN & LES TAMBOURS DU BRONX : version métal
DESCRIPTION:à			\n			\n							 \n\nSIDILARSEN revient avec l’album « Que la lumière soit ». Entre rock et metal\, le groupe explore de nouveaux sons\, affirme ses convictions et signe une production soignée et puissante.Créés en 1987 à Varennes-Vauzelles\, Les Tambours du Bronx développent un style percussif industriel à base de métal et de bidons. Ils ont tourné dans plus de 30 pays et collaboré avec de nombreux artistes. Leur tournée version concert de métal « Weapons of Mass Percussion » marque un nouveau chapitre. \nbilletterie : https://yp.events/fd980f68-a7d3-40c6-8f2d-cba415517344/SIDILARSEN-LES-TAMBOURS-DU-BRONX \n\n				Tarif enfant : 5€ – Tarif réduit : 18 € – Tarif adulte: 20€\n	\n\n\nEspace culturel les 4 Vents\n \n02 47 29 83 80 \nVoir le site Organisateur \n \n\n\n\n\n\n\n\n\n						\n							Ajouter au calendrier						 \n\n\n\n									\n										Google Agenda									\n								\n\n									\n										iCalendar									\n								\n\n									\n										Outlook 365									\n								\n\n									\n										Outlook Live
URL:https://www.37degres-mag.fr/event/sidilarsen-les-tambours-du-bronx-version-metal/
LOCATION:Espace culturel les 4 Vents\, Les Blourdiers\, ROUZIERS-DE-TOURAINE\, 37360
ATTACH;FMTTYPE=image/jpeg:https://www.37degres-mag.fr/wp-content/uploads/2026/03/PUBLI-RS-24-avril-2026-scaled-wrB2v1.jpg
END:VEVENT
END:VCALENDAR