BEGIN:VCALENDAR
VERSION:2.0
PRODID:-//37° degrés - ECPv6.15.20//NONSGML v1.0//EN
CALSCALE:GREGORIAN
METHOD:PUBLISH
X-WR-CALNAME:37° degrés
X-ORIGINAL-URL:https://www.37degres-mag.fr
X-WR-CALDESC:Évènements pour 37° degrés
REFRESH-INTERVAL;VALUE=DURATION:PT1H
X-Robots-Tag:noindex
X-PUBLISHED-TTL:PT1H
BEGIN:VTIMEZONE
TZID:Europe/Paris
BEGIN:DAYLIGHT
TZOFFSETFROM:+0100
TZOFFSETTO:+0200
TZNAME:CEST
DTSTART:20250330T010000
END:DAYLIGHT
BEGIN:STANDARD
TZOFFSETFROM:+0200
TZOFFSETTO:+0100
TZNAME:CET
DTSTART:20251026T010000
END:STANDARD
BEGIN:DAYLIGHT
TZOFFSETFROM:+0100
TZOFFSETTO:+0200
TZNAME:CEST
DTSTART:20260329T010000
END:DAYLIGHT
BEGIN:STANDARD
TZOFFSETFROM:+0200
TZOFFSETTO:+0100
TZNAME:CET
DTSTART:20261025T010000
END:STANDARD
BEGIN:DAYLIGHT
TZOFFSETFROM:+0100
TZOFFSETTO:+0200
TZNAME:CEST
DTSTART:20270328T010000
END:DAYLIGHT
BEGIN:STANDARD
TZOFFSETFROM:+0200
TZOFFSETTO:+0100
TZNAME:CET
DTSTART:20271031T010000
END:STANDARD
END:VTIMEZONE
BEGIN:VEVENT
DTSTART;TZID=Europe/Paris:20260411T100000
DTEND;TZID=Europe/Paris:20260412T190000
DTSTAMP:20260420T121330
CREATED:20260318T215858Z
LAST-MODIFIED:20260318T215858Z
UID:10004180-1775901600-1776020400@www.37degres-mag.fr
SUMMARY:Vinaviva
DESCRIPTION:à			\n			\n							 \n\nChaque année au printemps\, près de Tours\, un salon en 2 temps\, organisé par des amateurs à l’intention d’amateurs…Les vignerons présentent leur travail\, leur vignoble et vous font découvrir leurs vins issus d’une agriculture respectueuse de l’environnement.Les 11 et 12 avril « Vinaviva – Les vins d’ailleurs »\, 23 vignerons de de toute la France\, hors région centre Val de Loire.Salle Ronsard à Saint Etienne de Chigny de 10h à 19h  \nL’ARAMON cépage vedette\, 4 dégustations gratuites organisées le samedi et le dimanche\, Buvez bon !Petite restauration sur place2ème temps Salon Vinaviva « les vins d’ici» le 27 juin à Fondettes \n \n\n				 verre sérigraphié offert\n	\n\n\nassociation Amaviva\, Amateurs de vins vivants et authentiques\n \nVoir le site Organisateur \n \n\n\n\n\n\n\n\n\n						\n							Ajouter au calendrier						 \n\n\n\n									\n										Google Agenda									\n								\n\n									\n										iCalendar									\n								\n\n									\n										Outlook 365									\n								\n\n									\n										Outlook Live
URL:https://www.37degres-mag.fr/event/vinaviva/
LOCATION:Salle Ronsard\, 5-9 Chem. de la Maurière\,\, Saint-Étienne-de-Chigny\, 37230
ATTACH;FMTTYPE=image/jpeg:https://www.37degres-mag.fr/wp-content/uploads/2026/03/AFFICHE-VINAVIVAbio-avril-2026-1-scaled-yR60pg.jpg
END:VEVENT
BEGIN:VEVENT
DTSTART;TZID=Europe/Paris:20260412T000000
DTEND;TZID=Europe/Paris:20260412T235959
DTSTAMP:20260420T121330
CREATED:20260216T203046Z
LAST-MODIFIED:20260216T203046Z
UID:10004161-1775952000-1776038399@www.37degres-mag.fr
SUMMARY:Vide-greniers
DESCRIPTION:à			\n			\n							 \n\n\n\n\n\n\nAvec le printemps vient le grand nettoyage. Videz\, triez\, faites de la place dans vos armoires\, placards\, garages et greniers. Le Comité des Fêtes de Sorigny vous propose de participer le dimanche 12 avril 2026 au vide-greniers de printemps\, depuis la Halle. \nInscrivez-vous pour réserver votre emplacement\, au plus tard le 25 mars.\nBulletin d’inscription disponible sur www.sorigny.fr \n\n\n\n\n\n\n\n\n\n\n						\n							Ajouter au calendrier						 \n\n\n\n									\n										Google Agenda									\n								\n\n									\n										iCalendar									\n								\n\n									\n										Outlook 365									\n								\n\n									\n										Outlook Live									\n								\n\n \n \n \n \n\n\n\n					Détails\n	\n\n\n				Date :\n				\n					  \n				\n			\n\n				Heure :
URL:https://www.37degres-mag.fr/event/vide-greniers/
LOCATION:Espace Gilbert Trottier\, avenue du 11 novembre 1918\, SORIGNY\, 37250\, France
ATTACH;FMTTYPE=image/jpeg:https://www.37degres-mag.fr/wp-content/uploads/2026/02/A3_AFFICHE-VIDE-GRENIERS-2026-scaled-upvhzt.jpg
END:VEVENT
END:VCALENDAR