BEGIN:VCALENDAR
VERSION:2.0
PRODID:-//37° degrés - ECPv6.15.20//NONSGML v1.0//EN
CALSCALE:GREGORIAN
METHOD:PUBLISH
X-WR-CALNAME:37° degrés
X-ORIGINAL-URL:https://www.37degres-mag.fr
X-WR-CALDESC:Évènements pour 37° degrés
REFRESH-INTERVAL;VALUE=DURATION:PT1H
X-Robots-Tag:noindex
X-PUBLISHED-TTL:PT1H
BEGIN:VTIMEZONE
TZID:Europe/Paris
BEGIN:DAYLIGHT
TZOFFSETFROM:+0100
TZOFFSETTO:+0200
TZNAME:CEST
DTSTART:20250330T010000
END:DAYLIGHT
BEGIN:STANDARD
TZOFFSETFROM:+0200
TZOFFSETTO:+0100
TZNAME:CET
DTSTART:20251026T010000
END:STANDARD
BEGIN:DAYLIGHT
TZOFFSETFROM:+0100
TZOFFSETTO:+0200
TZNAME:CEST
DTSTART:20260329T010000
END:DAYLIGHT
BEGIN:STANDARD
TZOFFSETFROM:+0200
TZOFFSETTO:+0100
TZNAME:CET
DTSTART:20261025T010000
END:STANDARD
BEGIN:DAYLIGHT
TZOFFSETFROM:+0100
TZOFFSETTO:+0200
TZNAME:CEST
DTSTART:20270328T010000
END:DAYLIGHT
BEGIN:STANDARD
TZOFFSETFROM:+0200
TZOFFSETTO:+0100
TZNAME:CET
DTSTART:20271031T010000
END:STANDARD
END:VTIMEZONE
BEGIN:VEVENT
DTSTART;TZID=Europe/Paris:20260321T100000
DTEND;TZID=Europe/Paris:20260322T180000
DTSTAMP:20260419T104523
CREATED:20260316T215948Z
LAST-MODIFIED:20260316T215948Z
UID:10004178-1774087200-1774202400@www.37degres-mag.fr
SUMMARY:EXPOSITION DINOSAURES XXL
DESCRIPTION:à			\n			\n							 \n\nPlongez dans l’univers fascinant des géants disparus avec l’exposition familiale « Le Règne des Dinosaures »\, de passage à Parçay-Meslay (proche de Tours).Les 21 et 22 mars 2026\, venez découvrir des spécimens XXL spectaculaires qui raviront les fans de tous âges. Que votre enfant soit déjà expert en Tricératops et T-Rex ou qu’il s’apprête à découvrir ce monde mystérieux\, c’est l’occasion idéale pour voir ses yeux briller face à ces créatures mythiques.Vivez un véritable bond dans le temps et laissez-vous impressionner par ces colosses qui s’animent sous vos yeux. Ne manquez pas notre grande nouveauté : les adorables bébés dinosaures qui sauront vous faire craquer !Sur place règlement par chèque ou espèce uniquement ou via la billetterieRenseignements au 07 86 82 43 86 ou sur le site www.expo-decouverte.com \nhttps://yp.events/ddb25aae-345c-4b8b-833e-3589cc8161d5/EXPO-DECOUVERTE-LA-GRANGE-DE-MESLAY/ticketing \n\n				10€ enfants de 3-12 ans\, 12€ à partir de 13 ans\, 7€ pour les personnes en situation de handicap\n	\n\n\nL’Expo découverte\n \n07 86 82 43 86 \nVoir le site Organisateur \n \n\n\n\n\n\n\n\n\n						\n							Ajouter au calendrier						 \n\n\n\n									\n										Google Agenda									\n								\n\n									\n										iCalendar									\n								\n\n									\n										Outlook 365									\n								\n\n									\n										Outlook Live
URL:https://www.37degres-mag.fr/event/exposition-dinosaures-xxl/
LOCATION:1 Rue de Meslay\, 37210 Parçay-Meslay\, 1 Rue de Meslay\, Parçay-Meslay\, 37210
ATTACH;FMTTYPE=image/png:https://www.37degres-mag.fr/wp-content/uploads/2026/03/Capture-decran-2026-03-16-a-14.46.59-E1KttJ.png
END:VEVENT
END:VCALENDAR