BEGIN:VCALENDAR
VERSION:2.0
PRODID:-//37° degrés - ECPv6.15.20//NONSGML v1.0//EN
CALSCALE:GREGORIAN
METHOD:PUBLISH
X-ORIGINAL-URL:https://www.37degres-mag.fr
X-WR-CALDESC:Évènements pour 37° degrés
REFRESH-INTERVAL;VALUE=DURATION:PT1H
X-Robots-Tag:noindex
X-PUBLISHED-TTL:PT1H
BEGIN:VTIMEZONE
TZID:Europe/Paris
BEGIN:DAYLIGHT
TZOFFSETFROM:+0100
TZOFFSETTO:+0200
TZNAME:CEST
DTSTART:20230326T010000
END:DAYLIGHT
BEGIN:STANDARD
TZOFFSETFROM:+0200
TZOFFSETTO:+0100
TZNAME:CET
DTSTART:20231029T010000
END:STANDARD
BEGIN:DAYLIGHT
TZOFFSETFROM:+0100
TZOFFSETTO:+0200
TZNAME:CEST
DTSTART:20240331T010000
END:DAYLIGHT
BEGIN:STANDARD
TZOFFSETFROM:+0200
TZOFFSETTO:+0100
TZNAME:CET
DTSTART:20241027T010000
END:STANDARD
BEGIN:DAYLIGHT
TZOFFSETFROM:+0100
TZOFFSETTO:+0200
TZNAME:CEST
DTSTART:20250330T010000
END:DAYLIGHT
BEGIN:STANDARD
TZOFFSETFROM:+0200
TZOFFSETTO:+0100
TZNAME:CET
DTSTART:20251026T010000
END:STANDARD
END:VTIMEZONE
BEGIN:VEVENT
DTSTART;TZID=Europe/Paris:20241206T180000
DTEND;TZID=Europe/Paris:20241207T183000
DTSTAMP:20260425T163652
CREATED:20241129T154512Z
LAST-MODIFIED:20241129T154512Z
UID:10003931-1733508000-1733596200@www.37degres-mag.fr
SUMMARY:Marché de Noël à La Riche
DESCRIPTION:@ 			\n			\n							 \n\n\nEnviron 30 exposants seront présents et proposeront des produits locaux et/ou artisanaux (friandises\, spécialités culinaires de Noël\, créations textiles\, arts de la table et de la maison\, décorations\, bijoux\, aquarelles\, produits de beauté etc.) \nVendredi 6 décembre-18h00 à 23h30 :Lancement des illuminations\, déambulation avec les Fées Echassières… \nSamedi 7 décembre-9h30 à 18h30 :Photos avec le Père Noël\, stand de maquillage pour enfants\, sculptures de ballons. \n\n		\n\n\n\n\n\n\n						\n							Ajouter au calendrier						 \n\n\n\n									\n										Google Agenda									\n								\n\n									\n										iCalendar									\n								\n\n									\n										Outlook 365									\n								\n\n									\n										Outlook Live
URL:https://www.37degres-mag.fr/event/marche-de-noel-a-la-riche/
END:VEVENT
BEGIN:VEVENT
DTSTART;TZID=Europe/Paris:20241207T080000
DTEND;TZID=Europe/Paris:20241207T170000
DTSTAMP:20260425T163652
CREATED:20241125T100016Z
LAST-MODIFIED:20241125T100016Z
UID:10003927-1733558400-1733590800@www.37degres-mag.fr
SUMMARY:Bourse aux jouets\, Vêtements et puériculture
DESCRIPTION:@ 			\n			\n							 \n\n\nvente de jouets dont les enfants se servent plus et d’acheter des articles d’occasion à moindre coût.C’est une excellente manière de donner une seconde vie à des jouets tout en faisant des économies à l’approche des fêtes de fin d’année \n \n\n		\n\n\n\n\n\n\n\n\n						\n							Ajouter au calendrier						 \n\n\n\n									\n										Google Agenda									\n								\n\n									\n										iCalendar									\n								\n\n									\n										Outlook 365									\n								\n\n									\n										Outlook Live
URL:https://www.37degres-mag.fr/event/bourse-aux-jouets-vetements-et-puericulture/
LOCATION:90 Avenue André Maginot\, 90 Avenue André Maginot\, Tours\, 37100
ATTACH;FMTTYPE=image/jpeg:https://www.37degres-mag.fr/wp-content/uploads/2024/11/67407fb6ca3b6-aq5fCm.tmp_.jpg
END:VEVENT
BEGIN:VEVENT
DTSTART;TZID=Europe/Paris:20241207T100000
DTEND;TZID=Europe/Paris:20241208T180000
DTSTAMP:20260425T163652
CREATED:20241126T160013Z
LAST-MODIFIED:20241126T160013Z
UID:10003930-1733565600-1733680800@www.37degres-mag.fr
SUMMARY:Marché de Noël de Monts
DESCRIPTION:@ 			\n			\n							 \n\n\nQu’il est doux de se réunir à l’approche des fêtes et de les partager en famille ou entre amis. L’Espace culturel Jean Cocteau se pare de ses habits de lumières pour une nouvelle édition du Marché de Noël de Monts. Artisanat\, gastronomie\, programmation artistique\, gourmandises et ateliers participatifs seront une nouvelle fois proposés tout au long de ces deux journées. Comme un moment hors du temps. Un voyage\, une bulle de douceur\, de poésie et de magie. \n\n		\n\n\n\n\n\n\n\n\n						\n							Ajouter au calendrier						 \n\n\n\n									\n										Google Agenda									\n								\n\n									\n										iCalendar									\n								\n\n									\n										Outlook 365									\n								\n\n									\n										Outlook Live
URL:https://www.37degres-mag.fr/event/marche-de-noel-de-monts-2/
LOCATION:Espace Culturel Jean Cocteau 17 rue de la Vasselière\, Espace Culturel Jean Cocteau 17 rue de la Vasselière\, Monts\, 37260
ATTACH;FMTTYPE=image/jpeg:https://www.37degres-mag.fr/wp-content/uploads/2024/11/67449b5bee067-4czQRR.tmp_.jpg
END:VEVENT
BEGIN:VEVENT
DTSTART;TZID=Europe/Paris:20241207T160000
DTEND;TZID=Europe/Paris:20241207T180000
DTSTAMP:20260425T163652
CREATED:20241129T154533Z
LAST-MODIFIED:20241129T154533Z
UID:10003932-1733587200-1733594400@www.37degres-mag.fr
SUMMARY:Séance spéciale : Solo Leveling – Reawakening
DESCRIPTION:@ 			\n			\n							 \n\n\nIl y a plus d’une décennie\, des portails reliant notre monde à une autre dimension sont apparus. Certains humains\, dotés de pouvoirs surnaturels\, sont devenus des chasseurs\, conquérant des donjons pour survivre. Jinwoo Sung\, le plus faible d’entre eux\, frôle la mort dans un double donjon caché\, mais découvre une quête qui change son destin.Film interdit aux -de 12 ans\, même accompagnés. Tout spectateur doit pouvoir justifier de son âge au contrôle. \n \n\n		\n\n\n\n\n\n\n						\n							Ajouter au calendrier						 \n\n\n\n									\n										Google Agenda									\n								\n\n									\n										iCalendar									\n								\n\n									\n										Outlook 365									\n								\n\n									\n										Outlook Live
URL:https://www.37degres-mag.fr/event/seance-speciale-solo-leveling-reawakening/
LOCATION:CGR Tours\, 30 rue blaise pascal\, Tours\, 37000
ATTACH;FMTTYPE=image/jpeg:https://www.37degres-mag.fr/wp-content/uploads/2024/11/6749a5a780859-0AY5kQ.tmp_.jpg
END:VEVENT
BEGIN:VEVENT
DTSTART;TZID=Europe/Paris:20241207T163000
DTEND;TZID=Europe/Paris:20241207T230000
DTSTAMP:20260425T163652
CREATED:20241129T164514Z
LAST-MODIFIED:20241129T164514Z
UID:10003934-1733589000-1733612400@www.37degres-mag.fr
SUMMARY:Retirada37 fête ses 10 ans !
DESCRIPTION:@ 			\n			\n							 \n\n\n\n		\n\n\n\n\n\n\n						\n							Ajouter au calendrier						 \n\n\n\n									\n										Google Agenda									\n								\n\n									\n										iCalendar									\n								\n\n									\n										Outlook 365									\n								\n\n									\n										Outlook Live
URL:https://www.37degres-mag.fr/event/retirada37-fete-ses-10-ans/
ATTACH;FMTTYPE=image/jpeg:https://www.37degres-mag.fr/wp-content/uploads/2024/11/6749a4a83caee-NPs0Ue.tmp_.jpg
END:VEVENT
END:VCALENDAR