BEGIN:VCALENDAR
VERSION:2.0
PRODID:-//37° degrés - ECPv6.15.20//NONSGML v1.0//EN
CALSCALE:GREGORIAN
METHOD:PUBLISH
X-ORIGINAL-URL:https://www.37degres-mag.fr
X-WR-CALDESC:Évènements pour 37° degrés
REFRESH-INTERVAL;VALUE=DURATION:PT1H
X-Robots-Tag:noindex
X-PUBLISHED-TTL:PT1H
BEGIN:VTIMEZONE
TZID:Europe/Paris
BEGIN:DAYLIGHT
TZOFFSETFROM:+0100
TZOFFSETTO:+0200
TZNAME:CEST
DTSTART:20220327T010000
END:DAYLIGHT
BEGIN:STANDARD
TZOFFSETFROM:+0200
TZOFFSETTO:+0100
TZNAME:CET
DTSTART:20221030T010000
END:STANDARD
BEGIN:DAYLIGHT
TZOFFSETFROM:+0100
TZOFFSETTO:+0200
TZNAME:CEST
DTSTART:20230326T010000
END:DAYLIGHT
BEGIN:STANDARD
TZOFFSETFROM:+0200
TZOFFSETTO:+0100
TZNAME:CET
DTSTART:20231029T010000
END:STANDARD
BEGIN:DAYLIGHT
TZOFFSETFROM:+0100
TZOFFSETTO:+0200
TZNAME:CEST
DTSTART:20240331T010000
END:DAYLIGHT
BEGIN:STANDARD
TZOFFSETFROM:+0200
TZOFFSETTO:+0100
TZNAME:CET
DTSTART:20241027T010000
END:STANDARD
END:VTIMEZONE
BEGIN:VEVENT
DTSTART;TZID=Europe/Paris:20231220T193000
DTEND;TZID=Europe/Paris:20231220T200000
DTSTAMP:20260424T134405
CREATED:20231130T123253Z
LAST-MODIFIED:20231130T123257Z
UID:10003767-1703100600-1703102400@www.37degres-mag.fr
SUMMARY:Soirée Culte : L'armée des 12 singes
DESCRIPTION:Comme chaque mois votre CGR Tours Centre vous propose de venir (re)découvrir un classique du cinéma sur grand écran et en VOST. \n\n\n\nAprès la séance nous nous retrouverons autour d’un verre\, regardez nos réseaux pour les détails !
URL:https://www.37degres-mag.fr/event/soiree-culte-larmee-des-12-singes/
LOCATION:CGR Tours\, 30 rue blaise pascal\, Tours\, 37000
ATTACH;FMTTYPE=image/jpeg:https://www.37degres-mag.fr/wp-content/uploads/2023/11/ew4BHPcm4YOE-Larmee-des-12-singes-A3.jpg
END:VEVENT
END:VCALENDAR