BEGIN:VCALENDAR
VERSION:2.0
PRODID:-//37° degrés - ECPv6.15.20//NONSGML v1.0//EN
CALSCALE:GREGORIAN
METHOD:PUBLISH
X-ORIGINAL-URL:https://www.37degres-mag.fr
X-WR-CALDESC:Évènements pour 37° degrés
REFRESH-INTERVAL;VALUE=DURATION:PT1H
X-Robots-Tag:noindex
X-PUBLISHED-TTL:PT1H
BEGIN:VTIMEZONE
TZID:Europe/Paris
BEGIN:DAYLIGHT
TZOFFSETFROM:+0100
TZOFFSETTO:+0200
TZNAME:CEST
DTSTART:20220327T010000
END:DAYLIGHT
BEGIN:STANDARD
TZOFFSETFROM:+0200
TZOFFSETTO:+0100
TZNAME:CET
DTSTART:20221030T010000
END:STANDARD
BEGIN:DAYLIGHT
TZOFFSETFROM:+0100
TZOFFSETTO:+0200
TZNAME:CEST
DTSTART:20230326T010000
END:DAYLIGHT
BEGIN:STANDARD
TZOFFSETFROM:+0200
TZOFFSETTO:+0100
TZNAME:CET
DTSTART:20231029T010000
END:STANDARD
BEGIN:DAYLIGHT
TZOFFSETFROM:+0100
TZOFFSETTO:+0200
TZNAME:CEST
DTSTART:20240331T010000
END:DAYLIGHT
BEGIN:STANDARD
TZOFFSETFROM:+0200
TZOFFSETTO:+0100
TZNAME:CET
DTSTART:20241027T010000
END:STANDARD
END:VTIMEZONE
BEGIN:VEVENT
DTSTART;TZID=Europe/Paris:20231209T100000
DTEND;TZID=Europe/Paris:20231210T170000
DTSTAMP:20260424T134606
CREATED:20231130T123744Z
LAST-MODIFIED:20231130T123749Z
UID:10003768-1702116000-1702227600@www.37degres-mag.fr
SUMMARY:Marché de Noel de Monts
DESCRIPTION:C’est presque devenu une tradition : le Marché de Noël clôt de la plus douce des manières la saison culturelle. Comme une parenthèse enchantée\, c’est l’instant idéal pour partager un moment en famille ou entre amis. Les lumières\, les odeurs\, les spectacles\, les couleurs\, les rires font de ces deux journées de festivités\, un rêve plein de poésie et de magie.
URL:https://www.37degres-mag.fr/event/marche-de-noel-de-monts/
ATTACH;FMTTYPE=image/png:https://www.37degres-mag.fr/wp-content/uploads/2023/11/XIMFGqQ2GxVd-1.png
END:VEVENT
BEGIN:VEVENT
DTSTART;TZID=Europe/Paris:20231210T100000
DTEND;TZID=Europe/Paris:20231210T170000
DTSTAMP:20260424T134606
CREATED:20231130T122417Z
LAST-MODIFIED:20231130T122420Z
UID:10003765-1702202400-1702227600@www.37degres-mag.fr
SUMMARY:Avant-première : Wonka
DESCRIPTION:Le dimanche 10 décembre à partir de 10H : \n\n\n\n– Fontaine de chocolat \n\n\n\n– Distribution de chocolat chaud \n\n\n\n– Atelier chocolat de Noël sur inscription (en envoyant un message sur nos réseaux facebook ou Instagram. \n\n\n\nCes animations sont proposées par notre partenaire chocolatier « Esprit Cacao » !
URL:https://www.37degres-mag.fr/event/avant-premiere-wonka/
LOCATION:CGR Tours\, 30 rue blaise pascal\, Tours\, 37000
ATTACH;FMTTYPE=image/webp:https://www.37degres-mag.fr/wp-content/uploads/2023/11/YUWLaB87jWAI-Wonka-POST.webp
END:VEVENT
END:VCALENDAR