BEGIN:VCALENDAR
VERSION:2.0
PRODID:-//37° degrés - ECPv6.15.20//NONSGML v1.0//EN
CALSCALE:GREGORIAN
METHOD:PUBLISH
X-ORIGINAL-URL:https://www.37degres-mag.fr
X-WR-CALDESC:Évènements pour 37° degrés
REFRESH-INTERVAL;VALUE=DURATION:PT1H
X-Robots-Tag:noindex
X-PUBLISHED-TTL:PT1H
BEGIN:VTIMEZONE
TZID:Europe/Paris
BEGIN:DAYLIGHT
TZOFFSETFROM:+0100
TZOFFSETTO:+0200
TZNAME:CEST
DTSTART:20220327T010000
END:DAYLIGHT
BEGIN:STANDARD
TZOFFSETFROM:+0200
TZOFFSETTO:+0100
TZNAME:CET
DTSTART:20221030T010000
END:STANDARD
BEGIN:DAYLIGHT
TZOFFSETFROM:+0100
TZOFFSETTO:+0200
TZNAME:CEST
DTSTART:20230326T010000
END:DAYLIGHT
BEGIN:STANDARD
TZOFFSETFROM:+0200
TZOFFSETTO:+0100
TZNAME:CET
DTSTART:20231029T010000
END:STANDARD
BEGIN:DAYLIGHT
TZOFFSETFROM:+0100
TZOFFSETTO:+0200
TZNAME:CEST
DTSTART:20240331T010000
END:DAYLIGHT
BEGIN:STANDARD
TZOFFSETFROM:+0200
TZOFFSETTO:+0100
TZNAME:CET
DTSTART:20241027T010000
END:STANDARD
END:VTIMEZONE
BEGIN:VEVENT
DTSTART;VALUE=DATE:20230623
DTEND;VALUE=DATE:20230625
DTSTAMP:20260425T122050
CREATED:20230613T131507Z
LAST-MODIFIED:20230613T131507Z
UID:10000760-1687478400-1687651199@www.37degres-mag.fr
SUMMARY:Festival des Kampagn’Arts
DESCRIPTION:Le Festival des Kampagn’Arts fêtera sa quinzième édition le 23 et 24 juin 2023\, à Saint Paterne Racan (37).\nPour cette occasion\, l’association Bouge ton bled\, organisatrice de l’événement\, a invité la ville à la campagne.\nConcerts de musiques actuelles\, initiation et démonstration de graff\, arts de la rue\, univers atypique et thématique\, le festival Kampagn’Arts mélange les genres\, associe les arts\, fédère les cultures.\nCe festival familial destiné à promouvoir la culture. Notre prix de vente reflète notre volonté de rassembler. La gratuité pour les moins de 12 ans et l’entrée à 23 euros pour les adultes nous permet d’avancer que le prix n’est pas un facteur limitant pour venir au Kampagn’arts.\nNous souhaitons pouvoir rassembler une population au plus large.\n23 euros pour 12 concerts de qualité et 16 heures de spectacle\, c’est assez rare en Festival de nos jours !\nLe Festival a été Labellisé en 2017 en tant qu’évènement « Eco-responsable » par la région Centre Val de Loire.\nAccessibilité pour les Personnes à Mobilité Réduite. En effet\, nous avons mis en place un partenariat entre notre association et l’association Quest’handi (spécialisée dans l’accompagnement des associations) pour améliorer nos conditions d’accueil pour les PMR.\nEn résumé\, pour 23€ prix public venez applaudir pas moins de 12 groupes musicaux de renommées régionales\, nationales et internationales.\nIls se produiront en alternance sur 2 scènes en plein air. Alors n’hésitez plus\, devenez kampagn’arts pour deux soirs et venez nombreux !!\nC’est quoi le programme ?  Les P’tits Fils de Jeanine\, Zoufris Maracas\, Bagarre\, Jive me\, Pensum Reject\, Skip the use\, Moonbackstage\, EZPZ\, Tiken Jah Fakoly\, Grayssoker\, Demi Portion\, Inko’nito.\nC’est où ? Aire de loisirs de Saint Paterne Racan (37). SNCF : gare de Saint Paterne Racan\n(40 min depuis Tours\, 50 min depuis Le Mans)\, Fil Vert\, navette gratuite sur réservation au 0 800 123 037 (1 heure depuis Tours).\nC’est combien ? Vendredi 23 juin 13€ en prévente et 15€ sur place / Samedi 24 juin 15€ en prévente et 17€ sur place / le pass 2 jours 23€ en prévente et 25€ sur place\, gratuit pour les moins de 12 ans\, (hors frais de location).\nSite accessible aux personnes à mobilité réduite. LOCATIONS – Tiketnet – Fnac – Carrefour – Hyper U – Géant – 0 892 68 36 22 (0\,34€/min) – www.fnac.com et Helloasso (sans frais de location).
URL:https://www.37degres-mag.fr/event/festival-des-kampagnarts/
END:VEVENT
END:VCALENDAR