BEGIN:VCALENDAR
VERSION:2.0
PRODID:-//37° degrés - ECPv6.15.20//NONSGML v1.0//EN
CALSCALE:GREGORIAN
METHOD:PUBLISH
X-ORIGINAL-URL:https://www.37degres-mag.fr
X-WR-CALDESC:Évènements pour 37° degrés
REFRESH-INTERVAL;VALUE=DURATION:PT1H
X-Robots-Tag:noindex
X-PUBLISHED-TTL:PT1H
BEGIN:VTIMEZONE
TZID:Europe/Paris
BEGIN:DAYLIGHT
TZOFFSETFROM:+0100
TZOFFSETTO:+0200
TZNAME:CEST
DTSTART:20220327T010000
END:DAYLIGHT
BEGIN:STANDARD
TZOFFSETFROM:+0200
TZOFFSETTO:+0100
TZNAME:CET
DTSTART:20221030T010000
END:STANDARD
BEGIN:DAYLIGHT
TZOFFSETFROM:+0100
TZOFFSETTO:+0200
TZNAME:CEST
DTSTART:20230326T010000
END:DAYLIGHT
BEGIN:STANDARD
TZOFFSETFROM:+0200
TZOFFSETTO:+0100
TZNAME:CET
DTSTART:20231029T010000
END:STANDARD
BEGIN:DAYLIGHT
TZOFFSETFROM:+0100
TZOFFSETTO:+0200
TZNAME:CEST
DTSTART:20240331T010000
END:DAYLIGHT
BEGIN:STANDARD
TZOFFSETFROM:+0200
TZOFFSETTO:+0100
TZNAME:CET
DTSTART:20241027T010000
END:STANDARD
END:VTIMEZONE
BEGIN:VEVENT
DTSTART;TZID=Europe/Paris:20230401T100000
DTEND;TZID=Europe/Paris:20230402T190000
DTSTAMP:20260424T121316
CREATED:20230307T081850Z
LAST-MODIFIED:20230307T081850Z
UID:10003675-1680343200-1680462000@www.37degres-mag.fr
SUMMARY:14e Salon des vins libres VINAVIVA
DESCRIPTION:14e Salon des vins libres VINAVIVA\n\nLe samedi 1er avril de 10 h à 19 h\nLe dimanche 2 avril de 10 h à 18 h\nSalle Ronsard\, rue de la Maurière à Saint Etienne de Chigny\n\nChaque année au printemps\, à Saint Etienne de Chigny près de Tours\, un salon en 2 temps.\nUn salon organisé par des amateurs à l’intention d’amateurs…\n1er et 2 avril « Vinaviva – Les vins d’ailleurs » 24 vigneronnes et vignerons de toute la France hors Touraine\nUn cépage invité : « Le Chasselas pour lequel des séances de dégustation sont organisées.\nUne petite restauration.\nEntrée 4 €\, verre sérigraphié offert\n\n2 ème temps du salon\, « Vinaviva –  les vins d’ici » le 10 juin.\n\n\nTel : 06 81 61 30 42\nvinaviva.fr\nFacebook vinaviva
URL:https://www.37degres-mag.fr/event/14e-salon-des-vins-libres-vinaviva-2/
ATTACH;FMTTYPE=:
END:VEVENT
BEGIN:VEVENT
DTSTART;TZID=Europe/Paris:20230402T060000
DTEND;TZID=Europe/Paris:20230402T180000
DTSTAMP:20260424T121316
CREATED:20230320T153049Z
LAST-MODIFIED:20230320T153049Z
UID:10000315-1680415200-1680458400@www.37degres-mag.fr
SUMMARY:Vide-Grenier Brocante
DESCRIPTION:Ouvert à tous gratuitement\, pour exposer 10€ le 5 métres\, on privilègie sans voiture.\nPour toute demande d’inscription en contactant par téléphone ou bien vous pouvez récupérer la fiche d’inscription chez les commerçants 
URL:https://www.37degres-mag.fr/event/vide-grenier-brocante-2/
ATTACH;FMTTYPE=image/jpeg:https://www.37degres-mag.fr/wp-content/uploads/2023/03/Affiche-brocante-2023-95jpQY.tmp_.jpg
END:VEVENT
BEGIN:VEVENT
DTSTART;TZID=Europe/Paris:20230402T180000
DTEND;TZID=Europe/Paris:20230402T200000
DTSTAMP:20260424T121316
CREATED:20220714T134340Z
LAST-MODIFIED:20220714T134340Z
UID:10001042-1680458400-1680465600@www.37degres-mag.fr
SUMMARY:Christophe Willem en concert à Tours
DESCRIPTION:Après 5 années d’absence\, 2023 signe le grand retour de Christophe Willem sur scène !\nAvec ‘PS : Je t’aime’\, il dévoile le premier extrait de PANORAMA\, son tout nouvel album déjà très attendu. Un opus dans lequel l’artiste couche ses vérités. \nLa scène\, c’est l’occasion de donner vie à cet album et également de rejouer ses plus grands titres. C’est aussi une invitation à le redécouvrir sous toutes ses facettes\, sans aucun filtre.
URL:https://www.37degres-mag.fr/event/christophe-willem-en-concerts-a-tours/
ATTACH;FMTTYPE=:
END:VEVENT
END:VCALENDAR