BEGIN:VCALENDAR
VERSION:2.0
PRODID:-//37° degrés - ECPv6.15.20//NONSGML v1.0//EN
CALSCALE:GREGORIAN
METHOD:PUBLISH
X-WR-CALNAME:37° degrés
X-ORIGINAL-URL:https://www.37degres-mag.fr
X-WR-CALDESC:Évènements pour 37° degrés
REFRESH-INTERVAL;VALUE=DURATION:PT1H
X-Robots-Tag:noindex
X-PUBLISHED-TTL:PT1H
BEGIN:VTIMEZONE
TZID:Europe/Paris
BEGIN:DAYLIGHT
TZOFFSETFROM:+0100
TZOFFSETTO:+0200
TZNAME:CEST
DTSTART:20220327T010000
END:DAYLIGHT
BEGIN:STANDARD
TZOFFSETFROM:+0200
TZOFFSETTO:+0100
TZNAME:CET
DTSTART:20221030T010000
END:STANDARD
BEGIN:DAYLIGHT
TZOFFSETFROM:+0100
TZOFFSETTO:+0200
TZNAME:CEST
DTSTART:20230326T010000
END:DAYLIGHT
BEGIN:STANDARD
TZOFFSETFROM:+0200
TZOFFSETTO:+0100
TZNAME:CET
DTSTART:20231029T010000
END:STANDARD
BEGIN:DAYLIGHT
TZOFFSETFROM:+0100
TZOFFSETTO:+0200
TZNAME:CEST
DTSTART:20240331T010000
END:DAYLIGHT
BEGIN:STANDARD
TZOFFSETFROM:+0200
TZOFFSETTO:+0100
TZNAME:CET
DTSTART:20241027T010000
END:STANDARD
END:VTIMEZONE
BEGIN:VEVENT
DTSTART;TZID=Europe/Paris:20230128T093000
DTEND;TZID=Europe/Paris:20230128T163000
DTSTAMP:20260420T003425
CREATED:20221219T100344Z
LAST-MODIFIED:20221219T100344Z
UID:10000272-1674898200-1674923400@www.37degres-mag.fr
SUMMARY:9 BTS\, 2 DNMADe et 2 bachelors en alternance
DESCRIPTION:Portes ouvertes au pôle supérieur Ste Marguerite\, de Chambray-lès-Tours. Venez découvrir les 9 BTS\, 2 DNMADe et 2 bachelors en alternance\, échanger avec les étudiants et l’équipe éducative et parler de votre avenir dans les métiers du tertiaire ou des arts appliqués : BTS ASSU\, BTS CG\, BTS CI\, BTS COM\, BTS GPME\, BTS MCO\, BTS NDRC\, BTS SAM\, BTS SIO\, DNMADe Événement\, DNMADe Graphisme\, Bachelor CCAB en alternance et Bachelor RDPC en alternance.\nLe pôle supérieur Ste Marguerite est ouvert sur le monde et propose la possibilité d’une mobilité internationale grâce à son adhésion à la charte Erasmus.\nRéseaux sociaux :\nInstagram : https://www.instagram.com/sfda37\nFacebook : https://www.facebook.com/groupescolairesfda\nLinkedin : https://www.linkedin.com/company/28843762\nYouTube : https://www.youtube.com/channel/UCJFIw6OLk3M6uTfBrp8Z1wg
URL:https://www.37degres-mag.fr/event/9-bts-2-dnmade-et-2-bachelors-en-alternance/
ATTACH;FMTTYPE=image/jpeg:https://www.37degres-mag.fr/wp-content/uploads/2022/12/agenda-lW9j3T.tmp_.jpg
END:VEVENT
BEGIN:VEVENT
DTSTART;TZID=Europe/Paris:20230128T150000
DTEND;TZID=Europe/Paris:20230128T150000
DTSTAMP:20260420T003425
CREATED:20230104T154514Z
LAST-MODIFIED:20230104T154514Z
UID:10000279-1674918000-1674918000@www.37degres-mag.fr
SUMMARY:Micro Musée : le Portrait
DESCRIPTION:Le musée numérique de la Parenthèse vous invite à découvrir l’évolution au fil du temps d’un des plus grands genres de la peinture : Le Portrait. De la peinture religieuse au cubisme\, des chefs d’œuvres au tableaux moins connus\, laissez vous emporter dans l’Histoire de l’Art.\nTout public | Gratuit
URL:https://www.37degres-mag.fr/event/micro-musee-le-portrait/
ATTACH;FMTTYPE=image/jpeg:https://www.37degres-mag.fr/wp-content/uploads/2023/01/23-01-28-Micro-musee-Portrait-603ZzI.tmp_.jpg
END:VEVENT
END:VCALENDAR