BEGIN:VCALENDAR
VERSION:2.0
PRODID:-//37° degrés - ECPv6.15.20//NONSGML v1.0//EN
CALSCALE:GREGORIAN
METHOD:PUBLISH
X-WR-CALNAME:37° degrés
X-ORIGINAL-URL:https://www.37degres-mag.fr
X-WR-CALDESC:Évènements pour 37° degrés
REFRESH-INTERVAL;VALUE=DURATION:PT1H
X-Robots-Tag:noindex
X-PUBLISHED-TTL:PT1H
BEGIN:VTIMEZONE
TZID:Europe/Paris
BEGIN:DAYLIGHT
TZOFFSETFROM:+0100
TZOFFSETTO:+0200
TZNAME:CEST
DTSTART:20220327T010000
END:DAYLIGHT
BEGIN:STANDARD
TZOFFSETFROM:+0200
TZOFFSETTO:+0100
TZNAME:CET
DTSTART:20221030T010000
END:STANDARD
BEGIN:DAYLIGHT
TZOFFSETFROM:+0100
TZOFFSETTO:+0200
TZNAME:CEST
DTSTART:20230326T010000
END:DAYLIGHT
BEGIN:STANDARD
TZOFFSETFROM:+0200
TZOFFSETTO:+0100
TZNAME:CET
DTSTART:20231029T010000
END:STANDARD
BEGIN:DAYLIGHT
TZOFFSETFROM:+0100
TZOFFSETTO:+0200
TZNAME:CEST
DTSTART:20240331T010000
END:DAYLIGHT
BEGIN:STANDARD
TZOFFSETFROM:+0200
TZOFFSETTO:+0100
TZNAME:CET
DTSTART:20241027T010000
END:STANDARD
END:VTIMEZONE
BEGIN:VEVENT
DTSTART;TZID=Europe/Paris:20230115T163000
DTEND;TZID=Europe/Paris:20230115T180000
DTSTAMP:20260419T225135
CREATED:20230104T154512Z
LAST-MODIFIED:20230104T154512Z
UID:10000277-1673800200-1673805600@www.37degres-mag.fr
SUMMARY:Un fil à la patte | Cie du Casse-Tête
DESCRIPTION:Rebondissements en cascades et malentendus rythment cette pièce où le rire est omniprésent. Chef d’œuvre de Feydeau où le comique est à son comble. Le mariage de Bois d’Enghien\, éternel noceur\, avec Viviane Duverger\, riche héritière\, est annoncé dans tous les journaux à sensation du moment. Mais Bois d’Enghien n’ose pas l’annoncer à sa maîtresse Lucette Gautier\, célèbre chanteuse de café-concert. Quand le Général Irrigua\, fou amoureux de la divette\, apprend qu’elle a un amant\, il entre dans une colère noire et veut à tout prix le tuer. Bois d’Enghien lui fait croire que Bouzin\, parolier raté\, est l’amant recherché. La Baronne Duverger\, future belle-mère de Bois d’Enghien demande à la divette de venir chanter à la fête qu’elle organise à l’occasion du mariage de sa fille. Lorsque Lucette apprend que son amant se marie\, elle est bien décidée à ne pas le laisser filer… Qui\, de Bois-d’Enghien ou de Lucette\, parviendra à ses fins ?\n> Georges Feydeau : textes / Suzana Joaquim Maudslay : mise en scène / Leïla Abdelli : chorégraphies / Régis Amram\, Stéphane Aydjian\, Jean-Marie Combes\, Christine Duboux\, Pascal Dupin\, Léo Dux\, Emmanuel Fourcroy\, Suzana Joaquim Maudslay\, Isabelle Vanluyten : interprétation / Jessy Locari : costumes / Adelino Joaquim : décor\n \nTout public Durée : 1h30 Tarifs : 16 € / 13 € / 10 € Garde d’enfants + 3 ans
URL:https://www.37degres-mag.fr/event/un-fil-a-la-patte-cie-du-casse-tete/
END:VEVENT
END:VCALENDAR