BEGIN:VCALENDAR
VERSION:2.0
PRODID:-//37° degrés - ECPv6.15.20//NONSGML v1.0//EN
CALSCALE:GREGORIAN
METHOD:PUBLISH
X-ORIGINAL-URL:https://www.37degres-mag.fr
X-WR-CALDESC:Évènements pour 37° degrés
REFRESH-INTERVAL;VALUE=DURATION:PT1H
X-Robots-Tag:noindex
X-PUBLISHED-TTL:PT1H
BEGIN:VTIMEZONE
TZID:Europe/Paris
BEGIN:DAYLIGHT
TZOFFSETFROM:+0100
TZOFFSETTO:+0200
TZNAME:CEST
DTSTART:20210328T010000
END:DAYLIGHT
BEGIN:STANDARD
TZOFFSETFROM:+0200
TZOFFSETTO:+0100
TZNAME:CET
DTSTART:20211031T010000
END:STANDARD
BEGIN:DAYLIGHT
TZOFFSETFROM:+0100
TZOFFSETTO:+0200
TZNAME:CEST
DTSTART:20220327T010000
END:DAYLIGHT
BEGIN:STANDARD
TZOFFSETFROM:+0200
TZOFFSETTO:+0100
TZNAME:CET
DTSTART:20221030T010000
END:STANDARD
BEGIN:DAYLIGHT
TZOFFSETFROM:+0100
TZOFFSETTO:+0200
TZNAME:CEST
DTSTART:20230326T010000
END:DAYLIGHT
BEGIN:STANDARD
TZOFFSETFROM:+0200
TZOFFSETTO:+0100
TZNAME:CET
DTSTART:20231029T010000
END:STANDARD
END:VTIMEZONE
BEGIN:VEVENT
DTSTART;TZID=Europe/Paris:20221214T200000
DTEND;TZID=Europe/Paris:20221214T233000
DTSTAMP:20260419T225336
CREATED:20221117T160407Z
LAST-MODIFIED:20221117T160407Z
UID:10000251-1671048000-1671060600@www.37degres-mag.fr
SUMMARY:JAM DE NOËL 7880
DESCRIPTION:Le 7880 fait son bœuf à l’extérieur ! Le collectif de musicien.ne.s vous invite à venir jammer au Bateau Ivre dans une ambiance comme à la maison\, entre la dinde et les marrons. Ouvert à toutes et à tous\, avec ou sans expérience du boeuf et sans étiquette stylistique. Venez avec vos instruments. ou pas !\nDes amplis guitare et basse\, clavier\, batterie et micro seront à disposition sur place.. C’est Noël avant l’heure.
URL:https://www.37degres-mag.fr/event/jam-de-noel-7880/
ATTACH;FMTTYPE=image/jpeg:https://www.37degres-mag.fr/wp-content/uploads/2022/11/AFFICHE-Jam-7880-tz2hmd.tmp_.jpg
END:VEVENT
END:VCALENDAR