BEGIN:VCALENDAR
VERSION:2.0
PRODID:-//37° degrés - ECPv6.15.20//NONSGML v1.0//EN
CALSCALE:GREGORIAN
METHOD:PUBLISH
X-WR-CALNAME:37° degrés
X-ORIGINAL-URL:https://www.37degres-mag.fr
X-WR-CALDESC:Évènements pour 37° degrés
REFRESH-INTERVAL;VALUE=DURATION:PT1H
X-Robots-Tag:noindex
X-PUBLISHED-TTL:PT1H
BEGIN:VTIMEZONE
TZID:Europe/Paris
BEGIN:DAYLIGHT
TZOFFSETFROM:+0100
TZOFFSETTO:+0200
TZNAME:CEST
DTSTART:20210328T010000
END:DAYLIGHT
BEGIN:STANDARD
TZOFFSETFROM:+0200
TZOFFSETTO:+0100
TZNAME:CET
DTSTART:20211031T010000
END:STANDARD
BEGIN:DAYLIGHT
TZOFFSETFROM:+0100
TZOFFSETTO:+0200
TZNAME:CEST
DTSTART:20220327T010000
END:DAYLIGHT
BEGIN:STANDARD
TZOFFSETFROM:+0200
TZOFFSETTO:+0100
TZNAME:CET
DTSTART:20221030T010000
END:STANDARD
BEGIN:DAYLIGHT
TZOFFSETFROM:+0100
TZOFFSETTO:+0200
TZNAME:CEST
DTSTART:20230326T010000
END:DAYLIGHT
BEGIN:STANDARD
TZOFFSETFROM:+0200
TZOFFSETTO:+0100
TZNAME:CET
DTSTART:20231029T010000
END:STANDARD
END:VTIMEZONE
BEGIN:VEVENT
DTSTART;TZID=Europe/Paris:20221210T110000
DTEND;TZID=Europe/Paris:20221210T190000
DTSTAMP:20260425T121909
CREATED:20221205T144507Z
LAST-MODIFIED:20221205T144507Z
UID:10000265-1670670000-1670698800@www.37degres-mag.fr
SUMMARY:Marché de Noël Chouzé sur Loire
DESCRIPTION:Marché de Noël de Chouzé sur Loire à la salle des fêtes\, entrée gratuite\, créateurs\, VDI et particuliers seront présents pour vous proposer des idées cadeaux\,passage du Père Noël\, lecture de contes pour les enfants à 16h dans la salle des fêtes\,.concours du pull de Noël le plus moche pour enfants et adultes à 17h dans la salle\, résultats du concours à 17h30\, buvette et restauration sur place (vin et chocolat chauds\, hot dog\, frites\, boissons chaudes et froides).\nEncore des places de disponibles pour les exposants.\nVenez nombreux
URL:https://www.37degres-mag.fr/event/marche-de-noel-chouze-sur-loire/
ATTACH;FMTTYPE=image/jpeg:https://www.37degres-mag.fr/wp-content/uploads/2022/12/FB_IMG_1670106106162-47ZeVP.tmp_.jpg
END:VEVENT
BEGIN:VEVENT
DTSTART;TZID=Europe/Paris:20221210T200000
DTEND;TZID=Europe/Paris:20221210T200000
DTSTAMP:20260425T121909
CREATED:20221205T144509Z
LAST-MODIFIED:20221205T144509Z
UID:10000266-1670702400-1670702400@www.37degres-mag.fr
SUMMARY:Un Hiver en Musique à Montlouis-sur-Loire
DESCRIPTION:L’Association Orchestres et Chœurs Musical’Est est depuis de nombreuses années un acteur de la démocratisation et de la promotion de la pratique musicale amateur sur le territoire de “l’Est Tourangeau”.\nA travers les nombreuses représentations de ses formations (15 concerts durant la saison 2021/2022 soit plus de 1000 spectateurs au total)\, l’AOCME prouve encore et toujours sa vitalité et son envie de proposer des projets originaux à son public.\nDepuis 3 ans\, l’AOCME a créé un rendez-vous “unique” qui permet de découvrir\, lors d’une même soirée\, le travail de la Chorale et de l’Orchestre d’Harmonie : HIVER EN MUSIQUE !\nCette année encore l’AOC Musical’EST et ses 70 membres sont au rendez-vous pour vous faire voyager le temps d’une soirée.\nLes acteurs des différents ensembles vont vous faire traverser les styles et les époques musicales.\nEn association avec la “Déambule” (association théâtrale de Veretz\, organisatrice du “Conte Promenade”)\, le Chœur de l’AOC Musical’EST vous fera participer à un conte en chanson.\nLes Orchestres de l’École de Musique de la Communauté de Communes Touraine-Est Vallées\, prouveront encore une fois la vitalité des jeunes musiciens et de l’enseignement de l’Ecole de Musique.\nEnfin l’Orchestre d’Harmonie de l’AOC Musical’EST vous fera rêver à travers les bandes originales des plus grands films de ces dernières années.\nUne fois de plus\, l’association Orchestres et Chœurs Musical’EST\, acteur de la pratique musicale amateur sur le territoire\, vous fera voyager et partager ses ondes positives.\nRendez-vous le 10 Décembre 2022 à 20h à l’Espace Ligéria de Montlouis-sur-Loire.
URL:https://www.37degres-mag.fr/event/un-hiver-en-musique-a-montlouis-sur-loire/
ATTACH;FMTTYPE=image/jpeg:https://www.37degres-mag.fr/wp-content/uploads/2022/12/HIVER-EN-MUSIQUE-2022-10-Decembre-2022-3eTunm.tmp_.jpg
END:VEVENT
BEGIN:VEVENT
DTSTART;TZID=Europe/Paris:20221210T203000
DTEND;TZID=Europe/Paris:20221210T203000
DTSTAMP:20260425T121909
CREATED:20221205T144510Z
LAST-MODIFIED:20221205T144510Z
UID:10000267-1670704200-1670704200@www.37degres-mag.fr
SUMMARY:Odyssée Sonore au profit d'Amnesty International
DESCRIPTION:Un voyage sonore aux sons des bols tibétains\, bols de cristal\, tongue drums\, kalimbas\, carillons … un monde d’instruments aux vibrations uniques pour une détente profonde et apaisante.\nCe concert est organisé par les associations SONARA bien-être solidaire et TERRE DES MONDES au bénéfice d’AMNESTY INTERNATIONAL.\nLe 10 décembre\, c’est la journée internationale des droits de l’homme ! Venez nombreux. Résa sur Hello Asso Terre des Mondes ou sonara.asso@gmail.com
URL:https://www.37degres-mag.fr/event/odyssee-sonore-au-profit-damnesty-international/
ATTACH;FMTTYPE=image/jpeg:https://www.37degres-mag.fr/wp-content/uploads/2022/12/2022-12-10-SONORE-mJfyAe.tmp_.jpg
END:VEVENT
BEGIN:VEVENT
DTSTART;TZID=Europe/Paris:20221210T203000
DTEND;TZID=Europe/Paris:20221210T223000
DTSTAMP:20260425T121909
CREATED:20220427T093046Z
LAST-MODIFIED:20220427T093046Z
UID:10000063-1670704200-1670711400@www.37degres-mag.fr
SUMMARY:Benjamin Tranié - Le dernier relais
DESCRIPTION:Venez vivre les 24h de ce restaurant autoroutier pas comme les autres.\nAprès plus de 30 ans de bon et loyaux service\, le patron d’un vieux restaurant\, défraîchi et au bord d’une autoroute\, accepte de revendre son rade au géant du fast food Burger King.\nAprès toutes ces années\, ce chèque d’un million d’euros vient effacer des années d’histoires\, de clients mémorables et surtout très chiants. Dans ce spectacle vivez les dernières 24h de ce restaurant d’autoroute avec les clients qui vont avec…
URL:https://www.37degres-mag.fr/event/benjamin-tranie-le-dernier-relais/
ATTACH;FMTTYPE=image/jpeg:https://www.37degres-mag.fr/wp-content/uploads/2022/04/Affiche-Le-Dernier-Relais-MUiACw.tmp_.jpg
END:VEVENT
END:VCALENDAR