BEGIN:VCALENDAR
VERSION:2.0
PRODID:-//37° degrés - ECPv6.15.20//NONSGML v1.0//EN
CALSCALE:GREGORIAN
METHOD:PUBLISH
X-ORIGINAL-URL:https://www.37degres-mag.fr
X-WR-CALDESC:Évènements pour 37° degrés
REFRESH-INTERVAL;VALUE=DURATION:PT1H
X-Robots-Tag:noindex
X-PUBLISHED-TTL:PT1H
BEGIN:VTIMEZONE
TZID:Europe/Paris
BEGIN:DAYLIGHT
TZOFFSETFROM:+0100
TZOFFSETTO:+0200
TZNAME:CEST
DTSTART:20210328T010000
END:DAYLIGHT
BEGIN:STANDARD
TZOFFSETFROM:+0200
TZOFFSETTO:+0100
TZNAME:CET
DTSTART:20211031T010000
END:STANDARD
BEGIN:DAYLIGHT
TZOFFSETFROM:+0100
TZOFFSETTO:+0200
TZNAME:CEST
DTSTART:20220327T010000
END:DAYLIGHT
BEGIN:STANDARD
TZOFFSETFROM:+0200
TZOFFSETTO:+0100
TZNAME:CET
DTSTART:20221030T010000
END:STANDARD
BEGIN:DAYLIGHT
TZOFFSETFROM:+0100
TZOFFSETTO:+0200
TZNAME:CEST
DTSTART:20230326T010000
END:DAYLIGHT
BEGIN:STANDARD
TZOFFSETFROM:+0200
TZOFFSETTO:+0100
TZNAME:CET
DTSTART:20231029T010000
END:STANDARD
END:VTIMEZONE
BEGIN:VEVENT
DTSTART;TZID=Europe/Paris:20221125T190000
DTEND;TZID=Europe/Paris:20221125T200000
DTSTAMP:20260420T003640
CREATED:20220807T075824Z
LAST-MODIFIED:20220807T075824Z
UID:10001153-1669402800-1669406400@www.37degres-mag.fr
SUMMARY:Heure Curieuse - Olga Mesa\, "Une Table à Soi (danses de mains)"
DESCRIPTION:À l’occasion de l’heure curieuse Olga Mesa partage le processus de création d’Une table à soi\, née d’une forme filmique qui se prolonge vers une pièce chorégraphique in situ. \n60 min.\nEntrée libre sur réservation\nAu CCNT\nfueradecampo.org \nRéservations et informations complémentaires : https://www.ccntours.com/saison
URL:https://www.37degres-mag.fr/event/heure-curieuse-olga-mesa-une-table-a-soi-danses-de-mains-2/
ATTACH;FMTTYPE=:
END:VEVENT
BEGIN:VEVENT
DTSTART;TZID=Europe/Paris:20221125T203000
DTEND;TZID=Europe/Paris:20221125T233000
DTSTAMP:20260420T003640
CREATED:20221030T170341Z
LAST-MODIFIED:20221030T170341Z
UID:10003641-1669408200-1669419000@www.37degres-mag.fr
SUMMARY:BIRDS IN ROW + ORBEL + AUGUSTINE
DESCRIPTION:BIRDS IN ROW\nFers de lance du post-hardcore Français depuis plus d’une décennie\, les Lavallois sont de retour un nouvel album “Gris Klein” sous le coude. Le trio est maintenant prêt à remonter sur scène pour cette tournée européenne partagée notamment avec leurs nouveaux compagnons de label : Cult Of Luna ! \nORBEL\nTrois and après “Hegan”\, premier album naviguant dans un océan de noirceur aux reflets métalliques\, les quatre membres d’Orbel (Doom Pop – Bayonne) annoncent leur retour en novembre 2022 avec un nouvel opus “Lur Hezea” enrichissant leur repertoire de machines et instruments traditionnels.
URL:https://www.37degres-mag.fr/event/birds-in-row-orbel-augustine-2/
ATTACH;FMTTYPE=:
END:VEVENT
END:VCALENDAR