BEGIN:VCALENDAR
VERSION:2.0
PRODID:-//37° degrés - ECPv6.15.20//NONSGML v1.0//EN
CALSCALE:GREGORIAN
METHOD:PUBLISH
X-ORIGINAL-URL:https://www.37degres-mag.fr
X-WR-CALDESC:Évènements pour 37° degrés
REFRESH-INTERVAL;VALUE=DURATION:PT1H
X-Robots-Tag:noindex
X-PUBLISHED-TTL:PT1H
BEGIN:VTIMEZONE
TZID:Europe/Paris
BEGIN:DAYLIGHT
TZOFFSETFROM:+0100
TZOFFSETTO:+0200
TZNAME:CEST
DTSTART:20210328T010000
END:DAYLIGHT
BEGIN:STANDARD
TZOFFSETFROM:+0200
TZOFFSETTO:+0100
TZNAME:CET
DTSTART:20211031T010000
END:STANDARD
BEGIN:DAYLIGHT
TZOFFSETFROM:+0100
TZOFFSETTO:+0200
TZNAME:CEST
DTSTART:20220327T010000
END:DAYLIGHT
BEGIN:STANDARD
TZOFFSETFROM:+0200
TZOFFSETTO:+0100
TZNAME:CET
DTSTART:20221030T010000
END:STANDARD
BEGIN:DAYLIGHT
TZOFFSETFROM:+0100
TZOFFSETTO:+0200
TZNAME:CEST
DTSTART:20230326T010000
END:DAYLIGHT
BEGIN:STANDARD
TZOFFSETFROM:+0200
TZOFFSETTO:+0100
TZNAME:CET
DTSTART:20231029T010000
END:STANDARD
END:VTIMEZONE
BEGIN:VEVENT
DTSTART;TZID=Europe/Paris:20221119T140000
DTEND;TZID=Europe/Paris:20221120T040000
DTSTAMP:20260420T021004
CREATED:20221030T170515Z
LAST-MODIFIED:20221030T170515Z
UID:10003636-1668866400-1668916800@www.37degres-mag.fr
SUMMARY:LA COUR DES MIRACLES
DESCRIPTION:ISHKR + SANTRAN + ZAPATIFENN + GUESTS \nTOURS D’HORLOGE par LA COUR DES MIRACLES\nLe collectif de musique électroniques tourangeau LA COUR DES MIRACLES (organisateur de fêtes\, label et émission de radio) propose le 19 novembre une micro convention des musiques électroniques locales et invite pour l’occasion des collectifs\, labels\, disquaires et émissions de radio locales à venir partager leur travail sur la journée. Cette journée fêtera aussi la release party de la compilation « Tours Capitale »\, la quatrième sortie du label LCDM Records\, un CD distribué gratuitement sur lequel on retrouve une importante partie de la scène électronique tourangelle. En parallèle\, leurs DJs résidents et des guests mixeront pendant 12 heures.
URL:https://www.37degres-mag.fr/event/la-cour-des-miracles-2/
ATTACH;FMTTYPE=:
END:VEVENT
BEGIN:VEVENT
DTSTART;TZID=Europe/Paris:20221120T120000
DTEND;TZID=Europe/Paris:20221120T170000
DTSTAMP:20260420T021004
CREATED:20221030T170512Z
LAST-MODIFIED:20221030T170512Z
UID:10003637-1668945600-1668963600@www.37degres-mag.fr
SUMMARY:RENCONTRE AVEC CÉDRIC HERROU
DESCRIPTION:Discussion avec Cédric Herrou\, paysan de la vallée de la Roya poursuivi pour « délit de solidarité » après être venu en aide aux personnes exilées traversant la frontière franco-italienne\, et fondateur de la communauté Emmaüs Roya. \nBrunch dès 12h
URL:https://www.37degres-mag.fr/event/rencontre-avec-cedric-herrou-2/
ATTACH;FMTTYPE=:
END:VEVENT
BEGIN:VEVENT
DTSTART;TZID=Europe/Paris:20221120T173000
DTEND;TZID=Europe/Paris:20221120T200000
DTSTAMP:20260420T021004
CREATED:20221030T170508Z
LAST-MODIFIED:20221030T170508Z
UID:10003638-1668965400-1668974400@www.37degres-mag.fr
SUMMARY:BONJOUR ARAGON
DESCRIPTION:Il y a 40 ans\, Aragon disparaissait nous laissant en héritage une œuvre abondante et protéiforme. C’est pour arpenter un peu ce continent Aragon que la commission culture du PCF37 vous invite à cette soirée. La vie du poète et romancier\, ses engagements et son parcours seront évoqués par de nombreux intervenants. L’ensemble sera ponctué de projection vidéos\, lectures de textes\, danse et du spectacle musical « Aragon et la chanson ». \nDébat + chanson + textes sur Aragon
URL:https://www.37degres-mag.fr/event/bonjour-aragon-2/
ATTACH;FMTTYPE=:
END:VEVENT
END:VCALENDAR